Back to Multiple platform build/check report for BioC 3.16
ABCDEFGH[I]JKLMNOPQRSTUVWXYZ

This page was generated on 2022-08-15 11:05:07 -0400 (Mon, 15 Aug 2022).

HostnameOSArch (*)R versionInstalled pkgs
nebbiolo2Linux (Ubuntu 20.04.4 LTS)x86_644.2.1 (2022-06-23) -- "Funny-Looking Kid" 4378
palomino4Windows Server 2022 Datacenterx644.2.1 (2022-06-23 ucrt) -- "Funny-Looking Kid" 4161
lconwaymacOS 12.2.1 Montereyx86_644.2.1 Patched (2022-07-09 r82577) -- "Funny-Looking Kid" 4169
Click on any hostname to see more info about the system (e.g. compilers)      (*) as reported by 'uname -p', except on Windows and Mac OS X

BUILD results for icetea on nebbiolo2


To the developers/maintainers of the icetea package:
- Please allow up to 24 hours (and sometimes 48 hours) for your latest push to git@git.bioconductor.org:packages/icetea.git to
reflect on this report. See How and When does the builder pull? When will my changes propagate? for more information.
- Make sure to use the following settings in order to reproduce any error or warning you see on this page.

raw results

Package 927/2140HostnameOS / ArchINSTALLBUILDCHECKBUILD BIN
icetea 1.15.0  (landing page)
Vivek Bhardwaj
Snapshot Date: 2022-08-14 14:00:05 -0400 (Sun, 14 Aug 2022)
git_url: https://git.bioconductor.org/packages/icetea
git_branch: master
git_last_commit: 087c142
git_last_commit_date: 2022-04-26 11:49:42 -0400 (Tue, 26 Apr 2022)
nebbiolo2Linux (Ubuntu 20.04.4 LTS) / x86_64  OK    OK    OK  UNNEEDED, same version is already published
palomino4Windows Server 2022 Datacenter / x64  OK    OK    OK    OK  UNNEEDED, same version is already published
lconwaymacOS 12.2.1 Monterey / x86_64  OK    OK    OK    OK  UNNEEDED, same version is already published

Summary

Package: icetea
Version: 1.15.0
Command: /home/biocbuild/bbs-3.16-bioc/R/bin/R CMD build --keep-empty-dirs --no-resave-data icetea
StartedAt: 2022-08-14 16:45:00 -0400 (Sun, 14 Aug 2022)
EndedAt: 2022-08-14 16:46:53 -0400 (Sun, 14 Aug 2022)
EllapsedTime: 113.7 seconds
RetCode: 0
Status:   OK  
PackageFile: icetea_1.15.0.tar.gz
PackageFileSize: 737.5 KiB

Command output

##############################################################################
##############################################################################
###
### Running command:
###
###   /home/biocbuild/bbs-3.16-bioc/R/bin/R CMD build --keep-empty-dirs --no-resave-data icetea
###
##############################################################################
##############################################################################


* checking for file ‘icetea/DESCRIPTION’ ... OK
* preparing ‘icetea’:
* checking DESCRIPTION meta-information ... OK
* installing the package to build vignettes
* creating vignettes ... OK
* checking for LF line-endings in source and make files and shell scripts
* checking for empty or unneeded directories
* building ‘icetea_1.15.0.tar.gz’