Back to Multiple platform build/check report for BioC 3.15
ABCDE[F]GHIJKLMNOPQRSTUVWXYZ

This page was generated on 2021-11-27 14:04:07 -0500 (Sat, 27 Nov 2021).

All results for package FGNet

To the developers/maintainers of the FGNet package:
- Please allow up to 24 hours (and sometimes 48 hours) for your latest push to git@git.bioconductor.org:packages/FGNet.git to
reflect on this report. See How and When does the builder pull? When will my changes propagate? here for more information.
- Make sure to use the following settings in order to reproduce any error or warning you see on this page.

raw results

Package 633/2068HostnameOS / ArchINSTALLBUILDCHECKBUILD BIN
FGNet 3.29.0  (landing page)
Sara Aibar
Snapshot Date: 2021-11-26 14:50:14 -0500 (Fri, 26 Nov 2021)
git_url: https://git.bioconductor.org/packages/FGNet
git_branch: master
git_last_commit: f2c8dac
git_last_commit_date: 2021-10-26 12:10:40 -0500 (Tue, 26 Oct 2021)
nebbiolo1Linux (Ubuntu 20.04.3 LTS) / x86_64  OK    OK    OK  UNNEEDED, same version is already published
riesling1Windows Server 2019 Standard / x64  OK    OK    OK    OK  
merida1macOS 10.14.6 Mojave / x86_64  OK    OK    OK    OK  UNNEEDED, same version is already published

Results for Bioconductor software packages that depend directly on package FGNet

QUICK STATSOS / ArchINSTALLBUILDCHECKBUILD BIN
nebbiolo1Linux (Ubuntu 20.04.3 LTS) / x86_64
001
001
0010
riesling1Windows Server 2019 Standard / x64
001
001
0010
001
merida1macOS 10.14.6 Mojave / x86_64
001
001
0010
001
Package 1/1HostnameOS / ArchINSTALLBUILDCHECKBUILD BIN
IntramiRExploreR 1.17.0  (landing page)
Surajit Bhattacharya
git_last_commit: d9bc643
git_last_commit_date: 2021-10-26 13:12:36 -0500
nebbiolo1Linux (Ubuntu 20.04.3 LTS) / x86_64  OK    OK    WARNINGS  UNNEEDED, same version is already published
riesling1Windows Server 2019 Standard / x64  OK    OK    WARNINGS    OK  
merida1macOS 10.14.6 Mojave / x86_64  OK    OK    WARNINGS    OK  UNNEEDED, same version is already published