Back to Multiple platform build/check report for BioC 3.15
ABCDEF[G]HIJKLMNOPQRSTUVWXYZ

This page was generated on 2021-11-25 14:04:04 -0500 (Thu, 25 Nov 2021).

All results for package gage

To the developers/maintainers of the gage package:
- Please allow up to 24 hours (and sometimes 48 hours) for your latest push to git@git.bioconductor.org:packages/gage.git to
reflect on this report. See How and When does the builder pull? When will my changes propagate? here for more information.
- Make sure to use the following settings in order to reproduce any error or warning you see on this page.

raw results

Package 687/2068HostnameOS / ArchINSTALLBUILDCHECKBUILD BIN
gage 2.45.0  (landing page)
Weijun Luo
Snapshot Date: 2021-11-24 14:50:13 -0500 (Wed, 24 Nov 2021)
git_url: https://git.bioconductor.org/packages/gage
git_branch: master
git_last_commit: f320555
git_last_commit_date: 2021-10-26 11:57:14 -0500 (Tue, 26 Oct 2021)
nebbiolo1Linux (Ubuntu 20.04.3 LTS) / x86_64  OK    OK    WARNINGS  UNNEEDED, same version is already published
riesling1Windows Server 2019 Standard / x64  OK    OK    WARNINGS    OK  
merida1macOS 10.14.6 Mojave / x86_64  OK    OK    WARNINGS    OK  UNNEEDED, same version is already published

Results for Bioconductor software packages that depend directly on package gage

QUICK STATSOS / ArchINSTALLBUILDCHECKBUILD BIN
nebbiolo1Linux (Ubuntu 20.04.3 LTS) / x86_64
001
001
0010
riesling1Windows Server 2019 Standard / x64
001
001
0010
001
merida1macOS 10.14.6 Mojave / x86_64
001
001
0010
001
Package 1/1HostnameOS / ArchINSTALLBUILDCHECKBUILD BIN
EGSEA 1.23.0  (landing page)
Monther Alhamdoosh
git_last_commit: b38c608
git_last_commit_date: 2021-10-26 12:27:44 -0500
nebbiolo1Linux (Ubuntu 20.04.3 LTS) / x86_64  OK    OK    WARNINGS  UNNEEDED, same version is already published
riesling1Windows Server 2019 Standard / x64  OK    OK    WARNINGS    OK  
merida1macOS 10.14.6 Mojave / x86_64  OK    OK    WARNINGS    OK  UNNEEDED, same version is already published