Back to Build/check report for BioC 3.13
ABCDEFGHIJKLMNOPQ[R]STUVWXYZ

Build/check report for BioC 3.13

Results for roar

This page was generated on 2020-10-30 10:53:27 -0400 (Fri, 30 Oct 2020).

Package 1508/1906HostnameOS / ArchINSTALLBUILDCHECKBUILD BIN
roar 1.27.0
Elena Grassi
Snapshot Date: 2020-10-29 14:40:27 -0400 (Thu, 29 Oct 2020)
URL: https://git.bioconductor.org/packages/roar
Branch: master
Last Commit: b5a983d
Last Changed Date: 2020-10-27 10:54:12 -0400 (Tue, 27 Oct 2020)
malbec2 Linux (Ubuntu 18.04.4 LTS) / x86_64  OK  OK  OK UNNEEDED, same version exists in internal repository