Back to Build/check report for BioC 3.15
ABCDEFGHIJKLMNOPQRS[T]UVWXYZ

This page was generated on 2021-12-04 12:32:12 -0500 (Sat, 04 Dec 2021).

All results for package tweeDEseq

To the developers/maintainers of the tweeDEseq package:
- Please allow up to 24 hours (and sometimes 48 hours) for your latest push to git@git.bioconductor.org:packages/tweeDEseq.git to
reflect on this report. See How and When does the builder pull? When will my changes propagate? here for more information.
- Make sure to use the following settings in order to reproduce any error or warning you see on this page.

raw results

Package 2003/2068HostnameOS / ArchINSTALLBUILDCHECKBUILD BIN
tweeDEseq 1.41.0  (landing page)
Juan R Gonzalez
Snapshot Date: 2021-12-03 13:55:11 -0500 (Fri, 03 Dec 2021)
git_url: https://git.bioconductor.org/packages/tweeDEseq
git_branch: master
git_last_commit: 12a2896
git_last_commit_date: 2021-10-26 12:01:13 -0500 (Tue, 26 Oct 2021)
nebbiolo1Linux (Ubuntu 20.04.3 LTS) / x86_64  OK    OK    OK  UNNEEDED, same version is already published