Back to Multiple platform build/check report for BioC 3.17
A[B]CDEFGHIJKLMNOPQRSTUVWXYZ

This page was generated on 2022-12-07 11:04:07 -0500 (Wed, 07 Dec 2022).

HostnameOSArch (*)R versionInstalled pkgs
nebbiolo1Linux (Ubuntu 22.04.1 LTS)x86_64R Under development (unstable) (2022-11-30 r83393) -- "Unsuffered Consequences" 4423
palomino3Windows Server 2022 Datacenterx64R Under development (unstable) (2022-11-30 r83393 ucrt) -- "Unsuffered Consequences" 4193
merida1macOS 10.14.6 Mojavex86_64R Under development (unstable) (2022-11-30 r83393) -- "Unsuffered Consequences" 4236
Click on any hostname to see more info about the system (e.g. compilers)      (*) as reported by 'uname -p', except on Windows and Mac OS X

All results for package Biobase


To the developers/maintainers of the Biobase package:
- Please allow up to 24 hours (and sometimes 48 hours) for your latest push to git@git.bioconductor.org:packages/Biobase.git to
reflect on this report. See How and When does the builder pull? When will my changes propagate? for more information.
- Make sure to use the following settings in order to reproduce any error or warning you see on this page.

raw results

Package 152/2155HostnameOS / ArchINSTALLBUILDCHECKBUILD BIN
Biobase 2.59.0  (landing page)
Bioconductor Package Maintainer
Snapshot Date: 2022-12-06 14:00:17 -0500 (Tue, 06 Dec 2022)
git_url: https://git.bioconductor.org/packages/Biobase
git_branch: master
git_last_commit: 8c1bcf1
git_last_commit_date: 2022-11-01 10:34:43 -0500 (Tue, 01 Nov 2022)
nebbiolo1Linux (Ubuntu 22.04.1 LTS) / x86_64  OK    ERROR  skipped
palomino3Windows Server 2022 Datacenter / x64  OK    ERROR  skippedskipped
merida1macOS 10.14.6 Mojave / x86_64  OK    ERROR  skippedskipped

Results for Bioconductor software packages that depend directly on package Biobase

QUICK STATSOS / ArchINSTALLBUILDCHECKBUILD BIN
nebbiolo1Linux (Ubuntu 22.04.1 LTS) / x86_64
03452
064391
21479296
palomino3Windows Server 2022 Datacenter / x64
02448
164385
0979297
00385
merida1macOS 10.14.6 Mojave / x86_64
05449
069385
4680295
00385
Package 1/455HostnameOS / ArchINSTALLBUILDCHECKBUILD BIN
a4Base 1.47.0  (landing page)
Laure Cougnaud
git_last_commit: 06934f7
git_last_commit_date: 2022-11-01 11:05:49 -0500
nebbiolo1Linux (Ubuntu 22.04.1 LTS) / x86_64  OK    OK    OK  UNNEEDED, same version is already published
palomino3Windows Server 2022 Datacenter / x64  OK    OK    OK    OK  UNNEEDED, same version is already published
merida1macOS 10.14.6 Mojave / x86_64  OK    OK    OK    OK  UNNEEDED, same version is already published
Package 2/455HostnameOS / ArchINSTALLBUILDCHECKBUILD BIN
a4Classif 1.47.0  (landing page)
Laure Cougnaud
git_last_commit: 0156382
git_last_commit_date: 2022-11-01 11:05:50 -0500
nebbiolo1Linux (Ubuntu 22.04.1 LTS) / x86_64  OK    OK    OK  UNNEEDED, same version is already published
palomino3Windows Server 2022 Datacenter / x64  OK    OK    OK    OK  UNNEEDED, same version is already published
merida1macOS 10.14.6 Mojave / x86_64  OK    OK    OK    OK  UNNEEDED, same version is already published
Package 3/455HostnameOS / ArchINSTALLBUILDCHECKBUILD BIN
a4Core 1.47.0  (landing page)
Laure Cougnaud
git_last_commit: f2db066
git_last_commit_date: 2022-11-01 11:05:51 -0500
nebbiolo1Linux (Ubuntu 22.04.1 LTS) / x86_64  OK    OK    OK  UNNEEDED, same version is already published
palomino3Windows Server 2022 Datacenter / x64  OK    OK    OK    OK  UNNEEDED, same version is already published
merida1macOS 10.14.6 Mojave / x86_64  OK    OK    OK    OK  UNNEEDED, same version is already published
Package 4/455HostnameOS / ArchINSTALLBUILDCHECKBUILD BIN
a4Preproc 1.47.0  (landing page)
Laure Cougnaud
git_last_commit: 7820196
git_last_commit_date: 2022-11-01 11:05:49 -0500
nebbiolo1Linux (Ubuntu 22.04.1 LTS) / x86_64  OK    OK    OK  UNNEEDED, same version is already published
palomino3Windows Server 2022 Datacenter / x64  OK    OK    OK    OK  UNNEEDED, same version is already published
merida1macOS 10.14.6 Mojave / x86_64  OK    OK    OK    OK  UNNEEDED, same version is already published
Package 5/455HostnameOS / ArchINSTALLBUILDCHECKBUILD BIN
ABarray 1.67.0  (landing page)
Yongming Andrew Sun
git_last_commit: 5c3fdf9
git_last_commit_date: 2022-11-01 10:41:39 -0500
nebbiolo1Linux (Ubuntu 22.04.1 LTS) / x86_64  OK    OK    OK  UNNEEDED, same version is already published
palomino3Windows Server 2022 Datacenter / x64  OK    OK    OK    OK  UNNEEDED, same version is already published
merida1macOS 10.14.6 Mojave / x86_64  OK    OK    OK    OK  UNNEEDED, same version is already published
Package 6/455HostnameOS / ArchINSTALLBUILDCHECKBUILD BIN
ACE 1.17.0  (landing page)
Jos B Poell
git_last_commit: b290d38
git_last_commit_date: 2022-11-01 11:18:08 -0500
nebbiolo1Linux (Ubuntu 22.04.1 LTS) / x86_64  OK    OK    OK  UNNEEDED, same version is already published
palomino3Windows Server 2022 Datacenter / x64  OK    OK    OK    OK  NO, package depends on 'QDNAseq' which is not available
merida1macOS 10.14.6 Mojave / x86_64  OK    OK    OK    OK  NO, package depends on 'QDNAseq' which is not available
Package 7/455HostnameOS / ArchINSTALLBUILDCHECKBUILD BIN
aCGH 1.77.0  (landing page)
Peter Dimitrov
git_last_commit: 0507fcb
git_last_commit_date: 2022-11-01 10:37:29 -0500
nebbiolo1Linux (Ubuntu 22.04.1 LTS) / x86_64  OK    OK    OK  UNNEEDED, same version is already published
palomino3Windows Server 2022 Datacenter / x64  OK    OK    OK    OK  UNNEEDED, same version is already published
merida1macOS 10.14.6 Mojave / x86_64  OK    OK    OK    OK  UNNEEDED, same version is already published
Package 8/455HostnameOS / ArchINSTALLBUILDCHECKBUILD BIN
ACME 2.55.0  (landing page)
Sean Davis
git_last_commit: ad84f63
git_last_commit_date: 2022-11-01 11:03:24 -0500
nebbiolo1Linux (Ubuntu 22.04.1 LTS) / x86_64  OK    OK    WARNINGS  UNNEEDED, same version is already published
palomino3Windows Server 2022 Datacenter / x64  OK    OK    WARNINGS    OK  UNNEEDED, same version is already published
merida1macOS 10.14.6 Mojave / x86_64  OK    OK    OK    OK  UNNEEDED, same version is already published
Package 9/455HostnameOS / ArchINSTALLBUILDCHECKBUILD BIN
adSplit 1.69.0  (landing page)
Claudio Lottaz
git_last_commit: 91b7b9d
git_last_commit_date: 2022-11-01 10:40:46 -0500
nebbiolo1Linux (Ubuntu 22.04.1 LTS) / x86_64  OK    OK    OK  UNNEEDED, same version is already published
palomino3Windows Server 2022 Datacenter / x64  OK    OK    OK    OK  UNNEEDED, same version is already published
merida1macOS 10.14.6 Mojave / x86_64  OK    OK    OK    OK  UNNEEDED, same version is already published
Package 10/455HostnameOS / ArchINSTALLBUILDCHECKBUILD BIN
affy 1.77.0  (landing page)
Rafael A. Irizarry
git_last_commit: b3ddc54
git_last_commit_date: 2022-11-01 10:35:21 -0500
nebbiolo1Linux (Ubuntu 22.04.1 LTS) / x86_64  OK    OK    WARNINGS  UNNEEDED, same version is already published
palomino3Windows Server 2022 Datacenter / x64  OK    OK    WARNINGS    OK  UNNEEDED, same version is already published
merida1macOS 10.14.6 Mojave / x86_64  OK    OK    WARNINGS    OK  UNNEEDED, same version is already published
Package 11/455HostnameOS / ArchINSTALLBUILDCHECKBUILD BIN
affycomp 1.75.0  (landing page)
Rafael A. Irizarry
git_last_commit: 2efcddb
git_last_commit_date: 2022-11-01 10:35:39 -0500
nebbiolo1Linux (Ubuntu 22.04.1 LTS) / x86_64  OK    OK    OK  UNNEEDED, same version is already published
palomino3Windows Server 2022 Datacenter / x64  OK    OK    OK    OK  UNNEEDED, same version is already published
merida1macOS 10.14.6 Mojave / x86_64  OK    OK    OK    OK  UNNEEDED, same version is already published
Package 12/455HostnameOS / ArchINSTALLBUILDCHECKBUILD BIN
affyContam 1.57.0  (landing page)
V. Carey
git_last_commit: 61b14f0
git_last_commit_date: 2022-11-01 11:04:10 -0500
nebbiolo1Linux (Ubuntu 22.04.1 LTS) / x86_64  OK    OK    OK  UNNEEDED, same version is already published
palomino3Windows Server 2022 Datacenter / x64  OK    OK    OK    OK  UNNEEDED, same version is already published
merida1macOS 10.14.6 Mojave / x86_64  OK    OK    OK    OK  UNNEEDED, same version is already published
Package 13/455HostnameOS / ArchINSTALLBUILDCHECKBUILD BIN
affycoretools 1.71.0  (landing page)
James W. MacDonald
git_last_commit: 37ca131
git_last_commit_date: 2022-11-01 10:40:10 -0500
nebbiolo1Linux (Ubuntu 22.04.1 LTS) / x86_64  OK    OK    OK  UNNEEDED, same version is already published
palomino3Windows Server 2022 Datacenter / x64  OK    OK    OK    OK  NO, package depends on 'oligoClasses' which is not available
merida1macOS 10.14.6 Mojave / x86_64  OK    OK    OK    OK  NO, package depends on 'ReportingTools' which is not available
Package 14/455HostnameOS / ArchINSTALLBUILDCHECKBUILD BIN
affyILM 1.51.0  (landing page)
Myriam Kroll and Fabrice Berger
git_last_commit: f189a0c
git_last_commit_date: 2022-11-01 11:05:06 -0500
nebbiolo1Linux (Ubuntu 22.04.1 LTS) / x86_64  OK    OK    OK  UNNEEDED, same version is already published
palomino3Windows Server 2022 Datacenter / x64  OK    OK    OK    OK  UNNEEDED, same version is already published
merida1macOS 10.14.6 Mojave / x86_64  OK    OK    OK    OK  UNNEEDED, same version is already published
Package 15/455HostnameOS / ArchINSTALLBUILDCHECKBUILD BIN
affyPLM 1.75.0  (landing page)
Ben Bolstad
git_last_commit: 2069214
git_last_commit_date: 2022-11-01 10:36:08 -0500
nebbiolo1Linux (Ubuntu 22.04.1 LTS) / x86_64  OK    OK    WARNINGS  UNNEEDED, same version is already published
palomino3Windows Server 2022 Datacenter / x64  OK    OK    ERROR    OK  
merida1macOS 10.14.6 Mojave / x86_64  OK    OK    OK    OK  UNNEEDED, same version is already published
Package 16/455HostnameOS / ArchINSTALLBUILDCHECKBUILD BIN
AGDEX 1.47.0  (landing page)
Cuilan lani Gao
git_last_commit: e9f212e
git_last_commit_date: 2022-11-01 11:06:18 -0500
nebbiolo1Linux (Ubuntu 22.04.1 LTS) / x86_64  OK    OK    OK  UNNEEDED, same version is already published
palomino3Windows Server 2022 Datacenter / x64  OK    OK    OK    OK  UNNEEDED, same version is already published
merida1macOS 10.14.6 Mojave / x86_64  OK    OK    OK    OK  UNNEEDED, same version is already published
Package 17/455HostnameOS / ArchINSTALLBUILDCHECKBUILD BIN
AgiMicroRna 2.49.0  (landing page)
Pedro Lopez-Romero
git_last_commit: 15ecb03
git_last_commit_date: 2022-11-01 11:04:37 -0500
nebbiolo1Linux (Ubuntu 22.04.1 LTS) / x86_64  OK    OK    OK  UNNEEDED, same version is already published
palomino3Windows Server 2022 Datacenter / x64  OK    OK    OK    OK  NO, package depends on 'affycoretools' which is not available
merida1macOS 10.14.6 Mojave / x86_64  OK    OK    OK    OK  NO, package depends on 'affycoretools' which is not available
Package 18/455HostnameOS / ArchINSTALLBUILDCHECKBUILD BIN
AIMS 1.31.0  (landing page)
Eric R Paquet
git_last_commit: c9c10e9
git_last_commit_date: 2022-11-01 11:10:48 -0500
nebbiolo1Linux (Ubuntu 22.04.1 LTS) / x86_64  OK    ERROR  skipped
palomino3Windows Server 2022 Datacenter / x64  OK    ERROR  skippedskipped
merida1macOS 10.14.6 Mojave / x86_64  OK    ERROR  skippedskipped
Package 19/455HostnameOS / ArchINSTALLBUILDCHECKBUILD BIN
altcdfenvs 2.61.0  (landing page)
Laurent Gautier
git_last_commit: 657dd6a
git_last_commit_date: 2022-11-01 10:36:55 -0500
nebbiolo1Linux (Ubuntu 22.04.1 LTS) / x86_64  OK    OK    OK  UNNEEDED, same version is already published
palomino3Windows Server 2022 Datacenter / x64  OK    OK    OK    OK  UNNEEDED, same version is already published
merida1macOS 10.14.6 Mojave / x86_64  OK    OK    OK    OK  UNNEEDED, same version is already published
Package 20/455HostnameOS / ArchINSTALLBUILDCHECKBUILD BIN
ANF 1.21.0  (landing page)
Tianle Ma
git_last_commit: c6ce44c
git_last_commit_date: 2022-11-01 11:16:30 -0500
nebbiolo1Linux (Ubuntu 22.04.1 LTS) / x86_64  OK    OK    OK  UNNEEDED, same version is already published
palomino3Windows Server 2022 Datacenter / x64  OK    OK    OK    OK  UNNEEDED, same version is already published
merida1macOS 10.14.6 Mojave / x86_64  OK    OK    OK    OK  UNNEEDED, same version is already published
Package 21/455HostnameOS / ArchINSTALLBUILDCHECKBUILD BIN
annaffy 1.71.0  (landing page)
Colin A. Smith
git_last_commit: 02defd3
git_last_commit_date: 2022-11-01 10:35:52 -0500
nebbiolo1Linux (Ubuntu 22.04.1 LTS) / x86_64  OK    OK    WARNINGS  UNNEEDED, same version is already published
palomino3Windows Server 2022 Datacenter / x64  OK    OK    WARNINGS    OK  UNNEEDED, same version is already published
merida1macOS 10.14.6 Mojave / x86_64  OK    OK    WARNINGS    OK  UNNEEDED, same version is already published
Package 22/455HostnameOS / ArchINSTALLBUILDCHECKBUILD BIN
annmap 1.41.0  (landing page)
Chris Wirth
git_last_commit: 5d59609
git_last_commit_date: 2022-11-01 11:07:03 -0500
nebbiolo1Linux (Ubuntu 22.04.1 LTS) / x86_64  OK    OK    WARNINGS  UNNEEDED, same version is already published
palomino3Windows Server 2022 Datacenter / x64... NOT SUPPORTED ...
merida1macOS 10.14.6 Mojave / x86_64  OK    OK    WARNINGS    OK  NO, package depends on 'Rsamtools' which is not available
Package 23/455HostnameOS / ArchINSTALLBUILDCHECKBUILD BIN
annotate 1.77.0  (landing page)
Bioconductor Package Maintainer
git_last_commit: 84b32d4
git_last_commit_date: 2022-11-01 10:34:51 -0500
nebbiolo1Linux (Ubuntu 22.04.1 LTS) / x86_64  OK    OK    OK  UNNEEDED, same version is already published
palomino3Windows Server 2022 Datacenter / x64  OK    OK    ERROR    OK  
merida1macOS 10.14.6 Mojave / x86_64  OK    ERROR  skippedskipped
Package 24/455HostnameOS / ArchINSTALLBUILDCHECKBUILD BIN
AnnotationDbi 1.61.0  (landing page)
Bioconductor Package Maintainer
git_last_commit: 50cba36
git_last_commit_date: 2022-11-01 10:42:30 -0500
nebbiolo1Linux (Ubuntu 22.04.1 LTS) / x86_64  OK    OK    WARNINGS  UNNEEDED, same version is already published
palomino3Windows Server 2022 Datacenter / x64  OK    OK    WARNINGS    OK  UNNEEDED, same version is already published
merida1macOS 10.14.6 Mojave / x86_64  OK    OK    WARNINGS    OK  UNNEEDED, same version is already published
Package 25/455HostnameOS / ArchINSTALLBUILDCHECKBUILD BIN
AnnotationForge 1.41.0  (landing page)
Bioconductor Package Maintainer
git_last_commit: e247a06
git_last_commit_date: 2022-11-01 11:07:07 -0500
nebbiolo1Linux (Ubuntu 22.04.1 LTS) / x86_64  OK    OK    OK  UNNEEDED, same version is already published
palomino3Windows Server 2022 Datacenter / x64  OK    OK    OK    OK  UNNEEDED, same version is already published
merida1macOS 10.14.6 Mojave / x86_64  OK    OK    OK    OK  UNNEEDED, same version is already published
Package 26/455HostnameOS / ArchINSTALLBUILDCHECKBUILD BIN
AnnotationHubData 1.29.0  (landing page)
Bioconductor Package Maintainer
git_last_commit: 3187433
git_last_commit_date: 2022-11-01 11:12:08 -0500
nebbiolo1Linux (Ubuntu 22.04.1 LTS) / x86_64  OK    OK    WARNINGS  UNNEEDED, same version is already published
palomino3Windows Server 2022 Datacenter / x64  OK    OK    WARNINGS    OK  NO, package depends on 'GenomicRanges' which is not available
merida1macOS 10.14.6 Mojave / x86_64  OK    OK    WARNINGS    OK  NO, package depends on 'GenomicFeatures' which is not available
Package 27/455HostnameOS / ArchINSTALLBUILDCHECKBUILD BIN
annotationTools 1.73.0  (landing page)
Alexandre Kuhn
git_last_commit: 87ead78
git_last_commit_date: 2022-11-01 11:03:20 -0500
nebbiolo1Linux (Ubuntu 22.04.1 LTS) / x86_64  OK    OK    OK  UNNEEDED, same version is already published
palomino3Windows Server 2022 Datacenter / x64  OK    OK    OK    OK  UNNEEDED, same version is already published
merida1macOS 10.14.6 Mojave / x86_64  OK    OK    OK    OK  UNNEEDED, same version is already published
Package 28/455HostnameOS / ArchINSTALLBUILDCHECKBUILD BIN
ArrayExpress 1.59.0  (landing page)
Suhaib Mohammed
git_last_commit: 842753d
git_last_commit_date: 2022-11-01 11:04:06 -0500
nebbiolo1Linux (Ubuntu 22.04.1 LTS) / x86_64  OK    ERROR  skipped
palomino3Windows Server 2022 Datacenter / x64  OK    ERROR  skippedskipped
merida1macOS 10.14.6 Mojave / x86_64  OK    ERROR  skippedskipped
Package 29/455HostnameOS / ArchINSTALLBUILDCHECKBUILD BIN
ArrayExpressHTS 1.49.1  (landing page)
Angela Goncalves , Andrew Tikhonov
git_last_commit: c9590d2
git_last_commit_date: 2022-12-01 14:06:42 -0500
nebbiolo1Linux (Ubuntu 22.04.1 LTS) / x86_64  ERROR    ERROR  skipped
palomino3Windows Server 2022 Datacenter / x64... NOT SUPPORTED ...
merida1macOS 10.14.6 Mojave / x86_64  ERROR    ERROR  skippedskipped
Package 30/455HostnameOS / ArchINSTALLBUILDCHECKBUILD BIN
arrayMvout 1.57.0  (landing page)
V. Carey
git_last_commit: 023a8fa
git_last_commit_date: 2022-11-01 11:04:11 -0500
nebbiolo1Linux (Ubuntu 22.04.1 LTS) / x86_64  OK    OK    OK  UNNEEDED, same version is already published
palomino3Windows Server 2022 Datacenter / x64  OK    OK    OK    OK  NO, package depends on 'lumi' which is not available
merida1macOS 10.14.6 Mojave / x86_64  OK    OK    OK    OK  NO, package depends on 'lumi' which is not available
Package 31/455HostnameOS / ArchINSTALLBUILDCHECKBUILD BIN
arrayQualityMetrics 3.55.0  (landing page)
Mike Smith
git_last_commit: 346f0c8
git_last_commit_date: 2022-11-01 11:03:33 -0500
nebbiolo1Linux (Ubuntu 22.04.1 LTS) / x86_64  OK    ERROR  skipped
palomino3Windows Server 2022 Datacenter / x64  OK    ERROR  skippedskipped
merida1macOS 10.14.6 Mojave / x86_64  OK    ERROR  skippedskipped
Package 32/455HostnameOS / ArchINSTALLBUILDCHECKBUILD BIN
attract 1.51.0  (landing page)
Samuel Zimmerman
git_last_commit: 05e02ca
git_last_commit_date: 2022-11-01 11:05:07 -0500
nebbiolo1Linux (Ubuntu 22.04.1 LTS) / x86_64  OK    OK    OK  UNNEEDED, same version is already published
palomino3Windows Server 2022 Datacenter / x64  OK    OK    OK    OK  UNNEEDED, same version is already published
merida1macOS 10.14.6 Mojave / x86_64  OK    OK    OK    OK  UNNEEDED, same version is already published
Package 33/455HostnameOS / ArchINSTALLBUILDCHECKBUILD BIN
BAGS 2.39.0  (landing page)
Alejandro Quiroz-Zarate
git_last_commit: 8d130fc
git_last_commit_date: 2022-11-01 11:06:38 -0500
nebbiolo1Linux (Ubuntu 22.04.1 LTS) / x86_64  OK    ERROR  skipped
palomino3Windows Server 2022 Datacenter / x64  OK    ERROR  skippedskipped
merida1macOS 10.14.6 Mojave / x86_64  OK    ERROR  skippedskipped
Package 34/455HostnameOS / ArchINSTALLBUILDCHECKBUILD BIN
ballgown 2.31.0  (landing page)
Jack Fu
git_last_commit: db11666
git_last_commit_date: 2022-11-01 11:10:01 -0500
nebbiolo1Linux (Ubuntu 22.04.1 LTS) / x86_64  OK    OK    OK  UNNEEDED, same version is already published
palomino3Windows Server 2022 Datacenter / x64  OK    OK    OK    OK  NO, package depends on 'GenomicRanges' which is not available
merida1macOS 10.14.6 Mojave / x86_64  OK    OK    OK    OK  NO, package depends on 'sva' which is not available
Package 35/455HostnameOS / ArchINSTALLBUILDCHECKBUILD BIN
bandle 1.3.0  (landing page)
Oliver M. Crook
git_last_commit: ee829a0
git_last_commit_date: 2022-11-01 11:26:51 -0500
nebbiolo1Linux (Ubuntu 22.04.1 LTS) / x86_64  OK    OK    OK  UNNEEDED, same version is already published
palomino3Windows Server 2022 Datacenter / x64  OK    OK    OK    OK  NO, package depends on 'pRoloc' which is not available
merida1macOS 10.14.6 Mojave / x86_64  OK    OK    OK    OK  NO, package depends on 'MSnbase' which is not available
Package 36/455HostnameOS / ArchINSTALLBUILDCHECKBUILD BIN
BASiCS 2.11.1  (landing page)
Alan O'Callaghan
git_last_commit: 63725c6
git_last_commit_date: 2022-11-14 05:33:38 -0500
nebbiolo1Linux (Ubuntu 22.04.1 LTS) / x86_64  OK    OK    OK  UNNEEDED, same version is already published
palomino3Windows Server 2022 Datacenter / x64  OK    OK    OK    OK  NO, package depends on 'SingleCellExperiment' which is not available
merida1macOS 10.14.6 Mojave / x86_64  OK    OK    OK    OK  NO, package depends on 'scran' which is not available
Package 37/455HostnameOS / ArchINSTALLBUILDCHECKBUILD BIN
BayesKnockdown 1.25.0  (landing page)
William Chad Young
git_last_commit: cec0479
git_last_commit_date: 2022-11-01 11:14:12 -0500
nebbiolo1Linux (Ubuntu 22.04.1 LTS) / x86_64  OK    OK    OK  UNNEEDED, same version is already published
palomino3Windows Server 2022 Datacenter / x64  OK    OK    OK    OK  UNNEEDED, same version is already published
merida1macOS 10.14.6 Mojave / x86_64  OK    OK    OK    OK  UNNEEDED, same version is already published
Package 38/455HostnameOS / ArchINSTALLBUILDCHECKBUILD BIN
beadarray 2.49.0  (landing page)
Mark Dunning
git_last_commit: bdc74cc
git_last_commit_date: 2022-11-01 10:40:39 -0500
nebbiolo1Linux (Ubuntu 22.04.1 LTS) / x86_64  OK    OK    OK  UNNEEDED, same version is already published
palomino3Windows Server 2022 Datacenter / x64  OK    OK    OK    OK  NO, package depends on 'GenomicRanges' which is not available
merida1macOS 10.14.6 Mojave / x86_64  OK    OK    OK    OK  UNNEEDED, same version is already published
Package 39/455HostnameOS / ArchINSTALLBUILDCHECKBUILD BIN
beadarraySNP 1.65.0  (landing page)
Jan Oosting
git_last_commit: 1c6e400
git_last_commit_date: 2022-11-01 10:42:02 -0500
nebbiolo1Linux (Ubuntu 22.04.1 LTS) / x86_64  OK    ERROR  skipped
palomino3Windows Server 2022 Datacenter / x64  OK    ERROR  skippedskipped
merida1macOS 10.14.6 Mojave / x86_64  OK    ERROR  skippedskipped
Package 40/455HostnameOS / ArchINSTALLBUILDCHECKBUILD BIN
BgeeDB 2.25.0  (landing page)
Julien Wollbrett , Julien Roux , Andrea Komljenovic , Frederic Bastian
git_last_commit: 4fa7597
git_last_commit_date: 2022-11-01 11:13:33 -0500
nebbiolo1Linux (Ubuntu 22.04.1 LTS) / x86_64  OK    OK    TIMEOUT  
palomino3Windows Server 2022 Datacenter / x64  OK    OK    OK    OK  UNNEEDED, same version is already published
merida1macOS 10.14.6 Mojave / x86_64  OK    OK    OK    OK  UNNEEDED, same version is already published
Package 41/455HostnameOS / ArchINSTALLBUILDCHECKBUILD BIN
bgx 1.65.0  (landing page)
Ernest Turro
git_last_commit: 6006e96
git_last_commit_date: 2022-11-01 11:03:27 -0500
nebbiolo1Linux (Ubuntu 22.04.1 LTS) / x86_64  OK    OK    OK  UNNEEDED, same version is already published
palomino3Windows Server 2022 Datacenter / x64  OK    OK    OK    OK  UNNEEDED, same version is already published
merida1macOS 10.14.6 Mojave / x86_64  OK    OK    WARNINGS    OK  UNNEEDED, same version is already published
Package 42/455HostnameOS / ArchINSTALLBUILDCHECKBUILD BIN
BicARE 1.57.0  (landing page)
Pierre Gestraud
git_last_commit: 89de99f
git_last_commit_date: 2022-11-01 11:04:12 -0500
nebbiolo1Linux (Ubuntu 22.04.1 LTS) / x86_64  OK    OK    OK  UNNEEDED, same version is already published
palomino3Windows Server 2022 Datacenter / x64  OK    OK    OK    OK  UNNEEDED, same version is already published
merida1macOS 10.14.6 Mojave / x86_64  OK    OK    OK    OK  UNNEEDED, same version is already published
Package 43/455HostnameOS / ArchINSTALLBUILDCHECKBUILD BIN
bigmelon 1.25.0  (landing page)
Tyler J. Gorrie-Stone
git_last_commit: a22b69b
git_last_commit_date: 2022-11-01 11:14:27 -0500
nebbiolo1Linux (Ubuntu 22.04.1 LTS) / x86_64  OK    OK    WARNINGS  UNNEEDED, same version is already published
palomino3Windows Server 2022 Datacenter / x64  OK    OK    WARNINGS    OK  NO, package depends on 'wateRmelon' which is not available
merida1macOS 10.14.6 Mojave / x86_64  OK    OK    WARNINGS    OK  NO, package depends on 'wateRmelon' which is not available
Package 44/455HostnameOS / ArchINSTALLBUILDCHECKBUILD BIN
biobroom 1.31.0  (landing page)
John D. Storey and Andrew J. Bass
git_last_commit: a5188cc
git_last_commit_date: 2022-11-20 15:34:36 -0500
nebbiolo1Linux (Ubuntu 22.04.1 LTS) / x86_64  OK    OK    WARNINGS  UNNEEDED, same version is already published
palomino3Windows Server 2022 Datacenter / x64  OK    OK    WARNINGS    OK  UNNEEDED, same version is already published
merida1macOS 10.14.6 Mojave / x86_64  OK    OK    WARNINGS    OK  UNNEEDED, same version is already published
Package 45/455HostnameOS / ArchINSTALLBUILDCHECKBUILD BIN
bioCancer 1.27.0  (landing page)
Karim Mezhoud
git_last_commit: 2871292
git_last_commit_date: 2022-11-01 11:13:47 -0500
nebbiolo1Linux (Ubuntu 22.04.1 LTS) / x86_64  OK    OK    OK  UNNEEDED, same version is already published
palomino3Windows Server 2022 Datacenter / x64  OK    OK    OK    OK  UNNEEDED, same version is already published
merida1macOS 10.14.6 Mojave / x86_64  OK    OK    OK    OK  NO, package depends on 'DOSE' which is not available
Package 46/455HostnameOS / ArchINSTALLBUILDCHECKBUILD BIN
biocViews 1.67.0  (landing page)
Bioconductor Package Maintainer
git_last_commit: f2115fc
git_last_commit_date: 2022-11-01 10:39:56 -0500
nebbiolo1Linux (Ubuntu 22.04.1 LTS) / x86_64  OK    OK    OK  UNNEEDED, same version is already published
palomino3Windows Server 2022 Datacenter / x64  OK    OK    OK    OK  UNNEEDED, same version is already published
merida1macOS 10.14.6 Mojave / x86_64  OK    OK    OK    OK  UNNEEDED, same version is already published
Package 47/455HostnameOS / ArchINSTALLBUILDCHECKBUILD BIN
bioDist 1.71.0  (landing page)
Bioconductor Package Maintainer
git_last_commit: 636eabd
git_last_commit_date: 2022-11-01 10:38:26 -0500
nebbiolo1Linux (Ubuntu 22.04.1 LTS) / x86_64  OK    OK    OK  UNNEEDED, same version is already published
palomino3Windows Server 2022 Datacenter / x64  OK    OK    OK    OK  UNNEEDED, same version is already published
merida1macOS 10.14.6 Mojave / x86_64  OK    OK    OK    OK  UNNEEDED, same version is already published
Package 48/455HostnameOS / ArchINSTALLBUILDCHECKBUILD BIN
BioMVCClass 1.67.0  (landing page)
Elizabeth Whalen
git_last_commit: 3f81a2a
git_last_commit_date: 2022-11-01 10:41:56 -0500
nebbiolo1Linux (Ubuntu 22.04.1 LTS) / x86_64  OK    OK    OK  UNNEEDED, same version is already published
palomino3Windows Server 2022 Datacenter / x64  OK    OK    OK    OK  UNNEEDED, same version is already published
merida1macOS 10.14.6 Mojave / x86_64  OK    OK    OK    OK  UNNEEDED, same version is already published
Package 49/455HostnameOS / ArchINSTALLBUILDCHECKBUILD BIN
BioNet 1.59.0  (landing page)
Marcus Dittrich
git_last_commit: 67ccb37
git_last_commit_date: 2022-11-01 11:05:12 -0500
nebbiolo1Linux (Ubuntu 22.04.1 LTS) / x86_64  OK    OK    OK  UNNEEDED, same version is already published
palomino3Windows Server 2022 Datacenter / x64  OK    OK    OK    OK  UNNEEDED, same version is already published
merida1macOS 10.14.6 Mojave / x86_64  OK    OK    OK    OK  UNNEEDED, same version is already published
Package 50/455HostnameOS / ArchINSTALLBUILDCHECKBUILD BIN
BioQC 1.27.0  (landing page)
Jitao David Zhang
git_last_commit: a5a9122
git_last_commit_date: 2022-11-01 11:12:35 -0500
nebbiolo1Linux (Ubuntu 22.04.1 LTS) / x86_64  OK    OK    OK  UNNEEDED, same version is already published
palomino3Windows Server 2022 Datacenter / x64  OK    OK    OK    OK  UNNEEDED, same version is already published
merida1macOS 10.14.6 Mojave / x86_64  OK    OK    OK    OK  UNNEEDED, same version is already published
Package 51/455HostnameOS / ArchINSTALLBUILDCHECKBUILD BIN
biosigner 1.27.0  (landing page)
Etienne A. Thevenot
git_last_commit: f81cee9
git_last_commit_date: 2022-11-01 11:13:04 -0500
nebbiolo1Linux (Ubuntu 22.04.1 LTS) / x86_64  OK    OK    OK  NO, package depends on 'MultiDataSet' which is not available
palomino3Windows Server 2022 Datacenter / x64  OK    OK    OK    OK  NO, package depends on 'MultiAssayExperiment' which is not available
merida1macOS 10.14.6 Mojave / x86_64  OK    OK    OK    OK  NO, package depends on 'MultiDataSet' which is not available
Package 52/455HostnameOS / ArchINSTALLBUILDCHECKBUILD BIN
biscuiteer 1.13.0  (landing page)
Jacob Morrison
git_last_commit: 6cc534c
git_last_commit_date: 2022-11-01 11:20:50 -0500
nebbiolo1Linux (Ubuntu 22.04.1 LTS) / x86_64  OK    OK    WARNINGS  UNNEEDED, same version is already published
palomino3Windows Server 2022 Datacenter / x64  OK    OK    WARNINGS    OK  NO, package depends on 'bsseq' which is not available
merida1macOS 10.14.6 Mojave / x86_64  OK    OK    WARNINGS    OK  NO, package depends on 'bsseq' which is not available
Package 53/455HostnameOS / ArchINSTALLBUILDCHECKBUILD BIN
BiSeq 1.39.0  (landing page)
Katja Hebestreit
git_last_commit: a5c3cc0
git_last_commit_date: 2022-11-01 11:08:12 -0500
nebbiolo1Linux (Ubuntu 22.04.1 LTS) / x86_64  OK    ERROR  skipped
palomino3Windows Server 2022 Datacenter / x64  OK    ERROR  skippedskipped
merida1macOS 10.14.6 Mojave / x86_64  OK    ERROR  skippedskipped
Package 54/455HostnameOS / ArchINSTALLBUILDCHECKBUILD BIN
blima 1.33.0  (landing page)
Vojtěch Kulvait
git_last_commit: 886d829
git_last_commit_date: 2022-11-01 11:09:43 -0500
nebbiolo1Linux (Ubuntu 22.04.1 LTS) / x86_64  OK    OK    WARNINGS  UNNEEDED, same version is already published
palomino3Windows Server 2022 Datacenter / x64  OK    OK    WARNINGS    OK  NO, package depends on 'beadarray' which is not available
merida1macOS 10.14.6 Mojave / x86_64  OK    OK    WARNINGS    OK  UNNEEDED, same version is already published
Package 55/455HostnameOS / ArchINSTALLBUILDCHECKBUILD BIN
BLMA 1.23.0  (landing page)
Hung Nguyen
git_last_commit: d9b35cc
git_last_commit_date: 2022-11-01 11:15:36 -0500
nebbiolo1Linux (Ubuntu 22.04.1 LTS) / x86_64  OK    OK    OK  UNNEEDED, same version is already published
palomino3Windows Server 2022 Datacenter / x64  OK    OK    OK    OK  UNNEEDED, same version is already published
merida1macOS 10.14.6 Mojave / x86_64  OK    OK    OK    OK  UNNEEDED, same version is already published
Package 56/455HostnameOS / ArchINSTALLBUILDCHECKBUILD BIN
bnem 1.7.0  (landing page)
Martin Pirkl
git_last_commit: c3803ae
git_last_commit_date: 2022-12-02 05:16:11 -0500
nebbiolo1Linux (Ubuntu 22.04.1 LTS) / x86_64  OK    OK    OK  UNNEEDED, same version is already published
palomino3Windows Server 2022 Datacenter / x64  OK    OK    OK    OK  UNNEEDED, same version is already published
merida1macOS 10.14.6 Mojave / x86_64  OK    OK    OK    OK  NO, package depends on 'sva' which is not available
Package 57/455HostnameOS / ArchINSTALLBUILDCHECKBUILD BIN
borealis 1.3.0  (landing page)
Garrett Jenkinson
git_last_commit: dede075
git_last_commit_date: 2022-11-01 11:26:55 -0500
nebbiolo1Linux (Ubuntu 22.04.1 LTS) / x86_64  OK    ERROR  skipped
palomino3Windows Server 2022 Datacenter / x64  OK    ERROR  skippedskipped
merida1macOS 10.14.6 Mojave / x86_64  OK    ERROR  skippedskipped
Package 58/455HostnameOS / ArchINSTALLBUILDCHECKBUILD BIN
bsseq 1.35.0  (landing page)
Kasper Daniel Hansen
git_last_commit: ed8b19c
git_last_commit_date: 2022-11-01 11:07:09 -0500
nebbiolo1Linux (Ubuntu 22.04.1 LTS) / x86_64  OK    OK    ERROR  
palomino3Windows Server 2022 Datacenter / x64  OK    OK    ERROR    OK  
merida1macOS 10.14.6 Mojave / x86_64  OK    OK    ERROR    OK  
Package 59/455HostnameOS / ArchINSTALLBUILDCHECKBUILD BIN
BubbleTree 2.29.0  (landing page)
Todd Creasy , Wei Zhu
git_last_commit: 20d9d74
git_last_commit_date: 2022-11-01 11:11:07 -0500
nebbiolo1Linux (Ubuntu 22.04.1 LTS) / x86_64  OK    OK    OK  UNNEEDED, same version is already published
palomino3Windows Server 2022 Datacenter / x64  OK    OK    OK    OK  NO, package depends on 'GenomicRanges' which is not available
merida1macOS 10.14.6 Mojave / x86_64  OK    OK    OK    OK  NO, package depends on 'biovizBase' which is not available
Package 60/455HostnameOS / ArchINSTALLBUILDCHECKBUILD BIN
CAFE 1.35.0  (landing page)
Sander Bollen
git_last_commit: 17710dc
git_last_commit_date: 2022-11-01 11:09:18 -0500
nebbiolo1Linux (Ubuntu 22.04.1 LTS) / x86_64  OK    OK    WARNINGS  UNNEEDED, same version is already published
palomino3Windows Server 2022 Datacenter / x64  OK    OK    WARNINGS    OK  NO, package depends on 'biovizBase' which is not available
merida1macOS 10.14.6 Mojave / x86_64  OK    OK    WARNINGS    OK  NO, package depends on 'biovizBase' which is not available
Package 61/455HostnameOS / ArchINSTALLBUILDCHECKBUILD BIN
CAMERA 1.55.0  (landing page)
Steffen Neumann
git_last_commit: de7b17f
git_last_commit_date: 2022-11-01 11:04:20 -0500
nebbiolo1Linux (Ubuntu 22.04.1 LTS) / x86_64  OK    OK    OK  UNNEEDED, same version is already published
palomino3Windows Server 2022 Datacenter / x64  OK    OK    OK    OK  NO, package depends on 'xcms' which is not available
merida1macOS 10.14.6 Mojave / x86_64  OK    OK    OK    OK  NO, package depends on 'xcms' which is not available
Package 62/455HostnameOS / ArchINSTALLBUILDCHECKBUILD BIN
canceR 1.33.0  (landing page)
Karim Mezhoud
git_last_commit: 60e88c6
git_last_commit_date: 2022-11-01 11:11:13 -0500
nebbiolo1Linux (Ubuntu 22.04.1 LTS) / x86_64  OK    OK    OK  UNNEEDED, same version is already published
palomino3Windows Server 2022 Datacenter / x64  OK    OK    OK    OK  UNNEEDED, same version is already published
merida1macOS 10.14.6 Mojave / x86_64  OK    OK    OK    OK  UNNEEDED, same version is already published
Package 63/455HostnameOS / ArchINSTALLBUILDCHECKBUILD BIN
cancerclass 1.43.0  (landing page)
Daniel Kosztyla
git_last_commit: 8c6bb55
git_last_commit_date: 2022-11-01 11:06:59 -0500
nebbiolo1Linux (Ubuntu 22.04.1 LTS) / x86_64  OK    OK    OK  UNNEEDED, same version is already published
palomino3Windows Server 2022 Datacenter / x64  OK    OK    OK    OK  UNNEEDED, same version is already published
merida1macOS 10.14.6 Mojave / x86_64  OK    OK    WARNINGS    OK  UNNEEDED, same version is already published
Package 64/455HostnameOS / ArchINSTALLBUILDCHECKBUILD BIN
Cardinal 3.1.0  (landing page)
Kylie A. Bemis
git_last_commit: 6a786e0
git_last_commit_date: 2022-11-14 15:04:46 -0500
nebbiolo1Linux (Ubuntu 22.04.1 LTS) / x86_64  OK    OK    OK  UNNEEDED, same version is already published
palomino3Windows Server 2022 Datacenter / x64  OK    OK    OK    OK  UNNEEDED, same version is already published
merida1macOS 10.14.6 Mojave / x86_64  OK    OK    OK    OK  NO, package depends on 'BiocParallel' which is not available
Package 65/455HostnameOS / ArchINSTALLBUILDCHECKBUILD BIN
casper 2.33.0  (landing page)
David Rossell
git_last_commit: 6cde1fc
git_last_commit_date: 2022-11-01 11:07:47 -0500
nebbiolo1Linux (Ubuntu 22.04.1 LTS) / x86_64  OK    OK    OK  UNNEEDED, same version is already published
palomino3Windows Server 2022 Datacenter / x64  OK    OK    WARNINGS    OK  NO, package depends on 'GenomicRanges' which is not available
merida1macOS 10.14.6 Mojave / x86_64  OK    OK    WARNINGS    OK  NO, package depends on 'GenomicFeatures' which is not available
Package 66/455HostnameOS / ArchINSTALLBUILDCHECKBUILD BIN
Category 2.65.0  (landing page)
Bioconductor Package Maintainer
git_last_commit: 6ef74a5
git_last_commit_date: 2022-11-01 10:39:25 -0500
nebbiolo1Linux (Ubuntu 22.04.1 LTS) / x86_64  OK    OK    OK  UNNEEDED, same version is already published
palomino3Windows Server 2022 Datacenter / x64  OK    OK    OK    OK  UNNEEDED, same version is already published
merida1macOS 10.14.6 Mojave / x86_64  OK    OK    OK    OK  UNNEEDED, same version is already published
Package 67/455HostnameOS / ArchINSTALLBUILDCHECKBUILD BIN
categoryCompare 1.43.0  (landing page)
Robert M. Flight
git_last_commit: d82fecd
git_last_commit_date: 2022-11-01 11:06:57 -0500
nebbiolo1Linux (Ubuntu 22.04.1 LTS) / x86_64  OK    OK    OK  UNNEEDED, same version is already published
palomino3Windows Server 2022 Datacenter / x64  OK    OK    OK    OK  UNNEEDED, same version is already published
merida1macOS 10.14.6 Mojave / x86_64  OK    OK    OK    OK  UNNEEDED, same version is already published
Package 68/455HostnameOS / ArchINSTALLBUILDCHECKBUILD BIN
CCPROMISE 1.25.0  (landing page)
Xueyuan Cao
git_last_commit: ac730f3
git_last_commit_date: 2022-11-01 11:14:48 -0500
nebbiolo1Linux (Ubuntu 22.04.1 LTS) / x86_64  OK    OK    WARNINGS  UNNEEDED, same version is already published
palomino3Windows Server 2022 Datacenter / x64  OK    OK    WARNINGS    OK  UNNEEDED, same version is already published
merida1macOS 10.14.6 Mojave / x86_64  OK    OK    WARNINGS    OK  UNNEEDED, same version is already published
Package 69/455HostnameOS / ArchINSTALLBUILDCHECKBUILD BIN
cellHTS2 2.63.0  (landing page)
Joseph Barry
git_last_commit: 7c21828
git_last_commit_date: 2022-11-01 11:03:30 -0500
nebbiolo1Linux (Ubuntu 22.04.1 LTS) / x86_64  OK    ERROR  skipped
palomino3Windows Server 2022 Datacenter / x64  OK    ERROR  skippedskipped
merida1macOS 10.14.6 Mojave / x86_64  OK    ERROR  skippedskipped
Package 70/455HostnameOS / ArchINSTALLBUILDCHECKBUILD BIN
CellScore 1.19.0  (landing page)
Nancy Mah
git_last_commit: c30d0b8
git_last_commit_date: 2022-11-01 11:17:10 -0500
nebbiolo1Linux (Ubuntu 22.04.1 LTS) / x86_64  OK    OK    OK  UNNEEDED, same version is already published
palomino3Windows Server 2022 Datacenter / x64  OK    OK    OK    OK  UNNEEDED, same version is already published
merida1macOS 10.14.6 Mojave / x86_64  OK    OK    OK    OK  UNNEEDED, same version is already published
Package 71/455HostnameOS / ArchINSTALLBUILDCHECKBUILD BIN
CellTrails 1.17.0  (landing page)
Daniel Ellwanger
git_last_commit: 819fcd5
git_last_commit_date: 2022-11-01 11:18:02 -0500
nebbiolo1Linux (Ubuntu 22.04.1 LTS) / x86_64  OK    OK    OK  UNNEEDED, same version is already published
palomino3Windows Server 2022 Datacenter / x64  OK    OK    OK    OK  NO, package depends on 'SingleCellExperiment' which is not available
merida1macOS 10.14.6 Mojave / x86_64  OK    OK    OK    OK  UNNEEDED, same version is already published
Package 72/455HostnameOS / ArchINSTALLBUILDCHECKBUILD BIN
CGHbase 1.59.0  (landing page)
Mark van de Wiel
git_last_commit: 0116ce4
git_last_commit_date: 2022-11-01 11:03:53 -0500
nebbiolo1Linux (Ubuntu 22.04.1 LTS) / x86_64  OK    OK    OK  UNNEEDED, same version is already published
palomino3Windows Server 2022 Datacenter / x64  OK    OK    OK    OK  UNNEEDED, same version is already published
merida1macOS 10.14.6 Mojave / x86_64  OK    OK    OK    OK  UNNEEDED, same version is already published
Package 73/455HostnameOS / ArchINSTALLBUILDCHECKBUILD BIN
CGHcall 2.61.0  (landing page)
Mark van de Wiel
git_last_commit: 775bb69
git_last_commit_date: 2022-11-01 11:03:34 -0500
nebbiolo1Linux (Ubuntu 22.04.1 LTS) / x86_64  OK    OK    WARNINGS  UNNEEDED, same version is already published
palomino3Windows Server 2022 Datacenter / x64  OK    OK    WARNINGS    OK  UNNEEDED, same version is already published
merida1macOS 10.14.6 Mojave / x86_64  OK    OK    WARNINGS    OK  UNNEEDED, same version is already published
Package 74/455HostnameOS / ArchINSTALLBUILDCHECKBUILD BIN
CGHnormaliter 1.53.0  (landing page)
Bart P.P. van Houte
git_last_commit: 207d17f
git_last_commit_date: 2022-11-01 11:04:40 -0500
nebbiolo1Linux (Ubuntu 22.04.1 LTS) / x86_64  OK    OK    OK  UNNEEDED, same version is already published
palomino3Windows Server 2022 Datacenter / x64  OK    OK    OK    OK  UNNEEDED, same version is already published
merida1macOS 10.14.6 Mojave / x86_64  OK    OK    OK    OK  UNNEEDED, same version is already published
Package 75/455HostnameOS / ArchINSTALLBUILDCHECKBUILD BIN
CGHregions 1.57.0  (landing page)
Sjoerd Vosse
git_last_commit: 1b92f34
git_last_commit_date: 2022-11-01 11:03:54 -0500
nebbiolo1Linux (Ubuntu 22.04.1 LTS) / x86_64  OK    OK    OK  UNNEEDED, same version is already published
palomino3Windows Server 2022 Datacenter / x64  OK    OK    OK    OK  UNNEEDED, same version is already published
merida1macOS 10.14.6 Mojave / x86_64  OK    OK    OK    OK  UNNEEDED, same version is already published
Package 76/455HostnameOS / ArchINSTALLBUILDCHECKBUILD BIN
ChIPQC 1.35.0  (landing page)
Tom Carroll , Rory Stark
git_last_commit: d7f5692
git_last_commit_date: 2022-11-01 11:09:28 -0500
nebbiolo1Linux (Ubuntu 22.04.1 LTS) / x86_64  OK    ERROR  skipped
palomino3Windows Server 2022 Datacenter / x64  OK    ERROR  skippedskipped
merida1macOS 10.14.6 Mojave / x86_64  OK    ERROR  skippedskipped
Package 77/455HostnameOS / ArchINSTALLBUILDCHECKBUILD BIN
ChIPXpress 1.43.0  (landing page)
George Wu
git_last_commit: b0d6641
git_last_commit_date: 2022-11-01 11:07:14 -0500
nebbiolo1Linux (Ubuntu 22.04.1 LTS) / x86_64  OK    OK    OK  UNNEEDED, same version is already published
palomino3Windows Server 2022 Datacenter / x64... NOT SUPPORTED ...
merida1macOS 10.14.6 Mojave / x86_64  OK    OK    OK    OK  UNNEEDED, same version is already published
Package 78/455HostnameOS / ArchINSTALLBUILDCHECKBUILD BIN
ChromHeatMap 1.53.0  (landing page)
Tim F. Rayner
git_last_commit: 5ae921b
git_last_commit_date: 2022-11-01 11:04:42 -0500
nebbiolo1Linux (Ubuntu 22.04.1 LTS) / x86_64  OK    OK    OK  UNNEEDED, same version is already published
palomino3Windows Server 2022 Datacenter / x64  OK    OK    OK    OK  NO, package depends on 'rtracklayer' which is not available
merida1macOS 10.14.6 Mojave / x86_64  OK    OK    OK    OK  NO, package depends on 'rtracklayer' which is not available
Package 79/455HostnameOS / ArchINSTALLBUILDCHECKBUILD BIN
chromswitch 1.21.0  (landing page)
Selin Jessa
git_last_commit: 3fb32d9
git_last_commit_date: 2022-11-01 11:16:44 -0500
nebbiolo1Linux (Ubuntu 22.04.1 LTS) / x86_64  OK    OK    OK  UNNEEDED, same version is already published
palomino3Windows Server 2022 Datacenter / x64  OK    OK    OK    OK  NO, package depends on 'GenomicRanges' which is not available
merida1macOS 10.14.6 Mojave / x86_64  OK    OK    OK    OK  NO, package depends on 'BiocParallel' which is not available
Package 80/455HostnameOS / ArchINSTALLBUILDCHECKBUILD BIN
cicero 1.17.0  (landing page)
Hannah Pliner
git_last_commit: 43938c5
git_last_commit_date: 2022-11-01 11:18:33 -0500
nebbiolo1Linux (Ubuntu 22.04.1 LTS) / x86_64  OK    ERROR  skipped
palomino3Windows Server 2022 Datacenter / x64  OK    ERROR  skippedskipped
merida1macOS 10.14.6 Mojave / x86_64  OK    ERROR  skippedskipped
Package 81/455HostnameOS / ArchINSTALLBUILDCHECKBUILD BIN
clippda 1.49.0  (landing page)
Stephen Nyangoma
git_last_commit: 685a9b4
git_last_commit_date: 2022-11-01 11:04:36 -0500
nebbiolo1Linux (Ubuntu 22.04.1 LTS) / x86_64  OK    OK    OK  UNNEEDED, same version is already published
palomino3Windows Server 2022 Datacenter / x64  OK    OK    OK    OK  UNNEEDED, same version is already published
merida1macOS 10.14.6 Mojave / x86_64  OK    OK    OK    OK  UNNEEDED, same version is already published
Package 82/455HostnameOS / ArchINSTALLBUILDCHECKBUILD BIN
clipper 1.39.0  (landing page)
Paolo Martini
git_last_commit: d52d2e6
git_last_commit_date: 2022-11-01 11:07:47 -0500
nebbiolo1Linux (Ubuntu 22.04.1 LTS) / x86_64  OK    OK    OK  UNNEEDED, same version is already published
palomino3Windows Server 2022 Datacenter / x64  OK    OK    OK    OK  NO, package depends on 'qpgraph' which is not available
merida1macOS 10.14.6 Mojave / x86_64  OK    OK    OK    OK  NO, package depends on 'qpgraph' which is not available
Package 83/455HostnameOS / ArchINSTALLBUILDCHECKBUILD BIN
CluMSID 1.15.0  (landing page)
Tobias Depke
git_last_commit: fa7f0d8
git_last_commit_date: 2022-11-01 11:19:03 -0500
nebbiolo1Linux (Ubuntu 22.04.1 LTS) / x86_64  OK    OK    WARNINGS  UNNEEDED, same version is already published
palomino3Windows Server 2022 Datacenter / x64  OK    OK    WARNINGS    OK  UNNEEDED, same version is already published
merida1macOS 10.14.6 Mojave / x86_64  OK    OK    WARNINGS    OK  NO, package depends on 'MSnbase' which is not available
Package 84/455HostnameOS / ArchINSTALLBUILDCHECKBUILD BIN
clusterStab 1.71.0  (landing page)
James W. MacDonald
git_last_commit: 5ebe600
git_last_commit_date: 2022-11-01 10:39:36 -0500
nebbiolo1Linux (Ubuntu 22.04.1 LTS) / x86_64  OK    OK    OK  UNNEEDED, same version is already published
palomino3Windows Server 2022 Datacenter / x64  OK    OK    OK    OK  UNNEEDED, same version is already published
merida1macOS 10.14.6 Mojave / x86_64  OK    OK    OK    OK  UNNEEDED, same version is already published
Package 85/455HostnameOS / ArchINSTALLBUILDCHECKBUILD BIN
CMA 1.57.0  (landing page)
Roman Hornung
git_last_commit: 1c93665
git_last_commit_date: 2022-11-01 11:03:54 -0500
nebbiolo1Linux (Ubuntu 22.04.1 LTS) / x86_64  OK    OK    OK  UNNEEDED, same version is already published
palomino3Windows Server 2022 Datacenter / x64  OK    OK    OK    OK  UNNEEDED, same version is already published
merida1macOS 10.14.6 Mojave / x86_64  OK    OK    OK    OK  UNNEEDED, same version is already published
Package 86/455HostnameOS / ArchINSTALLBUILDCHECKBUILD BIN
cn.farms 1.47.0  (landing page)
Andreas Mitterecker
git_last_commit: dd9db3b
git_last_commit_date: 2022-11-01 11:05:44 -0500
nebbiolo1Linux (Ubuntu 22.04.1 LTS) / x86_64  OK    OK    OK  UNNEEDED, same version is already published
palomino3Windows Server 2022 Datacenter / x64  OK    OK    OK    OK  NO, package depends on 'oligoClasses' which is not available
merida1macOS 10.14.6 Mojave / x86_64  OK    OK    OK    OK  UNNEEDED, same version is already published
Package 87/455HostnameOS / ArchINSTALLBUILDCHECKBUILD BIN
cn.mops 1.45.0  (landing page)
Gundula Povysil
git_last_commit: 0617906
git_last_commit_date: 2022-11-01 11:06:31 -0500
nebbiolo1Linux (Ubuntu 22.04.1 LTS) / x86_64  OK    OK    OK  UNNEEDED, same version is already published
palomino3Windows Server 2022 Datacenter / x64  OK    OK    OK    OK  NO, package depends on 'GenomicRanges' which is not available
merida1macOS 10.14.6 Mojave / x86_64  OK    OK    OK    OK  NO, package depends on 'Rsamtools' which is not available
Package 88/455HostnameOS / ArchINSTALLBUILDCHECKBUILD BIN
COCOA 2.13.0  (landing page)
John Lawson
git_last_commit: 4d95582
git_last_commit_date: 2022-11-01 11:18:44 -0500
nebbiolo1Linux (Ubuntu 22.04.1 LTS) / x86_64  OK    OK    OK  UNNEEDED, same version is already published
palomino3Windows Server 2022 Datacenter / x64  OK    OK    OK    OK  NO, package depends on 'GenomicRanges' which is not available
merida1macOS 10.14.6 Mojave / x86_64  OK    OK    OK    OK  NO, package depends on 'MIRA' which is not available
Package 89/455HostnameOS / ArchINSTALLBUILDCHECKBUILD BIN
codelink 1.67.0  (landing page)
Diego Diez
git_last_commit: 9631167
git_last_commit_date: 2022-11-01 10:40:29 -0500
nebbiolo1Linux (Ubuntu 22.04.1 LTS) / x86_64  OK    OK    OK  UNNEEDED, same version is already published
palomino3Windows Server 2022 Datacenter / x64  OK    OK    OK    OK  UNNEEDED, same version is already published
merida1macOS 10.14.6 Mojave / x86_64  OK    OK    OK    OK  UNNEEDED, same version is already published
Package 90/455HostnameOS / ArchINSTALLBUILDCHECKBUILD BIN
cogena 1.33.0  (landing page)
Zhilong Jia
git_last_commit: 9e17657
git_last_commit_date: 2022-11-01 11:11:29 -0500
nebbiolo1Linux (Ubuntu 22.04.1 LTS) / x86_64  OK    OK    WARNINGS  UNNEEDED, same version is already published
palomino3Windows Server 2022 Datacenter / x64  OK    OK    WARNINGS    OK  UNNEEDED, same version is already published
merida1macOS 10.14.6 Mojave / x86_64  OK    OK    WARNINGS    OK  UNNEEDED, same version is already published
Package 91/455HostnameOS / ArchINSTALLBUILDCHECKBUILD BIN
combi 1.11.0  (landing page)
Stijn Hawinkel
git_last_commit: 4650659
git_last_commit_date: 2022-11-01 11:21:37 -0500
nebbiolo1Linux (Ubuntu 22.04.1 LTS) / x86_64  OK    OK    OK  UNNEEDED, same version is already published
palomino3Windows Server 2022 Datacenter / x64  OK    OK    OK    OK  NO, package depends on 'SummarizedExperiment' which is not available
merida1macOS 10.14.6 Mojave / x86_64  OK    OK    OK    OK  UNNEEDED, same version is already published
Package 92/455HostnameOS / ArchINSTALLBUILDCHECKBUILD BIN
CompoundDb 1.3.1  (landing page)
Johannes Rainer
git_last_commit: 268b890
git_last_commit_date: 2022-11-23 10:09:22 -0500
nebbiolo1Linux (Ubuntu 22.04.1 LTS) / x86_64  OK    OK    OK  UNNEEDED, same version is already published
palomino3Windows Server 2022 Datacenter / x64  OK    OK    OK    OK  NO, package depends on 'AnnotationFilter' which is not available
merida1macOS 10.14.6 Mojave / x86_64  OK    OK    OK    OK  NO, package depends on 'Spectra' which is not available
Package 93/455HostnameOS / ArchINSTALLBUILDCHECKBUILD BIN
ConsensusClusterPlus 1.63.0  (landing page)
Matt Wilkerson
git_last_commit: 6ad5d88
git_last_commit_date: 2022-11-01 11:04:50 -0500
nebbiolo1Linux (Ubuntu 22.04.1 LTS) / x86_64  OK    OK    OK  UNNEEDED, same version is already published
palomino3Windows Server 2022 Datacenter / x64  OK    OK    OK    OK  UNNEEDED, same version is already published
merida1macOS 10.14.6 Mojave / x86_64  OK    OK    OK    OK  UNNEEDED, same version is already published
Package 94/455HostnameOS / ArchINSTALLBUILDCHECKBUILD BIN
consensusDE 1.17.0  (landing page)
Ashley J. Waardenberg
git_last_commit: 9aa0244
git_last_commit_date: 2022-11-01 11:18:46 -0500
nebbiolo1Linux (Ubuntu 22.04.1 LTS) / x86_64  OK    OK    OK  UNNEEDED, same version is already published
palomino3Windows Server 2022 Datacenter / x64  OK    OK    OK    OK  NO, package depends on 'DESeq2' which is not available
merida1macOS 10.14.6 Mojave / x86_64  OK    OK    OK    OK  NO, package depends on 'BiocParallel' which is not available
Package 95/455HostnameOS / ArchINSTALLBUILDCHECKBUILD BIN
consensusOV 1.21.0  (landing page)
Benjamin Haibe-Kains
git_last_commit: fe97b4b
git_last_commit_date: 2022-11-01 11:15:57 -0500
nebbiolo1Linux (Ubuntu 22.04.1 LTS) / x86_64  OK    OK    OK  UNNEEDED, same version is already published
palomino3Windows Server 2022 Datacenter / x64  OK    OK    OK    OK  NO, package depends on 'GSVA' which is not available
merida1macOS 10.14.6 Mojave / x86_64  OK    OK    OK    OK  NO, package depends on 'GSVA' which is not available
Package 96/455HostnameOS / ArchINSTALLBUILDCHECKBUILD BIN
convert 1.75.0  (landing page)
Yee Hwa (Jean) Yang
git_last_commit: bdd9c4f
git_last_commit_date: 2022-11-01 10:37:15 -0500
nebbiolo1Linux (Ubuntu 22.04.1 LTS) / x86_64  OK    OK    OK  UNNEEDED, same version is already published
palomino3Windows Server 2022 Datacenter / x64  OK    OK    OK    OK  UNNEEDED, same version is already published
merida1macOS 10.14.6 Mojave / x86_64  OK    OK    OK    OK  UNNEEDED, same version is already published
Package 97/455HostnameOS / ArchINSTALLBUILDCHECKBUILD BIN
copa 1.67.0  (landing page)
James W. MacDonald
git_last_commit: 1e7d8af
git_last_commit_date: 2022-11-01 10:40:51 -0500
nebbiolo1Linux (Ubuntu 22.04.1 LTS) / x86_64  OK    OK    OK  UNNEEDED, same version is already published
palomino3Windows Server 2022 Datacenter / x64  OK    OK    OK    OK  UNNEEDED, same version is already published
merida1macOS 10.14.6 Mojave / x86_64  OK    OK    OK    OK  UNNEEDED, same version is already published
Package 98/455HostnameOS / ArchINSTALLBUILDCHECKBUILD BIN
coRdon 1.17.0  (landing page)
Anamaria Elek
git_last_commit: d15b48b
git_last_commit_date: 2022-11-01 11:18:11 -0500
nebbiolo1Linux (Ubuntu 22.04.1 LTS) / x86_64  OK    OK    OK  UNNEEDED, same version is already published
palomino3Windows Server 2022 Datacenter / x64  OK    OK    OK    OK  UNNEEDED, same version is already published
merida1macOS 10.14.6 Mojave / x86_64  OK    OK    OK    OK  UNNEEDED, same version is already published
Package 99/455HostnameOS / ArchINSTALLBUILDCHECKBUILD BIN
CoreGx 2.3.0  (landing page)
Benjamin Haibe-Kains
git_last_commit: 0f3b984
git_last_commit_date: 2022-11-01 11:22:04 -0500
nebbiolo1Linux (Ubuntu 22.04.1 LTS) / x86_64  OK    OK    OK  UNNEEDED, same version is already published
palomino3Windows Server 2022 Datacenter / x64  OK    OK    OK    OK  NO, package depends on 'SummarizedExperiment' which is not available
merida1macOS 10.14.6 Mojave / x86_64  OK    OK    OK    OK  NO, package depends on 'piano' which is not available
Package 100/455HostnameOS / ArchINSTALLBUILDCHECKBUILD BIN
covEB 1.25.0  (landing page)
C. Pacini
git_last_commit: 707b1b4
git_last_commit_date: 2022-11-01 11:13:51 -0500
nebbiolo1Linux (Ubuntu 22.04.1 LTS) / x86_64  OK    OK    OK  UNNEEDED, same version is already published
palomino3Windows Server 2022 Datacenter / x64  OK    OK    OK    OK  UNNEEDED, same version is already published
merida1macOS 10.14.6 Mojave / x86_64  OK    OK    OK    OK  UNNEEDED, same version is already published
Package 101/455HostnameOS / ArchINSTALLBUILDCHECKBUILD BIN
covRNA 1.25.0  (landing page)
Lara Urban
git_last_commit: cf61a80
git_last_commit_date: 2022-11-01 11:13:44 -0500
nebbiolo1Linux (Ubuntu 22.04.1 LTS) / x86_64  OK    OK    OK  UNNEEDED, same version is already published
palomino3Windows Server 2022 Datacenter / x64  OK    OK    OK    OK  UNNEEDED, same version is already published
merida1macOS 10.14.6 Mojave / x86_64  OK    OK    OK    OK  UNNEEDED, same version is already published
Package 102/455HostnameOS / ArchINSTALLBUILDCHECKBUILD BIN
crlmm 1.57.0  (landing page)
Benilton S Carvalho
git_last_commit: 5bac5c8
git_last_commit_date: 2022-11-01 11:04:22 -0500
nebbiolo1Linux (Ubuntu 22.04.1 LTS) / x86_64  OK    OK    WARNINGS  UNNEEDED, same version is already published
palomino3Windows Server 2022 Datacenter / x64  OK    OK    WARNINGS    OK  NO, package depends on 'oligoClasses' which is not available
merida1macOS 10.14.6 Mojave / x86_64  OK    OK    WARNINGS    OK  UNNEEDED, same version is already published
Package 103/455HostnameOS / ArchINSTALLBUILDCHECKBUILD BIN
crossmeta 1.25.0  (landing page)
Alex Pickering
git_last_commit: 4dfee66
git_last_commit_date: 2022-11-01 11:13:53 -0500
nebbiolo1Linux (Ubuntu 22.04.1 LTS) / x86_64  OK    OK    OK  UNNEEDED, same version is already published
palomino3Windows Server 2022 Datacenter / x64  OK    OK    OK    OK  NO, package depends on 'oligo' which is not available
merida1macOS 10.14.6 Mojave / x86_64  OK    OK    OK    OK  NO, package depends on 'sva' which is not available
Package 104/455HostnameOS / ArchINSTALLBUILDCHECKBUILD BIN
cummeRbund 2.41.0  (landing page)
Loyal A. Goff
git_last_commit: 003aab7
git_last_commit_date: 2022-11-01 11:06:20 -0500
nebbiolo1Linux (Ubuntu 22.04.1 LTS) / x86_64  OK    OK    WARNINGS  UNNEEDED, same version is already published
palomino3Windows Server 2022 Datacenter / x64  OK    OK    WARNINGS    OK  NO, package depends on 'rtracklayer' which is not available
merida1macOS 10.14.6 Mojave / x86_64  OK    OK    WARNINGS    OK  NO, package depends on 'rtracklayer' which is not available
Package 105/455HostnameOS / ArchINSTALLBUILDCHECKBUILD BIN
cyanoFilter 1.7.0  (landing page)
Oluwafemi Olusoji
git_last_commit: 7ce515b
git_last_commit_date: 2022-11-01 11:24:33 -0500
nebbiolo1Linux (Ubuntu 22.04.1 LTS) / x86_64  OK    OK    OK  UNNEEDED, same version is already published
palomino3Windows Server 2022 Datacenter / x64  OK    OK    OK    OK  UNNEEDED, same version is already published
merida1macOS 10.14.6 Mojave / x86_64  OK    OK    OK    OK  NO, package depends on 'flowDensity' which is not available
Package 106/455HostnameOS / ArchINSTALLBUILDCHECKBUILD BIN
cycle 1.53.0  (landing page)
Matthias Futschik
git_last_commit: 35cea2b
git_last_commit_date: 2022-11-01 11:04:41 -0500
nebbiolo1Linux (Ubuntu 22.04.1 LTS) / x86_64  OK    OK    OK  UNNEEDED, same version is already published
palomino3Windows Server 2022 Datacenter / x64  OK    OK    OK    OK  UNNEEDED, same version is already published
merida1macOS 10.14.6 Mojave / x86_64  OK    OK    OK    OK  UNNEEDED, same version is already published
Package 107/455HostnameOS / ArchINSTALLBUILDCHECKBUILD BIN
cydar 1.23.0  (landing page)
Aaron Lun
git_last_commit: e4de328
git_last_commit_date: 2022-11-01 11:15:23 -0500
nebbiolo1Linux (Ubuntu 22.04.1 LTS) / x86_64  OK    OK    OK  UNNEEDED, same version is already published
palomino3Windows Server 2022 Datacenter / x64  OK    OK    OK    OK  NO, package depends on 'SingleCellExperiment' which is not available
merida1macOS 10.14.6 Mojave / x86_64  OK    OK    OK    OK  NO, package depends on 'BiocParallel' which is not available
Package 108/455HostnameOS / ArchINSTALLBUILDCHECKBUILD BIN
CytoML 2.11.0  (landing page)
Mike Jiang
git_last_commit: c252d18
git_last_commit_date: 2022-11-01 11:14:00 -0500
nebbiolo1Linux (Ubuntu 22.04.1 LTS) / x86_64  OK    OK    WARNINGS  UNNEEDED, same version is already published
palomino3Windows Server 2022 Datacenter / x64  OK    OK    WARNINGS    OK  UNNEEDED, same version is already published
merida1macOS 10.14.6 Mojave / x86_64  OK    OK    WARNINGS    OK  NO, package depends on 'flowWorkspace' which is not available
Package 109/455HostnameOS / ArchINSTALLBUILDCHECKBUILD BIN
DAPAR 1.31.0  (landing page)
Samuel Wieczorek
git_last_commit: ccd817d
git_last_commit_date: 2022-11-01 11:12:16 -0500
nebbiolo1Linux (Ubuntu 22.04.1 LTS) / x86_64  OK    OK    OK  UNNEEDED, same version is already published
palomino3Windows Server 2022 Datacenter / x64  OK    OK    OK    OK  UNNEEDED, same version is already published
merida1macOS 10.14.6 Mojave / x86_64  OK    OK    OK    OK  NO, package depends on 'MSnbase' which is not available
Package 110/455HostnameOS / ArchINSTALLBUILDCHECKBUILD BIN
ddCt 1.55.0  (landing page)
Jitao David Zhang
git_last_commit: 6cdeda4
git_last_commit_date: 2022-11-01 11:04:33 -0500
nebbiolo1Linux (Ubuntu 22.04.1 LTS) / x86_64  OK    ERROR  skipped
palomino3Windows Server 2022 Datacenter / x64  OK    ERROR  skippedskipped
merida1macOS 10.14.6 Mojave / x86_64  OK    ERROR  skippedskipped
Package 111/455HostnameOS / ArchINSTALLBUILDCHECKBUILD BIN
debCAM 1.17.0  (landing page)
Lulu Chen
git_last_commit: 506665a
git_last_commit_date: 2022-11-01 11:20:31 -0500
nebbiolo1Linux (Ubuntu 22.04.1 LTS) / x86_64  OK    OK    OK  UNNEEDED, same version is already published
palomino3Windows Server 2022 Datacenter / x64  OK    OK    OK    OK  NO, package depends on 'SummarizedExperiment' which is not available
merida1macOS 10.14.6 Mojave / x86_64  OK    OK    OK    OK  NO, package depends on 'BiocParallel' which is not available
Package 112/455HostnameOS / ArchINSTALLBUILDCHECKBUILD BIN
deco 1.15.0  (landing page)
Francisco Jose Campos Laborie
git_last_commit: c90c294
git_last_commit_date: 2022-11-01 11:19:01 -0500
nebbiolo1Linux (Ubuntu 22.04.1 LTS) / x86_64  OK    ERROR  skipped
palomino3Windows Server 2022 Datacenter / x64  OK    ERROR  skippedskipped
merida1macOS 10.14.6 Mojave / x86_64  OK    ERROR  skippedskipped
Package 113/455HostnameOS / ArchINSTALLBUILDCHECKBUILD BIN
DEGreport 1.35.0  (landing page)
Lorena Pantano
git_last_commit: 23d1855
git_last_commit_date: 2022-11-01 11:09:50 -0500
nebbiolo1Linux (Ubuntu 22.04.1 LTS) / x86_64  OK    OK    WARNINGS  UNNEEDED, same version is already published
palomino3Windows Server 2022 Datacenter / x64  OK    OK    WARNINGS    OK  NO, package depends on 'DESeq2' which is not available
merida1macOS 10.14.6 Mojave / x86_64  OK    OK    WARNINGS    OK  NO, package depends on 'DESeq2' which is not available
Package 114/455HostnameOS / ArchINSTALLBUILDCHECKBUILD BIN
DESeq2 1.39.3  (landing page)
Michael Love
git_last_commit: 98d2ab7
git_last_commit_date: 2022-11-23 09:08:41 -0500
nebbiolo1Linux (Ubuntu 22.04.1 LTS) / x86_64  OK    OK    OK  UNNEEDED, same version is already published
palomino3Windows Server 2022 Datacenter / x64  OK    OK    OK    OK  NO, package depends on 'GenomicRanges' which is not available
merida1macOS 10.14.6 Mojave / x86_64  OK    OK    OK    OK  NO, package depends on 'BiocParallel' which is not available
Package 115/455HostnameOS / ArchINSTALLBUILDCHECKBUILD BIN
destiny 3.13.0  (landing page)
Philipp Angerer
git_last_commit: 2054a20
git_last_commit_date: 2022-11-01 11:26:22 -0500
nebbiolo1Linux (Ubuntu 22.04.1 LTS) / x86_64  OK    OK    OK  UNNEEDED, same version is already published
palomino3Windows Server 2022 Datacenter / x64  OK    OK    OK    OK  NO, package depends on 'SummarizedExperiment' which is not available
merida1macOS 10.14.6 Mojave / x86_64  OK    OK    OK    OK  UNNEEDED, same version is already published
Package 116/455HostnameOS / ArchINSTALLBUILDCHECKBUILD BIN
DExMA 1.7.0  (landing page)
Juan Antonio Villatoro-García
git_last_commit: 52d3b1a
git_last_commit_date: 2022-11-01 11:24:52 -0500
nebbiolo1Linux (Ubuntu 22.04.1 LTS) / x86_64  OK    OK    OK  UNNEEDED, same version is already published
palomino3Windows Server 2022 Datacenter / x64  OK    OK    OK    OK  UNNEEDED, same version is already published
merida1macOS 10.14.6 Mojave / x86_64  OK    OK    OK    OK  NO, package depends on 'sva' which is not available
Package 117/455HostnameOS / ArchINSTALLBUILDCHECKBUILD BIN
DEXSeq 1.45.0  (landing page)
Alejandro Reyes
git_last_commit: e996738
git_last_commit_date: 2022-11-01 11:05:59 -0500
nebbiolo1Linux (Ubuntu 22.04.1 LTS) / x86_64  OK    OK    OK  UNNEEDED, same version is already published
palomino3Windows Server 2022 Datacenter / x64  OK    OK    OK    OK  NO, package depends on 'SummarizedExperiment' which is not available
merida1macOS 10.14.6 Mojave / x86_64  OK    OK    OK    OK  NO, package depends on 'BiocParallel' which is not available
Package 118/455HostnameOS / ArchINSTALLBUILDCHECKBUILD BIN
DFP 1.57.0  (landing page)
Rodrigo Alvarez-Glez
git_last_commit: b616982
git_last_commit_date: 2022-11-01 11:04:01 -0500
nebbiolo1Linux (Ubuntu 22.04.1 LTS) / x86_64  OK    ERROR  skipped
palomino3Windows Server 2022 Datacenter / x64  OK    ERROR  skippedskipped
merida1macOS 10.14.6 Mojave / x86_64  OK    ERROR  skippedskipped
Package 119/455HostnameOS / ArchINSTALLBUILDCHECKBUILD BIN
diggit 1.31.0  (landing page)
Mariano J Alvarez
git_last_commit: ff03f1b
git_last_commit_date: 2022-11-01 11:11:14 -0500
nebbiolo1Linux (Ubuntu 22.04.1 LTS) / x86_64  OK    OK    WARNINGS  UNNEEDED, same version is already published
palomino3Windows Server 2022 Datacenter / x64  OK    OK    WARNINGS    OK  UNNEEDED, same version is already published
merida1macOS 10.14.6 Mojave / x86_64  OK    OK    WARNINGS    OK  UNNEEDED, same version is already published
Package 120/455HostnameOS / ArchINSTALLBUILDCHECKBUILD BIN
discordant 1.23.0  (landing page)
McGrath Max
git_last_commit: 58b9251
git_last_commit_date: 2022-11-01 11:15:08 -0500
nebbiolo1Linux (Ubuntu 22.04.1 LTS) / x86_64  OK    OK    OK  UNNEEDED, same version is already published
palomino3Windows Server 2022 Datacenter / x64  OK    OK    OK    OK  UNNEEDED, same version is already published
merida1macOS 10.14.6 Mojave / x86_64  OK    OK    OK    OK  UNNEEDED, same version is already published
Package 121/455HostnameOS / ArchINSTALLBUILDCHECKBUILD BIN
doppelgangR 1.27.0  (landing page)
Levi Waldron
git_last_commit: 32a1bf5
git_last_commit_date: 2022-11-01 11:13:08 -0500
nebbiolo1Linux (Ubuntu 22.04.1 LTS) / x86_64  OK    OK    OK  UNNEEDED, same version is already published
palomino3Windows Server 2022 Datacenter / x64  OK    OK    OK    OK  NO, package depends on 'SummarizedExperiment' which is not available
merida1macOS 10.14.6 Mojave / x86_64  OK    OK    OK    OK  NO, package depends on 'BiocParallel' which is not available
Package 122/455HostnameOS / ArchINSTALLBUILDCHECKBUILD BIN
DSS 2.47.0  (landing page)
Hao Wu , Hao Feng
git_last_commit: a4297f5
git_last_commit_date: 2022-11-01 11:07:05 -0500
nebbiolo1Linux (Ubuntu 22.04.1 LTS) / x86_64  OK    OK    WARNINGS  UNNEEDED, same version is already published
palomino3Windows Server 2022 Datacenter / x64  OK    OK    WARNINGS    OK  NO, package depends on 'bsseq' which is not available
merida1macOS 10.14.6 Mojave / x86_64  OK    OK    WARNINGS    OK  NO, package depends on 'BiocParallel' which is not available
Package 123/455HostnameOS / ArchINSTALLBUILDCHECKBUILD BIN
dyebias 1.59.0  (landing page)
Philip Lijnzaad
git_last_commit: ff20f86
git_last_commit_date: 2022-11-01 11:04:23 -0500
nebbiolo1Linux (Ubuntu 22.04.1 LTS) / x86_64  OK    ERROR  skipped
palomino3Windows Server 2022 Datacenter / x64  OK    ERROR  skippedskipped
merida1macOS 10.14.6 Mojave / x86_64  OK    ERROR  skippedskipped
Package 124/455HostnameOS / ArchINSTALLBUILDCHECKBUILD BIN
easyRNASeq 2.35.0  (landing page)
Nicolas Delhomme
git_last_commit: 04012c4
git_last_commit_date: 2022-11-01 11:06:37 -0500
nebbiolo1Linux (Ubuntu 22.04.1 LTS) / x86_64  OK    OK    OK  UNNEEDED, same version is already published
palomino3Windows Server 2022 Datacenter / x64  OK    OK    OK    OK  NO, package depends on 'genomeIntervals' which is not available
merida1macOS 10.14.6 Mojave / x86_64  OK    OK    OK    OK  NO, package depends on 'BiocParallel' which is not available
Package 125/455HostnameOS / ArchINSTALLBUILDCHECKBUILD BIN
EBarrays 2.63.0  (landing page)
Ming Yuan
git_last_commit: cfbd00e
git_last_commit_date: 2022-11-01 10:36:49 -0500
nebbiolo1Linux (Ubuntu 22.04.1 LTS) / x86_64  OK    OK    OK  UNNEEDED, same version is already published
palomino3Windows Server 2022 Datacenter / x64  OK    OK    OK    OK  UNNEEDED, same version is already published
merida1macOS 10.14.6 Mojave / x86_64  OK    OK    OK    OK  UNNEEDED, same version is already published
Package 126/455HostnameOS / ArchINSTALLBUILDCHECKBUILD BIN
ecolitk 1.71.0  (landing page)
Laurent Gautier
git_last_commit: 598b0f6
git_last_commit_date: 2022-11-01 10:36:17 -0500
nebbiolo1Linux (Ubuntu 22.04.1 LTS) / x86_64  OK    OK    WARNINGS  UNNEEDED, same version is already published
palomino3Windows Server 2022 Datacenter / x64  OK    OK    WARNINGS    OK  UNNEEDED, same version is already published
merida1macOS 10.14.6 Mojave / x86_64  OK    OK    WARNINGS    OK  UNNEEDED, same version is already published
Package 127/455HostnameOS / ArchINSTALLBUILDCHECKBUILD BIN
EDASeq 2.33.0  (landing page)
Davide Risso
git_last_commit: 04a9ebb
git_last_commit_date: 2022-11-01 11:06:16 -0500
nebbiolo1Linux (Ubuntu 22.04.1 LTS) / x86_64  OK    OK    OK  UNNEEDED, same version is already published
palomino3Windows Server 2022 Datacenter / x64  OK    OK    OK    OK  NO, package depends on 'ShortRead' which is not available
merida1macOS 10.14.6 Mojave / x86_64  OK    OK    OK    OK  NO, package depends on 'ShortRead' which is not available
Package 128/455HostnameOS / ArchINSTALLBUILDCHECKBUILD BIN
edge 2.31.0  (landing page)
John D. Storey , Andrew J. Bass
git_last_commit: b84958c
git_last_commit_date: 2022-11-20 15:30:22 -0500
nebbiolo1Linux (Ubuntu 22.04.1 LTS) / x86_64  OK    OK    WARNINGS  UNNEEDED, same version is already published
palomino3Windows Server 2022 Datacenter / x64  OK    OK    WARNINGS    OK  UNNEEDED, same version is already published
merida1macOS 10.14.6 Mojave / x86_64  OK    OK    WARNINGS    OK  NO, package depends on 'sva' which is not available
Package 129/455HostnameOS / ArchINSTALLBUILDCHECKBUILD BIN
EGAD 1.27.0  (landing page)
Sara Ballouz
git_last_commit: f8f40c3
git_last_commit_date: 2022-11-01 11:13:42 -0500
nebbiolo1Linux (Ubuntu 22.04.1 LTS) / x86_64  OK    OK    WARNINGS  UNNEEDED, same version is already published
palomino3Windows Server 2022 Datacenter / x64  OK    OK    WARNINGS    OK  UNNEEDED, same version is already published
merida1macOS 10.14.6 Mojave / x86_64  OK    OK    WARNINGS    OK  UNNEEDED, same version is already published
Package 130/455HostnameOS / ArchINSTALLBUILDCHECKBUILD BIN
EGSEA 1.27.0  (landing page)
Monther Alhamdoosh
git_last_commit: c4ecf8d
git_last_commit_date: 2022-11-01 11:13:40 -0500
nebbiolo1Linux (Ubuntu 22.04.1 LTS) / x86_64  OK    OK    WARNINGS  UNNEEDED, same version is already published
palomino3Windows Server 2022 Datacenter / x64  OK    OK    WARNINGS    OK  NO, package depends on 'GSVA' which is not available
merida1macOS 10.14.6 Mojave / x86_64  ERROR    ERROR  skippedskipped
Package 131/455HostnameOS / ArchINSTALLBUILDCHECKBUILD BIN
ENmix 1.35.0  (landing page)
Zongli Xu
git_last_commit: 83ead9d
git_last_commit_date: 2022-11-01 11:11:34 -0500
nebbiolo1Linux (Ubuntu 22.04.1 LTS) / x86_64  OK    ERROR  skipped
palomino3Windows Server 2022 Datacenter / x64  OK    ERROR  skippedskipped
merida1macOS 10.14.6 Mojave / x86_64  OK    ERROR  skippedskipped
Package 132/455HostnameOS / ArchINSTALLBUILDCHECKBUILD BIN
ensembldb 2.23.1  (landing page)
Johannes Rainer
git_last_commit: 8995853
git_last_commit_date: 2022-11-09 05:50:04 -0500
nebbiolo1Linux (Ubuntu 22.04.1 LTS) / x86_64  OK    OK    OK  UNNEEDED, same version is already published
palomino3Windows Server 2022 Datacenter / x64  OK    OK    OK    OK  NO, package depends on 'GenomicRanges' which is not available
merida1macOS 10.14.6 Mojave / x86_64  OK    OK    OK    OK  NO, package depends on 'GenomicFeatures' which is not available
Package 133/455HostnameOS / ArchINSTALLBUILDCHECKBUILD BIN
epigenomix 1.39.0  (landing page)
Hans-Ulrich Klein
git_last_commit: 9187ade
git_last_commit_date: 2022-11-01 11:07:58 -0500
nebbiolo1Linux (Ubuntu 22.04.1 LTS) / x86_64  OK    OK    OK  UNNEEDED, same version is already published
palomino3Windows Server 2022 Datacenter / x64  OK    OK    OK    OK  NO, package depends on 'GenomicRanges' which is not available
merida1macOS 10.14.6 Mojave / x86_64  OK    OK    OK    OK  NO, package depends on 'Rsamtools' which is not available
Package 134/455HostnameOS / ArchINSTALLBUILDCHECKBUILD BIN
EpiMix 1.1.0  (landing page)
Yuanning Zheng
git_last_commit: 182edea
git_last_commit_date: 2022-11-01 11:27:17 -0500
nebbiolo1Linux (Ubuntu 22.04.1 LTS) / x86_64  OK    ERROR  skipped
palomino3Windows Server 2022 Datacenter / x64  OK    ERROR  skippedskipped
merida1macOS 10.14.6 Mojave / x86_64  OK    ERROR  skippedskipped
Package 135/455HostnameOS / ArchINSTALLBUILDCHECKBUILD BIN
epivizrData 1.27.0  (landing page)
Hector Corrada Bravo
git_last_commit: 4065423
git_last_commit_date: 2022-11-01 11:13:39 -0500
nebbiolo1Linux (Ubuntu 22.04.1 LTS) / x86_64  OK    OK    OK  UNNEEDED, same version is already published
palomino3Windows Server 2022 Datacenter / x64  OK    OK    OK    OK  NO, package depends on 'GenomicRanges' which is not available
merida1macOS 10.14.6 Mojave / x86_64  OK    OK    OK    OK  NO, package depends on 'OrganismDbi' which is not available
Package 136/455HostnameOS / ArchINSTALLBUILDCHECKBUILD BIN
erma 1.15.0  (landing page)
VJ Carey
git_last_commit: ed3b144
git_last_commit_date: 2022-11-01 11:11:49 -0500
nebbiolo1Linux (Ubuntu 22.04.1 LTS) / x86_64  OK    OK    OK  UNNEEDED, same version is already published
palomino3Windows Server 2022 Datacenter / x64  OK    OK    OK    OK  NO, package depends on 'GenomicFiles' which is not available
merida1macOS 10.14.6 Mojave / x86_64  OK    OK    OK    OK  NO, package depends on 'GenomicFiles' which is not available
Package 137/455HostnameOS / ArchINSTALLBUILDCHECKBUILD BIN
esetVis 1.25.0  (landing page)
Laure Cougnaud
git_last_commit: e7ebb2d
git_last_commit_date: 2022-11-01 11:13:55 -0500
nebbiolo1Linux (Ubuntu 22.04.1 LTS) / x86_64  OK    OK    OK  UNNEEDED, same version is already published
palomino3Windows Server 2022 Datacenter / x64  OK    OK    OK    OK  UNNEEDED, same version is already published
merida1macOS 10.14.6 Mojave / x86_64  OK    OK    OK    OK  UNNEEDED, same version is already published
Package 138/455HostnameOS / ArchINSTALLBUILDCHECKBUILD BIN
ExiMiR 2.41.0  (landing page)
Sylvain Gubian
git_last_commit: 864d5e2
git_last_commit_date: 2022-11-01 11:05:33 -0500
nebbiolo1Linux (Ubuntu 22.04.1 LTS) / x86_64  OK    OK    OK  UNNEEDED, same version is already published
palomino3Windows Server 2022 Datacenter / x64  OK    OK    OK    OK  UNNEEDED, same version is already published
merida1macOS 10.14.6 Mojave / x86_64  OK    OK    OK    OK  UNNEEDED, same version is already published
Package 139/455HostnameOS / ArchINSTALLBUILDCHECKBUILD BIN
ExpressionAtlas 1.27.0  (landing page)
Pedro Madrigal
git_last_commit: de3051a
git_last_commit_date: 2022-11-01 11:12:57 -0500
nebbiolo1Linux (Ubuntu 22.04.1 LTS) / x86_64  OK    OK    OK  UNNEEDED, same version is already published
palomino3Windows Server 2022 Datacenter / x64  OK    OK    OK    OK  NO, package depends on 'SummarizedExperiment' which is not available
merida1macOS 10.14.6 Mojave / x86_64  OK    OK    OK    OK  UNNEEDED, same version is already published
Package 140/455HostnameOS / ArchINSTALLBUILDCHECKBUILD BIN
fabia 2.45.0  (landing page)
Andreas Mitterecker
git_last_commit: aff41ea
git_last_commit_date: 2022-11-01 11:05:08 -0500
nebbiolo1Linux (Ubuntu 22.04.1 LTS) / x86_64  OK    OK    WARNINGS  UNNEEDED, same version is already published
palomino3Windows Server 2022 Datacenter / x64  OK    OK    WARNINGS    OK  UNNEEDED, same version is already published
merida1macOS 10.14.6 Mojave / x86_64  OK    OK    WARNINGS    OK  UNNEEDED, same version is already published
Package 141/455HostnameOS / ArchINSTALLBUILDCHECKBUILD BIN
factDesign 1.75.0  (landing page)
Denise Scholtens
git_last_commit: 326aab9
git_last_commit_date: 2022-11-01 10:36:04 -0500
nebbiolo1Linux (Ubuntu 22.04.1 LTS) / x86_64  OK    OK    OK  UNNEEDED, same version is already published
palomino3Windows Server 2022 Datacenter / x64  OK    OK    OK    OK  UNNEEDED, same version is already published
merida1macOS 10.14.6 Mojave / x86_64  OK    OK    OK    OK  UNNEEDED, same version is already published
Package 142/455HostnameOS / ArchINSTALLBUILDCHECKBUILD BIN
farms 1.51.0  (landing page)
Djork-Arne Clevert
git_last_commit: 3a8d2c6
git_last_commit_date: 2022-11-01 11:05:15 -0500
nebbiolo1Linux (Ubuntu 22.04.1 LTS) / x86_64  OK    OK    OK  UNNEEDED, same version is already published
palomino3Windows Server 2022 Datacenter / x64  OK    OK    OK    OK  UNNEEDED, same version is already published
merida1macOS 10.14.6 Mojave / x86_64  OK    OK    OK    OK  UNNEEDED, same version is already published
Package 143/455HostnameOS / ArchINSTALLBUILDCHECKBUILD BIN
fastseg 1.45.0  (landing page)
Alexander Blume
git_last_commit: 1d51d68
git_last_commit_date: 2022-11-01 11:06:32 -0500
nebbiolo1Linux (Ubuntu 22.04.1 LTS) / x86_64  OK    OK    OK  UNNEEDED, same version is already published
palomino3Windows Server 2022 Datacenter / x64  OK    OK    OK    OK  NO, package depends on 'GenomicRanges' which is not available
merida1macOS 10.14.6 Mojave / x86_64  OK    OK    OK    OK  UNNEEDED, same version is already published
Package 144/455HostnameOS / ArchINSTALLBUILDCHECKBUILD BIN
ffpe 1.43.0  (landing page)
Levi Waldron
git_last_commit: 0136ce3
git_last_commit_date: 2022-11-01 11:06:45 -0500
nebbiolo1Linux (Ubuntu 22.04.1 LTS) / x86_64  OK    OK    OK  UNNEEDED, same version is already published
palomino3Windows Server 2022 Datacenter / x64  OK    OK    OK    OK  NO, package depends on 'lumi' which is not available
merida1macOS 10.14.6 Mojave / x86_64  OK    OK    OK    OK  NO, package depends on 'lumi' which is not available
Package 145/455HostnameOS / ArchINSTALLBUILDCHECKBUILD BIN
flowBeads 1.37.0  (landing page)
Nikolas Pontikos
git_last_commit: f22a3ab
git_last_commit_date: 2022-11-01 11:08:18 -0500
nebbiolo1Linux (Ubuntu 22.04.1 LTS) / x86_64  OK    OK    WARNINGS  UNNEEDED, same version is already published
palomino3Windows Server 2022 Datacenter / x64  OK    OK    WARNINGS    OK  UNNEEDED, same version is already published
merida1macOS 10.14.6 Mojave / x86_64  OK    OK    WARNINGS    OK  UNNEEDED, same version is already published
Package 146/455HostnameOS / ArchINSTALLBUILDCHECKBUILD BIN
flowClust 3.37.0  (landing page)
Greg Finak , Mike Jiang
git_last_commit: 97b31b3
git_last_commit_date: 2022-11-01 11:03:47 -0500
nebbiolo1Linux (Ubuntu 22.04.1 LTS) / x86_64  OK    OK    WARNINGS  UNNEEDED, same version is already published
palomino3Windows Server 2022 Datacenter / x64  OK    OK    WARNINGS    OK  UNNEEDED, same version is already published
merida1macOS 10.14.6 Mojave / x86_64  OK    OK    WARNINGS    OK  UNNEEDED, same version is already published
Package 147/455HostnameOS / ArchINSTALLBUILDCHECKBUILD BIN
flowCore 2.11.0  (landing page)
Mike Jiang
git_last_commit: 351ad59
git_last_commit_date: 2022-11-01 10:42:20 -0500
nebbiolo1Linux (Ubuntu 22.04.1 LTS) / x86_64  OK    OK    WARNINGS  UNNEEDED, same version is already published
palomino3Windows Server 2022 Datacenter / x64  OK    OK    OK    OK  UNNEEDED, same version is already published
merida1macOS 10.14.6 Mojave / x86_64  OK    OK    OK    OK  UNNEEDED, same version is already published
Package 148/455HostnameOS / ArchINSTALLBUILDCHECKBUILD BIN
flowFP 1.57.3  (landing page)
Herb Holyst , Wade Rogers
git_last_commit: dacfec8
git_last_commit_date: 2022-11-18 10:05:39 -0500
nebbiolo1Linux (Ubuntu 22.04.1 LTS) / x86_64  OK    OK    OK  UNNEEDED, same version is already published
palomino3Windows Server 2022 Datacenter / x64  OK    OK    OK    OK  UNNEEDED, same version is already published
merida1macOS 10.14.6 Mojave / x86_64  OK    OK    OK    OK  UNNEEDED, same version is already published
Package 149/455HostnameOS / ArchINSTALLBUILDCHECKBUILD BIN
flowMatch 1.35.0  (landing page)
Ariful Azad
git_last_commit: 773a263
git_last_commit_date: 2022-11-01 11:09:01 -0500
nebbiolo1Linux (Ubuntu 22.04.1 LTS) / x86_64  OK    OK    OK  UNNEEDED, same version is already published
palomino3Windows Server 2022 Datacenter / x64  OK    OK    OK    OK  UNNEEDED, same version is already published
merida1macOS 10.14.6 Mojave / x86_64  OK    OK    OK    OK  UNNEEDED, same version is already published
Package 150/455HostnameOS / ArchINSTALLBUILDCHECKBUILD BIN
flowMeans 1.59.0  (landing page)
Nima Aghaeepour
git_last_commit: 5254ca2
git_last_commit_date: 2022-11-01 11:05:02 -0500
nebbiolo1Linux (Ubuntu 22.04.1 LTS) / x86_64  OK    OK    OK  UNNEEDED, same version is already published
palomino3Windows Server 2022 Datacenter / x64  OK    OK    OK    OK  UNNEEDED, same version is already published
merida1macOS 10.14.6 Mojave / x86_64  OK    OK    OK    OK  UNNEEDED, same version is already published
Package 151/455HostnameOS / ArchINSTALLBUILDCHECKBUILD BIN
flowSpecs 1.13.0  (landing page)
Jakob Theorell
git_last_commit: 714713c
git_last_commit_date: 2022-11-01 11:20:33 -0500
nebbiolo1Linux (Ubuntu 22.04.1 LTS) / x86_64  OK    OK    OK  UNNEEDED, same version is already published
palomino3Windows Server 2022 Datacenter / x64  OK    OK    OK    OK  UNNEEDED, same version is already published
merida1macOS 10.14.6 Mojave / x86_64  OK    OK    OK    OK  NO, package depends on 'BiocParallel' which is not available
Package 152/455HostnameOS / ArchINSTALLBUILDCHECKBUILD BIN
flowStats 4.11.0  (landing page)
Greg Finak , Mike Jiang
git_last_commit: fd0a953
git_last_commit_date: 2022-11-01 11:04:25 -0500
nebbiolo1Linux (Ubuntu 22.04.1 LTS) / x86_64  OK    ERROR  skipped
palomino3Windows Server 2022 Datacenter / x64  OK    ERROR  skippedskipped
merida1macOS 10.14.6 Mojave / x86_64  OK    ERROR  skippedskipped
Package 153/455HostnameOS / ArchINSTALLBUILDCHECKBUILD BIN
flowViz 1.63.0  (landing page)
Mike Jiang
git_last_commit: d2e6b0d
git_last_commit_date: 2022-11-01 10:42:26 -0500
nebbiolo1Linux (Ubuntu 22.04.1 LTS) / x86_64  OK    OK    OK  UNNEEDED, same version is already published
palomino3Windows Server 2022 Datacenter / x64  OK    OK    OK    OK  UNNEEDED, same version is already published
merida1macOS 10.14.6 Mojave / x86_64  OK    OK    OK    OK  UNNEEDED, same version is already published
Package 154/455HostnameOS / ArchINSTALLBUILDCHECKBUILD BIN
flowWorkspace 4.11.0  (landing page)
Greg Finak , Mike Jiang
git_last_commit: fb34e4c
git_last_commit_date: 2022-11-01 11:05:55 -0500
nebbiolo1Linux (Ubuntu 22.04.1 LTS) / x86_64  OK    OK    WARNINGS  UNNEEDED, same version is already published
palomino3Windows Server 2022 Datacenter / x64  OK    OK    WARNINGS    OK  UNNEEDED, same version is already published
merida1macOS 10.14.6 Mojave / x86_64  OK    ERROR  skippedskipped
Package 155/455HostnameOS / ArchINSTALLBUILDCHECKBUILD BIN
FRASER 1.11.0  (landing page)
Christian Mertes
git_last_commit: ab699ed
git_last_commit_date: 2022-11-01 11:21:56 -0500
nebbiolo1Linux (Ubuntu 22.04.1 LTS) / x86_64  OK    OK    OK  UNNEEDED, same version is already published
palomino3Windows Server 2022 Datacenter / x64  OK    OK    OK    OK  NO, package depends on 'Rsamtools' which is not available
merida1macOS 10.14.6 Mojave / x86_64  OK    OK    OK    OK  NO, package depends on 'BiocParallel' which is not available
Package 156/455HostnameOS / ArchINSTALLBUILDCHECKBUILD BIN
frma 1.51.0  (landing page)
Matthew N. McCall
git_last_commit: 0985f1d
git_last_commit_date: 2022-11-01 11:04:47 -0500
nebbiolo1Linux (Ubuntu 22.04.1 LTS) / x86_64  OK    OK    OK  UNNEEDED, same version is already published
palomino3Windows Server 2022 Datacenter / x64  OK    OK    OK    OK  NO, package depends on 'oligo' which is not available
merida1macOS 10.14.6 Mojave / x86_64  OK    OK    OK    OK  UNNEEDED, same version is already published
Package 157/455HostnameOS / ArchINSTALLBUILDCHECKBUILD BIN
frmaTools 1.51.0  (landing page)
Matthew N. McCall
git_last_commit: 2112b77
git_last_commit_date: 2022-11-01 11:04:48 -0500
nebbiolo1Linux (Ubuntu 22.04.1 LTS) / x86_64  OK    OK    OK  UNNEEDED, same version is already published
palomino3Windows Server 2022 Datacenter / x64  OK    OK    OK    OK  UNNEEDED, same version is already published
merida1macOS 10.14.6 Mojave / x86_64  OK    OK    OK    OK  UNNEEDED, same version is already published
Package 158/455HostnameOS / ArchINSTALLBUILDCHECKBUILD BIN
gaga 2.45.0  (landing page)
David Rossell
git_last_commit: d8fb06b
git_last_commit_date: 2022-11-01 11:03:40 -0500
nebbiolo1Linux (Ubuntu 22.04.1 LTS) / x86_64  OK    OK    OK  UNNEEDED, same version is already published
palomino3Windows Server 2022 Datacenter / x64  OK    OK    OK    OK  UNNEEDED, same version is already published
merida1macOS 10.14.6 Mojave / x86_64  OK    OK    WARNINGS    OK  UNNEEDED, same version is already published
Package 159/455HostnameOS / ArchINSTALLBUILDCHECKBUILD BIN
GAPGOM 1.15.0  (landing page)
Rezvan Ehsani
git_last_commit: defab98
git_last_commit_date: 2022-11-01 11:19:11 -0500
nebbiolo1Linux (Ubuntu 22.04.1 LTS) / x86_64  OK    ERROR  skipped
palomino3Windows Server 2022 Datacenter / x64  OK    ERROR  skippedskipped
merida1macOS 10.14.6 Mojave / x86_64  OK    ERROR  skippedskipped
Package 160/455HostnameOS / ArchINSTALLBUILDCHECKBUILD BIN
gCrisprTools 2.5.0  (landing page)
Russell Bainer
git_last_commit: 881c664
git_last_commit_date: 2022-11-01 11:14:23 -0500
nebbiolo1Linux (Ubuntu 22.04.1 LTS) / x86_64  OK    OK    OK  UNNEEDED, same version is already published
palomino3Windows Server 2022 Datacenter / x64  OK    OK    OK    OK  NO, package depends on 'SummarizedExperiment' which is not available
merida1macOS 10.14.6 Mojave / x86_64  OK    OK    OK    OK  UNNEEDED, same version is already published
Package 161/455HostnameOS / ArchINSTALLBUILDCHECKBUILD BIN
gcrma 2.71.0  (landing page)
Z. Wu
git_last_commit: 7b09f58
git_last_commit_date: 2022-11-01 10:35:46 -0500
nebbiolo1Linux (Ubuntu 22.04.1 LTS) / x86_64  OK    OK    OK  UNNEEDED, same version is already published
palomino3Windows Server 2022 Datacenter / x64  OK    OK    OK    OK  UNNEEDED, same version is already published
merida1macOS 10.14.6 Mojave / x86_64  OK    OK    OK    OK  UNNEEDED, same version is already published
Package 162/455HostnameOS / ArchINSTALLBUILDCHECKBUILD BIN
GCSscore 1.13.0  (landing page)
Guy M. Harris
git_last_commit: 210a905
git_last_commit_date: 2022-11-01 11:20:55 -0500
nebbiolo1Linux (Ubuntu 22.04.1 LTS) / x86_64  OK    OK    OK  UNNEEDED, same version is already published
palomino3Windows Server 2022 Datacenter / x64  OK    OK    OK    OK  UNNEEDED, same version is already published
merida1macOS 10.14.6 Mojave / x86_64  OK    OK    OK    OK  UNNEEDED, same version is already published
Package 163/455HostnameOS / ArchINSTALLBUILDCHECKBUILD BIN
gemma.R 1.1.0  (landing page)
Ogan Mancarci
git_last_commit: 78c3dce
git_last_commit_date: 2022-11-01 11:27:35 -0500
nebbiolo1Linux (Ubuntu 22.04.1 LTS) / x86_64  OK    OK    OK  UNNEEDED, same version is already published
palomino3Windows Server 2022 Datacenter / x64  OK    OK    OK    OK  NO, package depends on 'SummarizedExperiment' which is not available
merida1macOS 10.14.6 Mojave / x86_64  OK    OK    OK    OK  UNNEEDED, same version is already published
Package 164/455HostnameOS / ArchINSTALLBUILDCHECKBUILD BIN
genbankr 1.27.0  (landing page)
Gabriel Becker
git_last_commit: 52cde8c
git_last_commit_date: 2022-11-01 11:13:33 -0500
nebbiolo1Linux (Ubuntu 22.04.1 LTS) / x86_64  OK    OK    OK  UNNEEDED, same version is already published
palomino3Windows Server 2022 Datacenter / x64  OK    OK    OK    OK  NO, package depends on 'GenomicRanges' which is not available
merida1macOS 10.14.6 Mojave / x86_64  OK    OK    OK    OK  NO, package depends on 'GenomicFeatures' which is not available
Package 165/455HostnameOS / ArchINSTALLBUILDCHECKBUILD BIN
geneClassifiers 1.23.0  (landing page)
R Kuiper
git_last_commit: 19424a0
git_last_commit_date: 2022-11-01 11:15:10 -0500
nebbiolo1Linux (Ubuntu 22.04.1 LTS) / x86_64  OK    OK    OK  UNNEEDED, same version is already published
palomino3Windows Server 2022 Datacenter / x64  OK    OK    OK    OK  UNNEEDED, same version is already published
merida1macOS 10.14.6 Mojave / x86_64  OK    OK    OK    OK  UNNEEDED, same version is already published
Package 166/455HostnameOS / ArchINSTALLBUILDCHECKBUILD BIN
GeneExpressionSignature 1.45.0  (landing page)
Yang Cao
git_last_commit: bc1e9a8
git_last_commit_date: 2022-11-01 11:06:11 -0500
nebbiolo1Linux (Ubuntu 22.04.1 LTS) / x86_64  OK    OK    OK  UNNEEDED, same version is already published
palomino3Windows Server 2022 Datacenter / x64  OK    OK    OK    OK  UNNEEDED, same version is already published
merida1macOS 10.14.6 Mojave / x86_64  OK    OK    OK    OK  UNNEEDED, same version is already published
Package 167/455HostnameOS / ArchINSTALLBUILDCHECKBUILD BIN
genefilter 1.81.0  (landing page)
Bioconductor Package Maintainer
git_last_commit: 1bb91bb
git_last_commit_date: 2022-11-01 10:34:55 -0500
nebbiolo1Linux (Ubuntu 22.04.1 LTS) / x86_64  OK    ERROR  skipped
palomino3Windows Server 2022 Datacenter / x64  OK    ERROR  skippedskipped
merida1macOS 10.14.6 Mojave / x86_64  OK    ERROR  skippedskipped
Package 168/455HostnameOS / ArchINSTALLBUILDCHECKBUILD BIN
GeneMeta 1.71.0  (landing page)
Bioconductor Package Maintainer
git_last_commit: 2d5c9da
git_last_commit_date: 2022-11-01 10:39:28 -0500
nebbiolo1Linux (Ubuntu 22.04.1 LTS) / x86_64  OK    OK    OK  UNNEEDED, same version is already published
palomino3Windows Server 2022 Datacenter / x64  OK    OK    OK    OK  UNNEEDED, same version is already published
merida1macOS 10.14.6 Mojave / x86_64  OK    OK    OK    OK  UNNEEDED, same version is already published
Package 169/455HostnameOS / ArchINSTALLBUILDCHECKBUILD BIN
geneplotter 1.77.0  (landing page)
Bioconductor Package Maintainer
git_last_commit: c312361
git_last_commit_date: 2022-11-01 10:34:58 -0500
nebbiolo1Linux (Ubuntu 22.04.1 LTS) / x86_64  OK    OK    OK  UNNEEDED, same version is already published
palomino3Windows Server 2022 Datacenter / x64  OK    OK    OK    OK  UNNEEDED, same version is already published
merida1macOS 10.14.6 Mojave / x86_64  OK    OK    OK    OK  UNNEEDED, same version is already published
Package 170/455HostnameOS / ArchINSTALLBUILDCHECKBUILD BIN
geneRecommender 1.71.0  (landing page)
Greg Hather
git_last_commit: 67d2dc9
git_last_commit_date: 2022-11-01 10:39:12 -0500
nebbiolo1Linux (Ubuntu 22.04.1 LTS) / x86_64  OK    ERROR  skipped
palomino3Windows Server 2022 Datacenter / x64  OK    ERROR  skippedskipped
merida1macOS 10.14.6 Mojave / x86_64  OK    ERROR  skippedskipped
Package 171/455HostnameOS / ArchINSTALLBUILDCHECKBUILD BIN
GeneRegionScan 1.55.0  (landing page)
Lasse Folkersen
git_last_commit: 6b49cca
git_last_commit_date: 2022-11-01 11:04:25 -0500
nebbiolo1Linux (Ubuntu 22.04.1 LTS) / x86_64  OK    OK    OK  UNNEEDED, same version is already published
palomino3Windows Server 2022 Datacenter / x64  OK    OK    OK    OK  UNNEEDED, same version is already published
merida1macOS 10.14.6 Mojave / x86_64  OK    OK    OK    OK  UNNEEDED, same version is already published
Package 172/455HostnameOS / ArchINSTALLBUILDCHECKBUILD BIN
GeneSelectMMD 2.43.0  (landing page)
Weiliang Qiu
git_last_commit: d68e449
git_last_commit_date: 2022-11-01 11:04:22 -0500
nebbiolo1Linux (Ubuntu 22.04.1 LTS) / x86_64  OK    OK    WARNINGS  UNNEEDED, same version is already published
palomino3Windows Server 2022 Datacenter / x64  OK    OK    OK    OK  UNNEEDED, same version is already published
merida1macOS 10.14.6 Mojave / x86_64  OK    OK    WARNINGS    OK  UNNEEDED, same version is already published
Package 173/455HostnameOS / ArchINSTALLBUILDCHECKBUILD BIN
GENESIS 2.29.0  (landing page)
Stephanie M. Gogarten
git_last_commit: 43d4cc8
git_last_commit_date: 2022-11-01 11:11:18 -0500
nebbiolo1Linux (Ubuntu 22.04.1 LTS) / x86_64  OK    OK    OK  UNNEEDED, same version is already published
palomino3Windows Server 2022 Datacenter / x64  OK    OK    OK    OK  NO, package depends on 'GenomicRanges' which is not available
merida1macOS 10.14.6 Mojave / x86_64  OK    OK    OK    OK  NO, package depends on 'BiocParallel' which is not available
Package 174/455HostnameOS / ArchINSTALLBUILDCHECKBUILD BIN
geNetClassifier 1.39.0  (landing page)
Sara Aibar
git_last_commit: 8201393
git_last_commit_date: 2022-11-01 11:08:07 -0500
nebbiolo1Linux (Ubuntu 22.04.1 LTS) / x86_64  OK    OK    OK  UNNEEDED, same version is already published
palomino3Windows Server 2022 Datacenter / x64  OK    OK    OK    OK  UNNEEDED, same version is already published
merida1macOS 10.14.6 Mojave / x86_64  OK    OK    OK    OK  UNNEEDED, same version is already published
Package 175/455HostnameOS / ArchINSTALLBUILDCHECKBUILD BIN
GenomicFeatures 1.51.2  (landing page)
H. Pagès
git_last_commit: df02299
git_last_commit_date: 2022-11-03 03:54:13 -0500
nebbiolo1Linux (Ubuntu 22.04.1 LTS) / x86_64  OK    OK    ERROR  
palomino3Windows Server 2022 Datacenter / x64  OK    OK    WARNINGS    OK  NO, package depends on 'GenomicRanges' which is not available
merida1macOS 10.14.6 Mojave / x86_64  OK    OK    WARNINGS    OK  NO, package depends on 'rtracklayer' which is not available
Package 176/455HostnameOS / ArchINSTALLBUILDCHECKBUILD BIN
GenomicInteractions 1.33.0  (landing page)
Liz Ing-Simmons
git_last_commit: 9a34ccf
git_last_commit_date: 2022-11-01 11:10:21 -0500
nebbiolo1Linux (Ubuntu 22.04.1 LTS) / x86_64  OK    OK    OK  UNNEEDED, same version is already published
palomino3Windows Server 2022 Datacenter / x64  OK    OK    OK    OK  NO, package depends on 'InteractionSet' which is not available
merida1macOS 10.14.6 Mojave / x86_64  OK    OK    OK    OK  NO, package depends on 'Rsamtools' which is not available
Package 177/455HostnameOS / ArchINSTALLBUILDCHECKBUILD BIN
GenomicScores 2.11.0  (landing page)
Robert Castelo
git_last_commit: d78fec9
git_last_commit_date: 2022-11-01 11:15:32 -0500
nebbiolo1Linux (Ubuntu 22.04.1 LTS) / x86_64  OK    OK    WARNINGS  UNNEEDED, same version is already published
palomino3Windows Server 2022 Datacenter / x64  OK    OK    WARNINGS    OK  NO, package depends on 'GenomicRanges' which is not available
merida1macOS 10.14.6 Mojave / x86_64  OK    OK    WARNINGS    OK  UNNEEDED, same version is already published
Package 178/455HostnameOS / ArchINSTALLBUILDCHECKBUILD BIN
GenomicSuperSignature 1.7.0  (landing page)
Sehyun Oh
git_last_commit: 5182153
git_last_commit_date: 2022-11-01 11:25:07 -0500
nebbiolo1Linux (Ubuntu 22.04.1 LTS) / x86_64  OK    OK    WARNINGS  UNNEEDED, same version is already published
palomino3Windows Server 2022 Datacenter / x64  OK    OK    WARNINGS    OK  NO, package depends on 'SummarizedExperiment' which is not available
merida1macOS 10.14.6 Mojave / x86_64  OK    OK    WARNINGS    OK  UNNEEDED, same version is already published
Package 179/455HostnameOS / ArchINSTALLBUILDCHECKBUILD BIN
GeoDiff 1.5.0  (landing page)
Nicole Ortogero
git_last_commit: 512a0c1
git_last_commit_date: 2022-11-01 11:26:02 -0500
nebbiolo1Linux (Ubuntu 22.04.1 LTS) / x86_64  OK    OK    OK  UNNEEDED, same version is already published
palomino3Windows Server 2022 Datacenter / x64  OK    OK    OK    OK  NO, package depends on 'GeomxTools' which is not available
merida1macOS 10.14.6 Mojave / x86_64  OK    OK    OK    OK  NO, package depends on 'GeomxTools' which is not available
Package 180/455HostnameOS / ArchINSTALLBUILDCHECKBUILD BIN
GEOexplorer 1.5.0  (landing page)
Guy Hunt
git_last_commit: c103eec
git_last_commit_date: 2022-11-01 11:25:26 -0500
nebbiolo1Linux (Ubuntu 22.04.1 LTS) / x86_64  OK    OK    OK  UNNEEDED, same version is already published
palomino3Windows Server 2022 Datacenter / x64  OK    OK    OK    OK  UNNEEDED, same version is already published
merida1macOS 10.14.6 Mojave / x86_64  OK    OK    OK    OK  UNNEEDED, same version is already published
Package 181/455HostnameOS / ArchINSTALLBUILDCHECKBUILD BIN
GeomxTools 3.3.0  (landing page)
Nicole Ortogero
git_last_commit: 9bd00a9
git_last_commit_date: 2022-11-01 11:23:52 -0500
nebbiolo1Linux (Ubuntu 22.04.1 LTS) / x86_64  OK    OK    WARNINGS  UNNEEDED, same version is already published
palomino3Windows Server 2022 Datacenter / x64  OK    OK    WARNINGS    OK  NO, package depends on 'NanoStringNCTools' which is not available
merida1macOS 10.14.6 Mojave / x86_64  OK    OK    TIMEOUT    OK  
Package 182/455HostnameOS / ArchINSTALLBUILDCHECKBUILD BIN
GEOquery 2.67.0  (landing page)
Sean Davis
git_last_commit: a4b5f0e
git_last_commit_date: 2022-11-01 10:40:26 -0500
nebbiolo1Linux (Ubuntu 22.04.1 LTS) / x86_64  OK    OK    OK  UNNEEDED, same version is already published
palomino3Windows Server 2022 Datacenter / x64  OK    OK    OK    OK  UNNEEDED, same version is already published
merida1macOS 10.14.6 Mojave / x86_64  OK    OK    OK    OK  UNNEEDED, same version is already published
Package 183/455HostnameOS / ArchINSTALLBUILDCHECKBUILD BIN
GEOsubmission 1.51.0  (landing page)
Alexandre Kuhn
git_last_commit: 67a819a
git_last_commit_date: 2022-11-01 11:05:03 -0500
nebbiolo1Linux (Ubuntu 22.04.1 LTS) / x86_64  OK    OK    OK  UNNEEDED, same version is already published
palomino3Windows Server 2022 Datacenter / x64  OK    OK    OK    OK  UNNEEDED, same version is already published
merida1macOS 10.14.6 Mojave / x86_64  OK    OK    OK    OK  UNNEEDED, same version is already published
Package 184/455HostnameOS / ArchINSTALLBUILDCHECKBUILD BIN
gep2pep 1.19.0  (landing page)
Francesco Napolitano
git_last_commit: f8e66a1
git_last_commit_date: 2022-11-01 11:16:48 -0500
nebbiolo1Linux (Ubuntu 22.04.1 LTS) / x86_64  OK    OK    OK  UNNEEDED, same version is already published
palomino3Windows Server 2022 Datacenter / x64  OK    OK    OK    OK  UNNEEDED, same version is already published
merida1macOS 10.14.6 Mojave / x86_64  OK    OK    OK    OK  UNNEEDED, same version is already published
Package 185/455HostnameOS / ArchINSTALLBUILDCHECKBUILD BIN
gespeR 1.31.0  (landing page)
Fabian Schmich
git_last_commit: c1df552
git_last_commit_date: 2022-11-01 11:10:56 -0500
nebbiolo1Linux (Ubuntu 22.04.1 LTS) / x86_64  OK    ERROR  skipped
palomino3Windows Server 2022 Datacenter / x64  OK    ERROR  skippedskipped
merida1macOS 10.14.6 Mojave / x86_64  OK    ERROR  skippedskipped
Package 186/455HostnameOS / ArchINSTALLBUILDCHECKBUILD BIN
ggbio 1.47.0  (landing page)
Michael Lawrence
git_last_commit: 45abc27
git_last_commit_date: 2022-11-01 11:06:25 -0500
nebbiolo1Linux (Ubuntu 22.04.1 LTS) / x86_64  OK    OK    WARNINGS  UNNEEDED, same version is already published
palomino3Windows Server 2022 Datacenter / x64  OK    OK    WARNINGS    OK  NO, package depends on 'biovizBase' which is not available
merida1macOS 10.14.6 Mojave / x86_64  OK    OK    WARNINGS    OK  NO, package depends on 'biovizBase' which is not available
Package 187/455HostnameOS / ArchINSTALLBUILDCHECKBUILD BIN
girafe 1.51.0  (landing page)
J. Toedling
git_last_commit: 6dd5018
git_last_commit_date: 2022-11-01 11:04:57 -0500
nebbiolo1Linux (Ubuntu 22.04.1 LTS) / x86_64  OK    OK    OK  UNNEEDED, same version is already published
palomino3Windows Server 2022 Datacenter / x64  OK    OK    OK    OK  NO, package depends on 'Rsamtools' which is not available
merida1macOS 10.14.6 Mojave / x86_64  OK    OK    OK    OK  NO, package depends on 'Rsamtools' which is not available
Package 188/455HostnameOS / ArchINSTALLBUILDCHECKBUILD BIN
GISPA 1.23.0  (landing page)
Bhakti Dwivedi
git_last_commit: cc242d5
git_last_commit_date: 2022-11-01 11:15:18 -0500
nebbiolo1Linux (Ubuntu 22.04.1 LTS) / x86_64  OK    OK    OK  UNNEEDED, same version is already published
palomino3Windows Server 2022 Datacenter / x64  OK    OK    OK    OK  UNNEEDED, same version is already published
merida1macOS 10.14.6 Mojave / x86_64  OK    OK    OK    OK  UNNEEDED, same version is already published
Package 189/455HostnameOS / ArchINSTALLBUILDCHECKBUILD BIN
GlobalAncova 4.17.0  (landing page)
Manuela Hummel
git_last_commit: a1bf692
git_last_commit_date: 2022-11-01 10:39:59 -0500
nebbiolo1Linux (Ubuntu 22.04.1 LTS) / x86_64  OK    OK    OK  UNNEEDED, same version is already published
palomino3Windows Server 2022 Datacenter / x64  OK    OK    OK    OK  UNNEEDED, same version is already published
merida1macOS 10.14.6 Mojave / x86_64  OK    OK    OK    OK  UNNEEDED, same version is already published
Package 190/455HostnameOS / ArchINSTALLBUILDCHECKBUILD BIN
globaltest 5.53.0  (landing page)
Jelle Goeman
git_last_commit: 24c75e3
git_last_commit_date: 2022-11-01 10:37:40 -0500
nebbiolo1Linux (Ubuntu 22.04.1 LTS) / x86_64  OK    OK    OK  UNNEEDED, same version is already published
palomino3Windows Server 2022 Datacenter / x64  OK    OK    OK    OK  UNNEEDED, same version is already published
merida1macOS 10.14.6 Mojave / x86_64  OK    OK    OK    OK  UNNEEDED, same version is already published
Package 191/455HostnameOS / ArchINSTALLBUILDCHECKBUILD BIN
gmapR 1.41.0  (landing page)
Michael Lawrence
git_last_commit: fea773c
git_last_commit_date: 2022-11-01 11:07:10 -0500
nebbiolo1Linux (Ubuntu 22.04.1 LTS) / x86_64  OK    OK    WARNINGS  UNNEEDED, same version is already published
palomino3Windows Server 2022 Datacenter / x64... NOT SUPPORTED ...
merida1macOS 10.14.6 Mojave / x86_64  OK    OK    WARNINGS    OK  NO, package depends on 'Rsamtools' which is not available
Package 192/455HostnameOS / ArchINSTALLBUILDCHECKBUILD BIN
GOexpress 1.33.0  (landing page)
Kevin Rue-Albrecht
git_last_commit: 8b78f92
git_last_commit_date: 2022-11-01 11:10:19 -0500
nebbiolo1Linux (Ubuntu 22.04.1 LTS) / x86_64  OK    OK    OK  UNNEEDED, same version is already published
palomino3Windows Server 2022 Datacenter / x64  OK    OK    OK    OK  UNNEEDED, same version is already published
merida1macOS 10.14.6 Mojave / x86_64  OK    OK    OK    OK  UNNEEDED, same version is already published
Package 193/455HostnameOS / ArchINSTALLBUILDCHECKBUILD BIN
goProfiles 1.61.0  (landing page)
Alex Sanchez
git_last_commit: b58863b
git_last_commit_date: 2022-11-01 11:03:51 -0500
nebbiolo1Linux (Ubuntu 22.04.1 LTS) / x86_64  OK    OK    OK  UNNEEDED, same version is already published
palomino3Windows Server 2022 Datacenter / x64  OK    OK    OK    OK  UNNEEDED, same version is already published
merida1macOS 10.14.6 Mojave / x86_64  OK    OK    OK    OK  UNNEEDED, same version is already published
Package 194/455HostnameOS / ArchINSTALLBUILDCHECKBUILD BIN
GOstats 2.65.0  (landing page)
Bioconductor Package Maintainer
git_last_commit: 1e9259a
git_last_commit_date: 2022-11-01 10:37:26 -0500
nebbiolo1Linux (Ubuntu 22.04.1 LTS) / x86_64  OK    ERROR  skipped
palomino3Windows Server 2022 Datacenter / x64  OK    ERROR  skippedskipped
merida1macOS 10.14.6 Mojave / x86_64  OK    ERROR  skippedskipped
Package 195/455HostnameOS / ArchINSTALLBUILDCHECKBUILD BIN
GSEABase 1.61.0  (landing page)
Bioconductor Package Maintainer
git_last_commit: 1d30521
git_last_commit_date: 2022-11-01 11:03:29 -0500
nebbiolo1Linux (Ubuntu 22.04.1 LTS) / x86_64  OK    OK    OK  UNNEEDED, same version is already published
palomino3Windows Server 2022 Datacenter / x64  OK    OK    OK    OK  UNNEEDED, same version is already published
merida1macOS 10.14.6 Mojave / x86_64  OK    OK    OK    OK  UNNEEDED, same version is already published
Package 196/455HostnameOS / ArchINSTALLBUILDCHECKBUILD BIN
GSEABenchmarkeR 1.19.0  (landing page)
Ludwig Geistlinger
git_last_commit: 9416dd5
git_last_commit_date: 2022-11-01 11:17:24 -0500
nebbiolo1Linux (Ubuntu 22.04.1 LTS) / x86_64  OK    OK    OK  UNNEEDED, same version is already published
palomino3Windows Server 2022 Datacenter / x64  OK    OK    OK    OK  NO, package depends on 'SummarizedExperiment' which is not available
merida1macOS 10.14.6 Mojave / x86_64  OK    OK    OK    OK  NO, package depends on 'BiocParallel' which is not available
Package 197/455HostnameOS / ArchINSTALLBUILDCHECKBUILD BIN
GSEAlm 1.59.0  (landing page)
Assaf Oron
git_last_commit: 1b26427
git_last_commit_date: 2022-11-01 11:03:46 -0500
nebbiolo1Linux (Ubuntu 22.04.1 LTS) / x86_64  OK    ERROR  skipped
palomino3Windows Server 2022 Datacenter / x64  OK    ERROR  skippedskipped
merida1macOS 10.14.6 Mojave / x86_64  OK    ERROR  skippedskipped
Package 198/455HostnameOS / ArchINSTALLBUILDCHECKBUILD BIN
GSRI 2.47.0  (landing page)
Julian Gehring
git_last_commit: 6247f50
git_last_commit_date: 2022-11-01 11:05:04 -0500
nebbiolo1Linux (Ubuntu 22.04.1 LTS) / x86_64  OK    OK    OK  UNNEEDED, same version is already published
palomino3Windows Server 2022 Datacenter / x64  OK    OK    OK    OK  UNNEEDED, same version is already published
merida1macOS 10.14.6 Mojave / x86_64  OK    OK    OK    OK  UNNEEDED, same version is already published
Package 199/455HostnameOS / ArchINSTALLBUILDCHECKBUILD BIN
GSVA 1.47.0  (landing page)
Robert Castelo
git_last_commit: fd07d5f
git_last_commit_date: 2022-11-01 11:05:54 -0500
nebbiolo1Linux (Ubuntu 22.04.1 LTS) / x86_64  OK    OK    OK  UNNEEDED, same version is already published
palomino3Windows Server 2022 Datacenter / x64  OK    OK    OK    OK  NO, package depends on 'SummarizedExperiment' which is not available
merida1macOS 10.14.6 Mojave / x86_64  OK    OK    OK    OK  NO, package depends on 'BiocParallel' which is not available
Package 200/455HostnameOS / ArchINSTALLBUILDCHECKBUILD BIN
Gviz 1.43.0  (landing page)
Robert Ivanek
git_last_commit: aefa8d1
git_last_commit_date: 2022-11-01 11:06:41 -0500
nebbiolo1Linux (Ubuntu 22.04.1 LTS) / x86_64  OK    OK    ERROR  
palomino3Windows Server 2022 Datacenter / x64  OK    OK    WARNINGS    OK  NO, package depends on 'GenomicRanges' which is not available
merida1macOS 10.14.6 Mojave / x86_64  OK    ERROR  skippedskipped
Package 201/455HostnameOS / ArchINSTALLBUILDCHECKBUILD BIN
GWASTools 1.45.0  (landing page)
Stephanie M. Gogarten
git_last_commit: 0127e8c
git_last_commit_date: 2022-11-01 11:06:22 -0500
nebbiolo1Linux (Ubuntu 22.04.1 LTS) / x86_64  OK    OK    WARNINGS  UNNEEDED, same version is already published
palomino3Windows Server 2022 Datacenter / x64  OK    OK    WARNINGS    OK  UNNEEDED, same version is already published
merida1macOS 10.14.6 Mojave / x86_64  OK    OK    WARNINGS    OK  UNNEEDED, same version is already published
Package 202/455HostnameOS / ArchINSTALLBUILDCHECKBUILD BIN
hapFabia 1.41.0  (landing page)
Andreas Mitterecker
git_last_commit: 5c96ec2
git_last_commit_date: 2022-11-01 11:07:20 -0500
nebbiolo1Linux (Ubuntu 22.04.1 LTS) / x86_64  OK    OK    WARNINGS  UNNEEDED, same version is already published
palomino3Windows Server 2022 Datacenter / x64  OK    OK    WARNINGS    OK  UNNEEDED, same version is already published
merida1macOS 10.14.6 Mojave / x86_64  OK    OK    WARNINGS    OK  UNNEEDED, same version is already published
Package 203/455HostnameOS / ArchINSTALLBUILDCHECKBUILD BIN
Harshlight 1.71.0  (landing page)
Maurizio Pellegrino
git_last_commit: 6f7c6ad
git_last_commit_date: 2022-11-01 10:41:42 -0500
nebbiolo1Linux (Ubuntu 22.04.1 LTS) / x86_64  OK    OK    WARNINGS  UNNEEDED, same version is already published
palomino3Windows Server 2022 Datacenter / x64  OK    OK    WARNINGS    OK  UNNEEDED, same version is already published
merida1macOS 10.14.6 Mojave / x86_64  OK    OK    OK    OK  UNNEEDED, same version is already published
Package 204/455HostnameOS / ArchINSTALLBUILDCHECKBUILD BIN
HELP 1.57.0  (landing page)
Reid F. Thompson
git_last_commit: c7fdc66
git_last_commit_date: 2022-11-01 11:03:55 -0500
nebbiolo1Linux (Ubuntu 22.04.1 LTS) / x86_64  OK    OK    OK  UNNEEDED, same version is already published
palomino3Windows Server 2022 Datacenter / x64  OK    OK    OK    OK  UNNEEDED, same version is already published
merida1macOS 10.14.6 Mojave / x86_64  OK    OK    OK    OK  UNNEEDED, same version is already published
Package 205/455HostnameOS / ArchINSTALLBUILDCHECKBUILD BIN
HEM 1.71.0  (landing page)
HyungJun Cho
git_last_commit: 871b268
git_last_commit_date: 2022-11-01 10:37:33 -0500
nebbiolo1Linux (Ubuntu 22.04.1 LTS) / x86_64  OK    OK    OK  UNNEEDED, same version is already published
palomino3Windows Server 2022 Datacenter / x64  OK    OK    OK    OK  UNNEEDED, same version is already published
merida1macOS 10.14.6 Mojave / x86_64  OK    OK    OK    OK  UNNEEDED, same version is already published
Package 206/455HostnameOS / ArchINSTALLBUILDCHECKBUILD BIN
hermes 1.3.0  (landing page)
Daniel Sabanés Bové
git_last_commit: 48dcdf0
git_last_commit_date: 2022-11-01 11:26:13 -0500
nebbiolo1Linux (Ubuntu 22.04.1 LTS) / x86_64  OK    OK    OK  UNNEEDED, same version is already published
palomino3Windows Server 2022 Datacenter / x64  OK    OK    OK    OK  NO, package depends on 'SummarizedExperiment' which is not available
merida1macOS 10.14.6 Mojave / x86_64  OK    OK    OK    OK  NO, package depends on 'DESeq2' which is not available
Package 207/455HostnameOS / ArchINSTALLBUILDCHECKBUILD BIN
hopach 2.59.0  (landing page)
Katherine S. Pollard
git_last_commit: 7682e84
git_last_commit_date: 2022-11-01 10:38:03 -0500
nebbiolo1Linux (Ubuntu 22.04.1 LTS) / x86_64  OK    OK    OK  UNNEEDED, same version is already published
palomino3Windows Server 2022 Datacenter / x64  OK    OK    OK    OK  UNNEEDED, same version is already published
merida1macOS 10.14.6 Mojave / x86_64  OK    OK    OK    OK  UNNEEDED, same version is already published
Package 208/455HostnameOS / ArchINSTALLBUILDCHECKBUILD BIN
HTqPCR 1.53.0  (landing page)
Heidi Dvinge
git_last_commit: d86aaf1
git_last_commit_date: 2022-11-01 11:04:44 -0500
nebbiolo1Linux (Ubuntu 22.04.1 LTS) / x86_64  OK    ERROR  skipped
palomino3Windows Server 2022 Datacenter / x64  OK    ERROR  skippedskipped
merida1macOS 10.14.6 Mojave / x86_64  OK    ERROR  skippedskipped
Package 209/455HostnameOS / ArchINSTALLBUILDCHECKBUILD BIN
HTSFilter 1.39.0  (landing page)
Andrea Rau
git_last_commit: f9ecd6e
git_last_commit_date: 2022-11-01 11:07:49 -0500
nebbiolo1Linux (Ubuntu 22.04.1 LTS) / x86_64  OK    OK    OK  UNNEEDED, same version is already published
palomino3Windows Server 2022 Datacenter / x64  OK    OK    OK    OK  NO, package depends on 'DESeq2' which is not available
merida1macOS 10.14.6 Mojave / x86_64  OK    OK    OK    OK  NO, package depends on 'DESeq2' which is not available
Package 210/455HostnameOS / ArchINSTALLBUILDCHECKBUILD BIN
HybridMTest 1.43.0  (landing page)
Demba Fofana
git_last_commit: b8c084e
git_last_commit_date: 2022-11-01 11:06:47 -0500
nebbiolo1Linux (Ubuntu 22.04.1 LTS) / x86_64  OK    OK    OK  UNNEEDED, same version is already published
palomino3Windows Server 2022 Datacenter / x64