Back to Build/check report for BioC 3.15
ABCDEFGHIJKLMNO[P]QRSTUVWXYZ

This page was generated on 2021-10-27 12:44:05 -0400 (Wed, 27 Oct 2021).

All results for package PCAN

To the developers/maintainers of the PCAN package:
- Please allow up to 24 hours (and sometimes 48 hours) for your latest push to git@git.bioconductor.org:packages/PCAN.git to
reflect on this report. See How and When does the builder pull? When will my changes propagate? here for more information.
- Make sure to use the following settings in order to reproduce any error or warning you see on this page.

raw results

Package 1368/2060HostnameOS / ArchINSTALLBUILDCHECKBUILD BIN
PCAN 1.23.0  (landing page)
Matthew Page and Patrice Godard
Snapshot Date: 2021-10-26 14:50:02 -0400 (Tue, 26 Oct 2021)
git_url: https://git.bioconductor.org/packages/PCAN
git_branch: master
git_last_commit: bc9474a
git_last_commit_date: 2021-10-26 12:26:12 -0400 (Tue, 26 Oct 2021)
nebbiolo1Linux (Ubuntu 20.04.2 LTS) / x86_64  OK    OK    OK  YES