Back to Multiple platform build/check report for BioC 3.19:   simplified   long
ABCDEFGHIJKLMNOPQR[S]TUVWXYZ

This page was generated on 2023-11-30 11:35:21 -0500 (Thu, 30 Nov 2023).

HostnameOSArch (*)R versionInstalled pkgs
nebbiolo1Linux (Ubuntu 22.04.2 LTS)x86_64R Under development (unstable) (2023-11-11 r85510) -- "Unsuffered Consequences" 4601
palomino3Windows Server 2022 Datacenterx64R Under development (unstable) (2023-11-14 r85524 ucrt) -- "Unsuffered Consequences" 4343
merida1macOS 12.7.1 Montereyx86_64R Under development (unstable) (2023-11-11 r85510) -- "Unsuffered Consequences" 4368
kunpeng2Linux (openEuler 22.03 LTS-SP1)aarch64R Under development (unstable) (2023-11-01 r85459) -- "Unsuffered Consequences" 4253
Click on any hostname to see more info about the system (e.g. compilers)      (*) as reported by 'uname -p', except on Windows and Mac OS X

All results for package scater


To the developers/maintainers of the scater package:
- Allow up to 24 hours (and sometimes 48 hours) for your latest push to git@git.bioconductor.org:packages/scater.git to reflect on this report. See Troubleshooting Build Report for more information.
- Use the following Renviron settings to reproduce errors and warnings.
- If 'R CMD check' started to fail recently on the Linux builder(s) over a missing dependency, add the missing dependency to 'Suggests:' in your DESCRIPTION file. See Renviron.bioc for more information.

raw results

Package 1823/2225HostnameOS / ArchINSTALLBUILDCHECKBUILD BIN
scater 1.31.1  (landing page)
Alan O'Callaghan
Snapshot Date: 2023-11-29 14:00:17 -0500 (Wed, 29 Nov 2023)
git_url: https://git.bioconductor.org/packages/scater
git_branch: devel
git_last_commit: 9c94e66
git_last_commit_date: 2023-11-16 08:32:36 -0500 (Thu, 16 Nov 2023)
nebbiolo1Linux (Ubuntu 22.04.2 LTS) / x86_64  OK    OK    OK  UNNEEDED, same version is already published
palomino3Windows Server 2022 Datacenter / x64  OK    ERROR  skippedskipped
merida1macOS 12.7.1 Monterey / x86_64  OK    OK    OK    OK  UNNEEDED, same version is already published
kunpeng2Linux (openEuler 22.03 LTS-SP1) / aarch64  OK    ERROR  skipped

Results for Bioconductor software packages that depend directly on package scater

QUICK STATSOS / ArchINSTALLBUILDCHECKBUILD BIN
nebbiolo1Linux (Ubuntu 22.04.2 LTS) / x86_64
0127
0424
02121
palomino3Windows Server 2022 Datacenter / x64
0026
01214
02012
0014
merida1macOS 12.7.1 Monterey / x86_64
0028
0424
01122
0016
kunpeng2Linux (openEuler 22.03 LTS-SP1) / aarch64
0919
0208
0305
Package 1/28HostnameOS / ArchINSTALLBUILDCHECKBUILD BIN
airpart 1.11.0  (landing page)
Wancen Mu
git_last_commit: 3983727
git_last_commit_date: 2023-10-24 11:31:27 -0500
nebbiolo1Linux (Ubuntu 22.04.2 LTS) / x86_64  OK    OK    OK  UNNEEDED, same version is already published
palomino3Windows Server 2022 Datacenter / x64  OK    OK    OK    OK  UNNEEDED, same version is already published
merida1macOS 12.7.1 Monterey / x86_64  OK    OK    OK    OK  UNNEEDED, same version is already published
kunpeng2Linux (openEuler 22.03 LTS-SP1) / aarch64  OK    OK    OK  
Package 2/28HostnameOS / ArchINSTALLBUILDCHECKBUILD BIN
BayesSpace 1.13.0  (landing page)
Matt Stone
git_last_commit: 66e4609
git_last_commit_date: 2023-10-24 11:26:25 -0500
nebbiolo1Linux (Ubuntu 22.04.2 LTS) / x86_64  OK    OK    OK  UNNEEDED, same version is already published
palomino3Windows Server 2022 Datacenter / x64  OK    OK    OK    OK  UNNEEDED, same version is already published
merida1macOS 12.7.1 Monterey / x86_64  OK    OK    OK    OK  UNNEEDED, same version is already published
kunpeng2Linux (openEuler 22.03 LTS-SP1) / aarch64  OK    OK    ERROR  
Package 3/28HostnameOS / ArchINSTALLBUILDCHECKBUILD BIN
CATALYST 1.27.0  (landing page)
Helena L. Crowell
git_last_commit: 3bbb17f
git_last_commit_date: 2023-10-24 10:56:46 -0500
nebbiolo1Linux (Ubuntu 22.04.2 LTS) / x86_64  OK    OK    OK  UNNEEDED, same version is already published
palomino3Windows Server 2022 Datacenter / x64  OK    ERROR  skippedskipped
merida1macOS 12.7.1 Monterey / x86_64  OK    OK    OK    OK  UNNEEDED, same version is already published
kunpeng2Linux (openEuler 22.03 LTS-SP1) / aarch64  OK    ERROR  skipped
Package 4/28HostnameOS / ArchINSTALLBUILDCHECKBUILD BIN
celda 1.19.1  (landing page)
Joshua Campbell
git_last_commit: 8c4c8575
git_last_commit_date: 2023-11-04 11:39:22 -0500
nebbiolo1Linux (Ubuntu 22.04.2 LTS) / x86_64  OK    OK    OK  UNNEEDED, same version is already published
palomino3Windows Server 2022 Datacenter / x64  OK    ERROR  skippedskipped
merida1macOS 12.7.1 Monterey / x86_64  OK    OK    OK    OK  UNNEEDED, same version is already published
kunpeng2Linux (openEuler 22.03 LTS-SP1) / aarch64  OK    ERROR  skipped
Package 5/28HostnameOS / ArchINSTALLBUILDCHECKBUILD BIN
CelliD 1.11.0  (landing page)
Akira Cortal
git_last_commit: 4605fb5
git_last_commit_date: 2023-10-24 11:30:58 -0500
nebbiolo1Linux (Ubuntu 22.04.2 LTS) / x86_64  OK    ERROR  skipped
palomino3Windows Server 2022 Datacenter / x64  OK    ERROR  skippedskipped
merida1macOS 12.7.1 Monterey / x86_64  OK    ERROR  skippedskipped
kunpeng2Linux (openEuler 22.03 LTS-SP1) / aarch64  ERROR    ERROR  skipped
Package 6/28HostnameOS / ArchINSTALLBUILDCHECKBUILD BIN
CellMixS 1.19.0  (landing page)
Almut Lütge
git_last_commit: 54ea158
git_last_commit_date: 2023-10-24 11:12:36 -0500
nebbiolo1Linux (Ubuntu 22.04.2 LTS) / x86_64  OK    OK    OK  UNNEEDED, same version is already published
palomino3Windows Server 2022 Datacenter / x64  OK    OK    OK    OK  UNNEEDED, same version is already published
merida1macOS 12.7.1 Monterey / x86_64  OK    OK    OK    OK  UNNEEDED, same version is already published
kunpeng2Linux (openEuler 22.03 LTS-SP1) / aarch64  OK    OK    OK  
Package 7/28HostnameOS / ArchINSTALLBUILDCHECKBUILD BIN
ChromSCape 1.13.0  (landing page)
Pacome Prompsy
git_last_commit: d73b93e
git_last_commit_date: 2023-10-24 11:26:16 -0500
nebbiolo1Linux (Ubuntu 22.04.2 LTS) / x86_64  OK    OK    WARNINGS  UNNEEDED, same version is already published
palomino3Windows Server 2022 Datacenter / x64  OK    OK    ERROR    OK  
merida1macOS 12.7.1 Monterey / x86_64  OK    OK    WARNINGS    OK  UNNEEDED, same version is already published
kunpeng2Linux (openEuler 22.03 LTS-SP1) / aarch64  OK    OK    ERROR  
Package 8/28HostnameOS / ArchINSTALLBUILDCHECKBUILD BIN
decontX 1.1.0  (landing page)
Yuan Yin
git_last_commit: 559103d
git_last_commit_date: 2023-10-24 11:52:30 -0500
nebbiolo1Linux (Ubuntu 22.04.2 LTS) / x86_64  OK    OK    OK  UNNEEDED, same version is already published
palomino3Windows Server 2022 Datacenter / x64  OK    OK    OK    OK  UNNEEDED, same version is already published
merida1macOS 12.7.1 Monterey / x86_64  OK    OK    OK    OK  UNNEEDED, same version is already published
kunpeng2Linux (openEuler 22.03 LTS-SP1) / aarch64  ERROR    ERROR  skipped
Package 9/28HostnameOS / ArchINSTALLBUILDCHECKBUILD BIN
distinct 1.15.4  (landing page)
Simone Tiberi
git_last_commit: 6cd50ca
git_last_commit_date: 2023-11-28 04:52:55 -0500
nebbiolo1Linux (Ubuntu 22.04.2 LTS) / x86_64  ERROR    ERROR  skipped
palomino3Windows Server 2022 Datacenter / x64  OK    OK    OK    OK  YES
merida1macOS 12.7.1 Monterey / x86_64  OK    OK    OK    OK  UNNEEDED, same version is already published
kunpeng2Linux (openEuler 22.03 LTS-SP1) / aarch64  ERROR    ERROR  skipped
Package 10/28HostnameOS / ArchINSTALLBUILDCHECKBUILD BIN
FLAMES 1.9.0  (landing page)
Oliver Voogd
git_last_commit: f1ab2cd
git_last_commit_date: 2023-10-24 11:34:56 -0500
nebbiolo1Linux (Ubuntu 22.04.2 LTS) / x86_64  OK    OK    OK  UNNEEDED, same version is already published
palomino3Windows Server 2022 Datacenter / x64... NOT SUPPORTED ...
merida1macOS 12.7.1 Monterey / x86_64  OK    OK    OK    OK  UNNEEDED, same version is already published
kunpeng2Linux (openEuler 22.03 LTS-SP1) / aarch64  OK    OK    ERROR  
Package 11/28HostnameOS / ArchINSTALLBUILDCHECKBUILD BIN
IRISFGM 1.11.0  (landing page)
Yuzhou Chang
git_last_commit: f77bd35
git_last_commit_date: 2023-10-24 11:30:04 -0500
nebbiolo1Linux (Ubuntu 22.04.2 LTS) / x86_64  OK    ERROR  skipped
palomino3Windows Server 2022 Datacenter / x64  OK    ERROR  skippedskipped
merida1macOS 12.7.1 Monterey / x86_64  OK    ERROR  skippedskipped
kunpeng2Linux (openEuler 22.03 LTS-SP1) / aarch64  ERROR    ERROR  skipped
Package 12/28HostnameOS / ArchINSTALLBUILDCHECKBUILD BIN
MEB 1.17.0  (landing page)
Jiadi Zhu
git_last_commit: 35d9993
git_last_commit_date: 2023-10-24 11:16:43 -0500
nebbiolo1Linux (Ubuntu 22.04.2 LTS) / x86_64  OK    OK    OK  UNNEEDED, same version is already published
palomino3Windows Server 2022 Datacenter / x64  OK    OK    OK    OK  UNNEEDED, same version is already published
merida1macOS 12.7.1 Monterey / x86_64  OK    OK    OK    OK  UNNEEDED, same version is already published
kunpeng2Linux (openEuler 22.03 LTS-SP1) / aarch64  OK    OK    OK  
Package 13/28HostnameOS / ArchINSTALLBUILDCHECKBUILD BIN
mia 1.11.0  (landing page)
Tuomas Borman
git_last_commit: 3457c3b
git_last_commit_date: 2023-10-27 08:56:46 -0500
nebbiolo1Linux (Ubuntu 22.04.2 LTS) / x86_64  OK    OK    OK  UNNEEDED, same version is already published
palomino3Windows Server 2022 Datacenter / x64  OK    OK    OK    OK  UNNEEDED, same version is already published
merida1macOS 12.7.1 Monterey / x86_64  OK    OK    OK    OK  UNNEEDED, same version is already published
kunpeng2Linux (openEuler 22.03 LTS-SP1) / aarch64  OK    OK    OK  
Package 14/28HostnameOS / ArchINSTALLBUILDCHECKBUILD BIN
miaViz 1.11.0  (landing page)
Tuomas Borman
git_last_commit: 537d03f
git_last_commit_date: 2023-10-24 11:31:24 -0500
nebbiolo1Linux (Ubuntu 22.04.2 LTS) / x86_64  OK    ERROR  skipped
palomino3Windows Server 2022 Datacenter / x64  OK    ERROR  skippedskipped
merida1macOS 12.7.1 Monterey / x86_64  OK    ERROR  skippedskipped
kunpeng2Linux (openEuler 22.03 LTS-SP1) / aarch64  OK    ERROR  skipped
Package 15/28HostnameOS / ArchINSTALLBUILDCHECKBUILD BIN
muscat 1.17.0  (landing page)
Helena L. Crowell
git_last_commit: 817a9f3
git_last_commit_date: 2023-10-24 11:16:01 -0500
nebbiolo1Linux (Ubuntu 22.04.2 LTS) / x86_64  OK    OK    OK  UNNEEDED, same version is already published
palomino3Windows Server 2022 Datacenter / x64  OK    ERROR  skippedskipped
merida1macOS 12.7.1 Monterey / x86_64  OK    OK    OK    OK  UNNEEDED, same version is already published
kunpeng2Linux (openEuler 22.03 LTS-SP1) / aarch64  OK    ERROR  skipped
Package 16/28HostnameOS / ArchINSTALLBUILDCHECKBUILD BIN
netSmooth 1.23.0  (landing page)
Jonathan Ronen
git_last_commit: 7a3a365
git_last_commit_date: 2023-10-24 11:05:26 -0500
nebbiolo1Linux (Ubuntu 22.04.2 LTS) / x86_64  OK    OK    OK  UNNEEDED, same version is already published
palomino3Windows Server 2022 Datacenter / x64  OK    ERROR  skippedskipped
merida1macOS 12.7.1 Monterey / x86_64  OK    OK    OK    OK  UNNEEDED, same version is already published
kunpeng2Linux (openEuler 22.03 LTS-SP1) / aarch64  OK    ERROR  skipped
Package 17/28HostnameOS / ArchINSTALLBUILDCHECKBUILD BIN
peco 1.15.0  (landing page)
Chiaowen Joyce Hsiao
git_last_commit: 38e1192
git_last_commit_date: 2023-10-24 11:20:48 -0500
nebbiolo1Linux (Ubuntu 22.04.2 LTS) / x86_64  OK    OK    OK  UNNEEDED, same version is already published
palomino3Windows Server 2022 Datacenter / x64  OK    OK    OK    OK  UNNEEDED, same version is already published
merida1macOS 12.7.1 Monterey / x86_64  OK    OK    OK    OK  UNNEEDED, same version is already published
kunpeng2Linux (openEuler 22.03 LTS-SP1) / aarch64  OK    OK    OK  
Package 18/28HostnameOS / ArchINSTALLBUILDCHECKBUILD BIN
pipeComp 1.13.0  (landing page)
Pierre-Luc Germain
git_last_commit: 163898b
git_last_commit_date: 2023-10-24 11:23:19 -0500
nebbiolo1Linux (Ubuntu 22.04.2 LTS) / x86_64  OK    OK    OK  UNNEEDED, same version is already published
palomino3Windows Server 2022 Datacenter / x64  OK    OK    OK    OK  UNNEEDED, same version is already published
merida1macOS 12.7.1 Monterey / x86_64  OK    OK    OK    OK  UNNEEDED, same version is already published
kunpeng2Linux (openEuler 22.03 LTS-SP1) / aarch64  ERROR    ERROR  skipped
Package 19/28HostnameOS / ArchINSTALLBUILDCHECKBUILD BIN
RegionalST 1.1.1  (landing page)
Ziyi Li
git_last_commit: 3aeee91
git_last_commit_date: 2023-11-20 12:41:57 -0500
nebbiolo1Linux (Ubuntu 22.04.2 LTS) / x86_64  OK    OK    OK  UNNEEDED, same version is already published
palomino3Windows Server 2022 Datacenter / x64  OK    OK    OK    OK  UNNEEDED, same version is already published
merida1macOS 12.7.1 Monterey / x86_64  OK    OK    OK    OK  UNNEEDED, same version is already published
kunpeng2Linux (openEuler 22.03 LTS-SP1) / aarch64  ERROR    ERROR  skipped
Package 20/28HostnameOS / ArchINSTALLBUILDCHECKBUILD BIN
scDblFinder 1.17.0  (landing page)
Pierre-Luc Germain
git_last_commit: a02e882
git_last_commit_date: 2023-10-24 11:17:39 -0500
nebbiolo1Linux (Ubuntu 22.04.2 LTS) / x86_64  OK    OK    OK  UNNEEDED, same version is already published
palomino3Windows Server 2022 Datacenter / x64  OK    ERROR  skippedskipped
merida1macOS 12.7.1 Monterey / x86_64  OK    OK    OK    NA  
kunpeng2Linux (openEuler 22.03 LTS-SP1) / aarch64  OK    ERROR  skipped
Package 21/28HostnameOS / ArchINSTALLBUILDCHECKBUILD BIN
scMerge 1.19.0  (landing page)
Yingxin Lin
git_last_commit: e5feace
git_last_commit_date: 2023-10-24 11:13:27 -0500
nebbiolo1Linux (Ubuntu 22.04.2 LTS) / x86_64  OK    OK    OK  UNNEEDED, same version is already published
palomino3Windows Server 2022 Datacenter / x64  OK    ERROR  skippedskipped
merida1macOS 12.7.1 Monterey / x86_64  OK    OK    OK    NA  
kunpeng2Linux (openEuler 22.03 LTS-SP1) / aarch64  OK    ERROR  skipped
Package 22/28HostnameOS / ArchINSTALLBUILDCHECKBUILD BIN
scTreeViz 1.9.0  (landing page)
Jayaram Kancherla
git_last_commit: 28169b2
git_last_commit_date: 2023-10-24 11:36:50 -0500
nebbiolo1Linux (Ubuntu 22.04.2 LTS) / x86_64  OK    OK    OK  UNNEEDED, same version is already published
palomino3Windows Server 2022 Datacenter / x64  OK    OK    OK    OK  UNNEEDED, same version is already published
merida1macOS 12.7.1 Monterey / x86_64  OK    OK    OK    NA  
kunpeng2Linux (openEuler 22.03 LTS-SP1) / aarch64  ERROR    ERROR  skipped
Package 23/28HostnameOS / ArchINSTALLBUILDCHECKBUILD BIN
scviR 1.3.0  (landing page)
Vincent Carey
git_last_commit: 9870f97
git_last_commit_date: 2023-10-24 11:47:27 -0500
nebbiolo1Linux (Ubuntu 22.04.2 LTS) / x86_64  OK    OK    OK  UNNEEDED, same version is already published
palomino3Windows Server 2022 Datacenter / x64... NOT SUPPORTED ...
merida1macOS 12.7.1 Monterey / x86_64  OK    ERROR  skippedskipped
kunpeng2Linux (openEuler 22.03 LTS-SP1) / aarch64  OK    ERROR  skipped
Package 24/28HostnameOS / ArchINSTALLBUILDCHECKBUILD BIN
singleCellTK 2.13.0  (landing page)
Yichen Wang
git_last_commit: 0382caa
git_last_commit_date: 2023-10-24 11:04:51 -0500
nebbiolo1Linux (Ubuntu 22.04.2 LTS) / x86_64  OK    OK    ERROR  
palomino3Windows Server 2022 Datacenter / x64  OK    OK    ERROR    OK  
merida1macOS 12.7.1 Monterey / x86_64  OK    OK    ERROR    NA  
kunpeng2Linux (openEuler 22.03 LTS-SP1) / aarch64  ERROR    ERROR  skipped
Package 25/28HostnameOS / ArchINSTALLBUILDCHECKBUILD BIN
Spaniel 1.17.0  (landing page)
Rachel Queen
git_last_commit: 28eec4b
git_last_commit_date: 2023-10-24 11:16:38 -0500
nebbiolo1Linux (Ubuntu 22.04.2 LTS) / x86_64  OK    OK    OK  UNNEEDED, same version is already published
palomino3Windows Server 2022 Datacenter / x64  OK    ERROR  skippedskipped
merida1macOS 12.7.1 Monterey / x86_64  OK    OK    OK    NA  
kunpeng2Linux (openEuler 22.03 LTS-SP1) / aarch64  ERROR    ERROR  skipped
Package 26/28HostnameOS / ArchINSTALLBUILDCHECKBUILD BIN
spatialHeatmap 2.9.0  (landing page)
Jianhai Zhang
git_last_commit: 4351b07
git_last_commit_date: 2023-10-24 11:26:19 -0500
nebbiolo1Linux (Ubuntu 22.04.2 LTS) / x86_64  OK    OK    ERROR  
palomino3Windows Server 2022 Datacenter / x64  OK    ERROR  skippedskipped
merida1macOS 12.7.1 Monterey / x86_64  OK    OK    OK    NA  
kunpeng2Linux (openEuler 22.03 LTS-SP1) / aarch64  OK    ERROR  skipped
Package 27/28HostnameOS / ArchINSTALLBUILDCHECKBUILD BIN
tricycle 1.11.0  (landing page)
Shijie Zheng
git_last_commit: c0eafec
git_last_commit_date: 2023-10-24 11:32:09 -0500
nebbiolo1Linux (Ubuntu 22.04.2 LTS) / x86_64  OK    OK    OK  UNNEEDED, same version is already published
palomino3Windows Server 2022 Datacenter / x64  OK    ERROR  skippedskipped
merida1macOS 12.7.1 Monterey / x86_64  OK    OK    OK    NA  
kunpeng2Linux (openEuler 22.03 LTS-SP1) / aarch64  OK    ERROR  skipped
Package 28/28HostnameOS / ArchINSTALLBUILDCHECKBUILD BIN
VAExprs 1.9.0  (landing page)
Dongmin Jung
git_last_commit: d3050dd
git_last_commit_date: 2023-10-24 11:35:13 -0500
nebbiolo1Linux (Ubuntu 22.04.2 LTS) / x86_64  OK    OK    OK  UNNEEDED, same version is already published
palomino3Windows Server 2022 Datacenter / x64  OK    OK    OK    OK  UNNEEDED, same version is already published
merida1macOS 12.7.1 Monterey / x86_64  OK    OK    OK    NA  
kunpeng2Linux (openEuler 22.03 LTS-SP1) / aarch64  OK    ERROR  skipped