Back to Multiple platform build/check report for BioC 3.16
ABCDEFGHIJKL[M]NOPQRSTUVWXYZ

This page was generated on 2022-06-24 11:08:15 -0400 (Fri, 24 Jun 2022).

HostnameOSArch (*)R versionInstalled pkgs
nebbiolo2Linux (Ubuntu 20.04.4 LTS)x86_644.2.0 Patched (2022-06-02 r82447) -- "Vigorous Calisthenics" 4331
palomino4Windows Server 2022 Datacenterx644.2.0 Patched (2022-06-02 r82447 ucrt) -- "Vigorous Calisthenics" 4136
lconwaymacOS 12.2.1 Montereyx86_644.2.0 Patched (2022-05-29 r82424) -- "Vigorous Calisthenics" 4147
Click on any hostname to see more info about the system (e.g. compilers)      (*) as reported by 'uname -p', except on Windows and Mac OS X

CHECK results for multiGSEA on lconway


To the developers/maintainers of the multiGSEA package:
- Please allow up to 24 hours (and sometimes 48 hours) for your latest push to git@git.bioconductor.org:packages/multiGSEA.git to
reflect on this report. See How and When does the builder pull? When will my changes propagate? for more information.
- Make sure to use the following settings in order to reproduce any error or warning you see on this page.

raw results

Package 1263/2118HostnameOS / ArchINSTALLBUILDCHECKBUILD BIN
multiGSEA 1.7.1  (landing page)
Sebastian Canzler
Snapshot Date: 2022-06-23 14:00:04 -0400 (Thu, 23 Jun 2022)
git_url: https://git.bioconductor.org/packages/multiGSEA
git_branch: master
git_last_commit: 9ba5136
git_last_commit_date: 2022-04-28 01:24:54 -0400 (Thu, 28 Apr 2022)
nebbiolo2Linux (Ubuntu 20.04.4 LTS) / x86_64  OK    OK    OK  UNNEEDED, same version is already published
palomino4Windows Server 2022 Datacenter / x64  OK    OK    OK    OK  UNNEEDED, same version is already published
lconwaymacOS 12.2.1 Monterey / x86_64  OK    OK    OK    OK  UNNEEDED, same version is already published

Summary

Package: multiGSEA
Version: 1.7.1
Command: /Library/Frameworks/R.framework/Resources/bin/R CMD check --install=check:multiGSEA.install-out.txt --library=/Library/Frameworks/R.framework/Resources/library --no-vignettes --timings multiGSEA_1.7.1.tar.gz
StartedAt: 2022-06-23 21:25:40 -0400 (Thu, 23 Jun 2022)
EndedAt: 2022-06-23 21:29:55 -0400 (Thu, 23 Jun 2022)
EllapsedTime: 254.4 seconds
RetCode: 0
Status:   OK  
CheckDir: multiGSEA.Rcheck
Warnings: 0

Command output

##############################################################################
##############################################################################
###
### Running command:
###
###   /Library/Frameworks/R.framework/Resources/bin/R CMD check --install=check:multiGSEA.install-out.txt --library=/Library/Frameworks/R.framework/Resources/library --no-vignettes --timings multiGSEA_1.7.1.tar.gz
###
##############################################################################
##############################################################################


* using log directory ‘/Users/biocbuild/bbs-3.16-bioc/meat/multiGSEA.Rcheck’
* using R version 4.2.0 Patched (2022-05-29 r82424)
* using platform: x86_64-apple-darwin17.0 (64-bit)
* using session charset: UTF-8
* using option ‘--no-vignettes’
* checking for file ‘multiGSEA/DESCRIPTION’ ... OK
* checking extension type ... Package
* this is package ‘multiGSEA’ version ‘1.7.1’
* package encoding: UTF-8
* checking package namespace information ... OK
* checking package dependencies ... OK
* checking if this is a source package ... OK
* checking if there is a namespace ... OK
* checking for hidden files and directories ... OK
* checking for portable file names ... OK
* checking for sufficient/correct file permissions ... OK
* checking whether package ‘multiGSEA’ can be installed ... OK
* checking installed package size ... OK
* checking package directory ... OK
* checking ‘build’ directory ... OK
* checking DESCRIPTION meta-information ... OK
* checking top-level files ... OK
* checking for left-over files ... OK
* checking index information ... OK
* checking package subdirectories ... OK
* checking R files for non-ASCII characters ... OK
* checking R files for syntax errors ... OK
* checking whether the package can be loaded ... OK
* checking whether the package can be loaded with stated dependencies ... OK
* checking whether the package can be unloaded cleanly ... OK
* checking whether the namespace can be loaded with stated dependencies ... OK
* checking whether the namespace can be unloaded cleanly ... OK
* checking dependencies in R code ... OK
* checking S3 generic/method consistency ... OK
* checking replacement functions ... OK
* checking foreign function calls ... OK
* checking R code for possible problems ... NOTE
getMetaboliteMapping: no visible binding for global variable
  ‘metabolitesMapping’
getMetaboliteMapping: no visible binding for global variable ‘Mapped’
Undefined global functions or variables:
  Mapped metabolitesMapping
* checking Rd files ... OK
* checking Rd metadata ... OK
* checking Rd cross-references ... OK
* checking for missing documentation entries ... OK
* checking for code/documentation mismatches ... OK
* checking Rd \usage sections ... OK
* checking Rd contents ... OK
* checking for unstated dependencies in examples ... OK
* checking contents of ‘data’ directory ... OK
* checking data for non-ASCII characters ... OK
* checking data for ASCII and uncompressed saves ... OK
* checking files in ‘vignettes’ ... OK
* checking examples ... OK
Examples with CPU (user + system) or elapsed time > 5s
                       user system elapsed
multiGSEA            83.580 12.381  27.292
getMetaboliteMapping 19.358  0.648  20.642
extractPvalues        9.711  1.280   7.068
* checking for unstated dependencies in ‘tests’ ... OK
* checking tests ...
  Running ‘testthat.R’
 OK
* checking for unstated dependencies in vignettes ... OK
* checking package vignettes in ‘inst/doc’ ... OK
* checking running R code from vignettes ... SKIPPED
* checking re-building of vignette outputs ... SKIPPED
* checking PDF version of manual ... OK
* DONE

Status: 1 NOTE
See
  ‘/Users/biocbuild/bbs-3.16-bioc/meat/multiGSEA.Rcheck/00check.log’
for details.



Installation output

multiGSEA.Rcheck/00install.out

##############################################################################
##############################################################################
###
### Running command:
###
###   /Library/Frameworks/R.framework/Resources/bin/R CMD INSTALL multiGSEA
###
##############################################################################
##############################################################################


* installing to library ‘/Library/Frameworks/R.framework/Versions/4.2/Resources/library’
* installing *source* package ‘multiGSEA’ ...
** using staged installation
** R
** data
** inst
** byte-compile and prepare package for lazy loading
** help
*** installing help indices
** building package indices
** installing vignettes
** testing if installed package can be loaded from temporary location
** testing if installed package can be loaded from final location
** testing if installed package keeps a record of temporary installation path
* DONE (multiGSEA)

Tests output

multiGSEA.Rcheck/tests/testthat.Rout


R version 4.2.0 Patched (2022-05-29 r82424) -- "Vigorous Calisthenics"
Copyright (C) 2022 The R Foundation for Statistical Computing
Platform: x86_64-apple-darwin17.0 (64-bit)

R is free software and comes with ABSOLUTELY NO WARRANTY.
You are welcome to redistribute it under certain conditions.
Type 'license()' or 'licence()' for distribution details.

R is a collaborative project with many contributors.
Type 'contributors()' for more information and
'citation()' on how to cite R or R packages in publications.

Type 'demo()' for some demos, 'help()' for on-line help, or
'help.start()' for an HTML browser interface to help.
Type 'q()' to quit R.

> library(testthat)
> library(multiGSEA)
> 
> test_check("multiGSEA")
[ FAIL 0 | WARN 0 | SKIP 0 | PASS 50 ]
> 
> proc.time()
   user  system elapsed 
 88.728   4.206  52.011 

Example timings

multiGSEA.Rcheck/multiGSEA-Ex.timings

nameusersystemelapsed
combinePvalues0.0010.0010.002
extractPvalues9.7111.2807.068
getFeatures0.5490.0490.600
getGeneMapping0.4530.0160.470
getMetaboliteMapping19.358 0.64820.642
getMultiOmicsFeatures3.1650.3893.582
getOrganisms000
initOmicsDataStructure000
metabolome0.0050.0000.005
multiGSEA83.58012.38127.292
proteome0.0090.0030.012
rankFeatures0.0010.0000.000
rename_duplicates0.0010.0000.001
transcriptome0.0150.0030.019