Back to Multiple platform build/check report for BioC 3.13
ABCDEF[G]HIJKLMNOPQRSTUVWXYZ

Multiple platform build/check report for BioC 3.13

All results for package GEWIST

This page was generated on 2021-04-16 12:55:47 -0400 (Fri, 16 Apr 2021).

Package 741/1986HostnameOS / ArchINSTALLBUILDCHECKBUILD BIN
GEWIST 1.35.0  (landing page)
Wei Q. Deng
Snapshot Date: 2021-04-15 14:50:10 -0400 (Thu, 15 Apr 2021)
URL: https://git.bioconductor.org/packages/GEWIST
Branch: master
Last Commit: aeb75c4
Last Changed Date: 2020-10-27 10:44:19 -0400 (Tue, 27 Oct 2020)
nebbiolo1Linux (Ubuntu 20.04.2 LTS) / x86_64  OK    OK    OK  UNNEEDED, same version exists in internal repository
riesling1Windows Server 2019 Standard / x64  OK    OK    OK    OK  UNNEEDED, same version exists in internal repository
machv2macOS 10.14.6 Mojave / x86_64  OK    OK    OK    OK  UNNEEDED, same version exists in internal repository