Back to Multiple platform build/check report for BioC 3.12
ABCDEFGHIJKL[M]NOPQRSTUVWXYZ

Multiple platform build/check report for BioC 3.12

Results for methimpute

This page was generated on 2020-07-13 12:42:00 -0400 (Mon, 13 Jul 2020).

Package 1025/1876HostnameOS / ArchINSTALLBUILDCHECKBUILD BIN
methimpute 1.11.0
Aaron Taudt
Snapshot Date: 2020-07-12 15:51:42 -0400 (Sun, 12 Jul 2020)
URL: https://git.bioconductor.org/packages/methimpute
Branch: master
Last Commit: 16048f5
Last Changed Date: 2020-04-27 15:11:08 -0400 (Mon, 27 Apr 2020)
malbec1 Linux (Ubuntu 18.04.4 LTS) / x86_64  OK  OK  OK UNNEEDED, same version exists in internal repository
tokay1 Windows Server 2012 R2 Standard / x64  OK  OK  OK  OK UNNEEDED, same version exists in internal repository
merida1 macOS 10.14.6 Mojave / x86_64  OK  OK  OK  OK UNNEEDED, same version exists in internal repository