Back to Build/check report for BioC 3.15
ABCDEFGHIJKLMNOP[Q]RSTUVWXYZ

This page was generated on 2021-12-06 12:31:51 -0500 (Mon, 06 Dec 2021).

All results for package quantsmooth

To the developers/maintainers of the quantsmooth package:
- Please allow up to 24 hours (and sometimes 48 hours) for your latest push to git@git.bioconductor.org:packages/quantsmooth.git to
reflect on this report. See How and When does the builder pull? When will my changes propagate? here for more information.
- Make sure to use the following settings in order to reproduce any error or warning you see on this page.

raw results

Package 1496/2068HostnameOS / ArchINSTALLBUILDCHECKBUILD BIN
quantsmooth 1.61.0  (landing page)
Jan Oosting
Snapshot Date: 2021-12-05 13:55:08 -0500 (Sun, 05 Dec 2021)
git_url: https://git.bioconductor.org/packages/quantsmooth
git_branch: master
git_last_commit: 40896e3
git_last_commit_date: 2021-10-26 11:50:03 -0500 (Tue, 26 Oct 2021)
nebbiolo1Linux (Ubuntu 20.04.3 LTS) / x86_64  OK    OK    OK  UNNEEDED, same version is already published

Results for Bioconductor software packages that depend directly on package quantsmooth

QUICK STATSOS / ArchINSTALLBUILDCHECKBUILD BIN
nebbiolo1Linux (Ubuntu 20.04.3 LTS) / x86_64
003
003
0102
Package 1/3HostnameOS / ArchINSTALLBUILDCHECKBUILD BIN
beadarraySNP 1.61.0  (landing page)
Jan Oosting
git_last_commit: 9aab19d
git_last_commit_date: 2021-10-26 11:50:17 -0500
nebbiolo1Linux (Ubuntu 20.04.3 LTS) / x86_64  OK    OK    OK  UNNEEDED, same version is already published
Package 2/3HostnameOS / ArchINSTALLBUILDCHECKBUILD BIN
GWASTools 1.41.0  (landing page)
Stephanie M. Gogarten
git_last_commit: e9fff97
git_last_commit_date: 2021-10-26 12:00:43 -0500
nebbiolo1Linux (Ubuntu 20.04.3 LTS) / x86_64  OK    OK    ERROR  
Package 3/3HostnameOS / ArchINSTALLBUILDCHECKBUILD BIN
SIM 1.65.0  (landing page)
Renee X. de Menezes
git_last_commit: 73c98bb
git_last_commit_date: 2021-10-26 11:52:31 -0500
nebbiolo1Linux (Ubuntu 20.04.3 LTS) / x86_64  OK    OK    OK  UNNEEDED, same version is already published