Back to Build/check report for BioC 3.16
ABCDEFGHIJKL[M]NOPQRSTUVWXYZ

This page was generated on 2022-06-27 11:05:23 -0400 (Mon, 27 Jun 2022).

HostnameOSArch (*)R versionInstalled pkgs
nebbiolo2Linux (Ubuntu 20.04.4 LTS)x86_644.2.0 Patched (2022-06-02 r82447) -- "Vigorous Calisthenics" 4331
Click on any hostname to see more info about the system (e.g. compilers)      (*) as reported by 'uname -p', except on Windows and Mac OS X

BUILD results for metapone on nebbiolo2


To the developers/maintainers of the metapone package:
- Please allow up to 24 hours (and sometimes 48 hours) for your latest push to git@git.bioconductor.org:packages/metapone.git to
reflect on this report. See How and When does the builder pull? When will my changes propagate? for more information.
- Make sure to use the following settings in order to reproduce any error or warning you see on this page.

raw results

Package 1122/2118HostnameOS / ArchINSTALLBUILDCHECKBUILD BIN
metapone 1.3.2  (landing page)
Tianwei Yu
Snapshot Date: 2022-06-26 14:00:03 -0400 (Sun, 26 Jun 2022)
git_url: https://git.bioconductor.org/packages/metapone
git_branch: master
git_last_commit: 3d98c60
git_last_commit_date: 2022-06-03 21:25:15 -0400 (Fri, 03 Jun 2022)
nebbiolo2Linux (Ubuntu 20.04.4 LTS) / x86_64  OK    OK    OK  UNNEEDED, same version is already published

Summary

Package: metapone
Version: 1.3.2
Command: /home/biocbuild/bbs-3.16-bioc/R/bin/R CMD build --keep-empty-dirs --no-resave-data metapone
StartedAt: 2022-06-26 16:49:55 -0400 (Sun, 26 Jun 2022)
EndedAt: 2022-06-26 16:59:36 -0400 (Sun, 26 Jun 2022)
EllapsedTime: 580.9 seconds
RetCode: 0
Status:   OK  
PackageFile: metapone_1.3.2.tar.gz
PackageFileSize: 3.731 MiB

Command output

##############################################################################
##############################################################################
###
### Running command:
###
###   /home/biocbuild/bbs-3.16-bioc/R/bin/R CMD build --keep-empty-dirs --no-resave-data metapone
###
##############################################################################
##############################################################################


* checking for file ‘metapone/DESCRIPTION’ ... OK
* preparing ‘metapone’:
* checking DESCRIPTION meta-information ... OK
* installing the package to process help pages
* saving partial Rd database
* creating vignettes ... OK
* checking for LF line-endings in source and make files and shell scripts
* checking for empty or unneeded directories
* looking to see if a ‘data/datalist’ file should be added
* building ‘metapone_1.3.2.tar.gz’