Back to Build/check report for BioC 3.15
ABCDEFGHIJKLMNOPQR[S]TUVWXYZ

This page was generated on 2021-12-04 12:32:10 -0500 (Sat, 04 Dec 2021).

All results for package S4Vectors

To the developers/maintainers of the S4Vectors package:
- Please allow up to 24 hours (and sometimes 48 hours) for your latest push to git@git.bioconductor.org:packages/S4Vectors.git to
reflect on this report. See How and When does the builder pull? When will my changes propagate? here for more information.
- Make sure to use the following settings in order to reproduce any error or warning you see on this page.

raw results

Package 1673/2068HostnameOS / ArchINSTALLBUILDCHECKBUILD BIN
S4Vectors 0.33.5  (landing page)
Bioconductor Package Maintainer
Snapshot Date: 2021-12-03 13:55:11 -0500 (Fri, 03 Dec 2021)
git_url: https://git.bioconductor.org/packages/S4Vectors
git_branch: master
git_last_commit: b1774d1
git_last_commit_date: 2021-11-22 02:42:19 -0500 (Mon, 22 Nov 2021)
nebbiolo1Linux (Ubuntu 20.04.3 LTS) / x86_64  OK    OK    WARNINGS  UNNEEDED, same version is already published

Results for Bioconductor software packages that depend directly on package S4Vectors

QUICK STATSOS / ArchINSTALLBUILDCHECKBUILD BIN
nebbiolo1Linux (Ubuntu 20.04.3 LTS) / x86_64
03585
027561
02089452
Package 1/588HostnameOS / ArchINSTALLBUILDCHECKBUILD BIN
ADImpute 1.5.0  (landing page)
Ana Carolina Leote
git_last_commit: 7e4e303
git_last_commit_date: 2021-10-26 13:04:30 -0500
nebbiolo1Linux (Ubuntu 20.04.3 LTS) / x86_64  OK    OK    WARNINGS  UNNEEDED, same version is already published
Package 2/588HostnameOS / ArchINSTALLBUILDCHECKBUILD BIN
affycoretools 1.67.2  (landing page)
James W. MacDonald
git_last_commit: 59ffb8d
git_last_commit_date: 2021-11-11 10:49:35 -0500
nebbiolo1Linux (Ubuntu 20.04.3 LTS) / x86_64  OK    OK    WARNINGS  NO, package depends on 'Glimma' which is not available
Package 3/588HostnameOS / ArchINSTALLBUILDCHECKBUILD BIN
aggregateBioVar 1.5.0  (landing page)
Jason Ratcliff
git_last_commit: 7f2c37c
git_last_commit_date: 2021-10-26 13:03:14 -0500
nebbiolo1Linux (Ubuntu 20.04.3 LTS) / x86_64  OK    OK    OK  UNNEEDED, same version is already published
Package 4/588HostnameOS / ArchINSTALLBUILDCHECKBUILD BIN
airpart 1.3.0  (landing page)
Wancen Mu
git_last_commit: 0c451dd
git_last_commit_date: 2021-10-26 13:08:14 -0500
nebbiolo1Linux (Ubuntu 20.04.3 LTS) / x86_64  OK    OK    OK  UNNEEDED, same version is already published
Package 5/588HostnameOS / ArchINSTALLBUILDCHECKBUILD BIN
ALDEx2 1.27.0  (landing page)
Greg Gloor
git_last_commit: 150617d
git_last_commit_date: 2021-10-26 12:16:13 -0500
nebbiolo1Linux (Ubuntu 20.04.3 LTS) / x86_64  OK    OK    OK  UNNEEDED, same version is already published
Package 6/588HostnameOS / ArchINSTALLBUILDCHECKBUILD BIN
AllelicImbalance 1.33.1  (landing page)
Jesper R Gadin
git_last_commit: 7e81c3a
git_last_commit_date: 2021-11-17 15:17:12 -0500
nebbiolo1Linux (Ubuntu 20.04.3 LTS) / x86_64  OK    OK    OK  UNNEEDED, same version is already published
Package 7/588HostnameOS / ArchINSTALLBUILDCHECKBUILD BIN
alpine 1.21.1  (landing page)
Michael Love
git_last_commit: dc3c0f0
git_last_commit_date: 2021-11-18 19:19:49 -0500
nebbiolo1Linux (Ubuntu 20.04.3 LTS) / x86_64  OK    OK    OK  UNNEEDED, same version is already published
Package 8/588HostnameOS / ArchINSTALLBUILDCHECKBUILD BIN
AlpsNMR 3.5.0  (landing page)
Sergio Oller Moreno
git_last_commit: cc478aa
git_last_commit_date: 2021-10-26 13:05:05 -0500
nebbiolo1Linux (Ubuntu 20.04.3 LTS) / x86_64  OK    OK    OK  UNNEEDED, same version is already published
Package 9/588HostnameOS / ArchINSTALLBUILDCHECKBUILD BIN
altcdfenvs 2.57.0  (landing page)
Laurent Gautier
git_last_commit: c080456
git_last_commit_date: 2021-10-26 11:46:44 -0500
nebbiolo1Linux (Ubuntu 20.04.3 LTS) / x86_64  OK    OK    OK  UNNEEDED, same version is already published
Package 10/588HostnameOS / ArchINSTALLBUILDCHECKBUILD BIN
amplican 1.17.1  (landing page)
Eivind Valen
git_last_commit: 5b0baca
git_last_commit_date: 2021-11-19 04:13:23 -0500
nebbiolo1Linux (Ubuntu 20.04.3 LTS) / x86_64  OK    OK    OK  UNNEEDED, same version is already published
Package 11/588HostnameOS / ArchINSTALLBUILDCHECKBUILD BIN
AneuFinder 1.23.1  (landing page)
Aaron Taudt
git_last_commit: ac1bba4
git_last_commit_date: 2021-11-18 19:23:58 -0500
nebbiolo1Linux (Ubuntu 20.04.3 LTS) / x86_64  OK    OK    WARNINGS  UNNEEDED, same version is already published
Package 12/588HostnameOS / ArchINSTALLBUILDCHECKBUILD BIN
animalcules 1.11.0  (landing page)
Yue Zhao
git_last_commit: 02957ac
git_last_commit_date: 2021-10-26 12:51:53 -0500
nebbiolo1Linux (Ubuntu 20.04.3 LTS) / x86_64  OK    ERROR  skipped
Package 13/588HostnameOS / ArchINSTALLBUILDCHECKBUILD BIN
AnnotationDbi 1.57.1  (landing page)
Bioconductor Package Maintainer
git_last_commit: 3b0c2df
git_last_commit_date: 2021-10-28 14:55:10 -0500
nebbiolo1Linux (Ubuntu 20.04.3 LTS) / x86_64  OK    OK    OK  UNNEEDED, same version is already published
Package 14/588HostnameOS / ArchINSTALLBUILDCHECKBUILD BIN
AnnotationForge 1.37.0  (landing page)
Bioconductor Package Maintainer
git_last_commit: ac8fa56
git_last_commit_date: 2021-10-26 12:03:32 -0500
nebbiolo1Linux (Ubuntu 20.04.3 LTS) / x86_64  OK    OK    OK  UNNEEDED, same version is already published
Package 15/588HostnameOS / ArchINSTALLBUILDCHECKBUILD BIN
AnnotationHub 3.3.7  (landing page)
Bioconductor Package Maintainer
git_last_commit: 5f03a3c
git_last_commit_date: 2021-11-30 12:02:04 -0500
nebbiolo1Linux (Ubuntu 20.04.3 LTS) / x86_64  OK    OK    WARNINGS  UNNEEDED, same version is already published
Package 16/588HostnameOS / ArchINSTALLBUILDCHECKBUILD BIN
AnnotationHubData 1.25.2  (landing page)
Bioconductor Package Maintainer
git_last_commit: 658ab6c
git_last_commit_date: 2021-11-24 12:55:50 -0500
nebbiolo1Linux (Ubuntu 20.04.3 LTS) / x86_64  OK    OK    ERROR  
Package 17/588HostnameOS / ArchINSTALLBUILDCHECKBUILD BIN
annotatr 1.21.1  (landing page)
Raymond G. Cavalcante
git_last_commit: bbf8b55
git_last_commit_date: 2021-11-20 22:59:06 -0500
nebbiolo1Linux (Ubuntu 20.04.3 LTS) / x86_64  OK    OK    OK  UNNEEDED, same version is already published
Package 18/588HostnameOS / ArchINSTALLBUILDCHECKBUILD BIN
appreci8R 1.13.0  (landing page)
Sarah Sandmann
git_last_commit: a5fe012
git_last_commit_date: 2021-10-26 12:45:40 -0500
nebbiolo1Linux (Ubuntu 20.04.3 LTS) / x86_64  OK    ERROR  skipped
Package 19/588HostnameOS / ArchINSTALLBUILDCHECKBUILD BIN
ASpediaFI 1.9.1  (landing page)
Doyeong Yu
git_last_commit: 53491f1
git_last_commit_date: 2021-11-18 16:35:17 -0500
nebbiolo1Linux (Ubuntu 20.04.3 LTS) / x86_64  OK    OK    OK  UNNEEDED, same version is already published
Package 20/588HostnameOS / ArchINSTALLBUILDCHECKBUILD BIN
ASpli 2.5.0  (landing page)
Estefania Mancini
git_last_commit: 14aea67
git_last_commit_date: 2021-10-26 12:29:18 -0500
nebbiolo1Linux (Ubuntu 20.04.3 LTS) / x86_64  OK    OK    OK  UNNEEDED, same version is already published
Package 21/588HostnameOS / ArchINSTALLBUILDCHECKBUILD BIN
ATACseqQC 1.19.1  (landing page)
Jianhong Ou
git_last_commit: 78afd65
git_last_commit_date: 2021-11-20 22:59:57 -0500
nebbiolo1Linux (Ubuntu 20.04.3 LTS) / x86_64  OK    OK    OK  UNNEEDED, same version is already published
Package 22/588HostnameOS / ArchINSTALLBUILDCHECKBUILD BIN
atena 1.1.2  (landing page)
Beatriz Calvo-Serra
git_last_commit: 56b0b1c
git_last_commit_date: 2021-11-22 13:45:51 -0500
nebbiolo1Linux (Ubuntu 20.04.3 LTS) / x86_64  OK    OK    OK  UNNEEDED, same version is already published
Package 23/588HostnameOS / ArchINSTALLBUILDCHECKBUILD BIN
AUCell 1.17.0  (landing page)
Sara Aibar
git_last_commit: 8bc80bb
git_last_commit_date: 2021-10-26 12:38:06 -0500
nebbiolo1Linux (Ubuntu 20.04.3 LTS) / x86_64  OK    OK    OK  UNNEEDED, same version is already published
Package 24/588HostnameOS / ArchINSTALLBUILDCHECKBUILD BIN
autonomics 1.3.0  (landing page)
Aditya Bhagwat
git_last_commit: 8920c88
git_last_commit_date: 2021-10-26 13:07:36 -0500
nebbiolo1Linux (Ubuntu 20.04.3 LTS) / x86_64  OK    OK    WARNINGS  UNNEEDED, same version is already published
Package 25/588HostnameOS / ArchINSTALLBUILDCHECKBUILD BIN
BadRegionFinder 1.23.0  (landing page)
Sarah Sandmann
git_last_commit: 873c415
git_last_commit_date: 2021-10-26 12:26:51 -0500
nebbiolo1Linux (Ubuntu 20.04.3 LTS) / x86_64  OK    OK    OK  UNNEEDED, same version is already published
Package 26/588HostnameOS / ArchINSTALLBUILDCHECKBUILD BIN
ballgown 2.27.1  (landing page)
Jack Fu
git_last_commit: 1fbcd5f
git_last_commit_date: 2021-11-20 23:00:17 -0500
nebbiolo1Linux (Ubuntu 20.04.3 LTS) / x86_64  OK    OK    OK  UNNEEDED, same version is already published
Package 27/588HostnameOS / ArchINSTALLBUILDCHECKBUILD BIN
bambu 2.1.1  (landing page)
Ying Chen
git_last_commit: 399b30a
git_last_commit_date: 2021-11-22 21:16:11 -0500
nebbiolo1Linux (Ubuntu 20.04.3 LTS) / x86_64  OK    OK    OK  UNNEEDED, same version is already published
Package 28/588HostnameOS / ArchINSTALLBUILDCHECKBUILD BIN
barcodetrackR 1.3.0  (landing page)
Diego Alexander Espinoza
git_last_commit: 6614c55
git_last_commit_date: 2021-10-26 13:08:19 -0500
nebbiolo1Linux (Ubuntu 20.04.3 LTS) / x86_64  OK    OK    OK  UNNEEDED, same version is already published
Package 29/588HostnameOS / ArchINSTALLBUILDCHECKBUILD BIN
BASiCS 2.7.2  (landing page)
Alan O'Callaghan
git_last_commit: 0438367
git_last_commit_date: 2021-11-22 11:56:02 -0500
nebbiolo1Linux (Ubuntu 20.04.3 LTS) / x86_64  OK    OK    OK  UNNEEDED, same version is already published
Package 30/588HostnameOS / ArchINSTALLBUILDCHECKBUILD BIN
BasicSTARRseq 1.23.0  (landing page)
Annika Buerger
git_last_commit: 5a1b8d8
git_last_commit_date: 2021-10-26 12:25:08 -0500
nebbiolo1Linux (Ubuntu 20.04.3 LTS) / x86_64  OK    OK    OK  UNNEEDED, same version is already published
Package 31/588HostnameOS / ArchINSTALLBUILDCHECKBUILD BIN
batchelor 1.11.0  (landing page)
Aaron Lun
git_last_commit: be310ee
git_last_commit_date: 2021-10-26 12:50:33 -0500
nebbiolo1Linux (Ubuntu 20.04.3 LTS) / x86_64  OK    OK    OK  UNNEEDED, same version is already published
Package 32/588HostnameOS / ArchINSTALLBUILDCHECKBUILD BIN
BayesSpace 1.5.1  (landing page)
Matt Stone
git_last_commit: cd2c155
git_last_commit_date: 2021-11-03 20:00:01 -0500
nebbiolo1Linux (Ubuntu 20.04.3 LTS) / x86_64  OK    OK    OK  UNNEEDED, same version is already published
Package 33/588HostnameOS / ArchINSTALLBUILDCHECKBUILD BIN
BindingSiteFinder 1.1.1  (landing page)
Mirko Brüggemann
git_last_commit: 5008b01
git_last_commit_date: 2021-11-24 04:43:56 -0500
nebbiolo1Linux (Ubuntu 20.04.3 LTS) / x86_64  OK    OK    OK  UNNEEDED, same version is already published
Package 34/588HostnameOS / ArchINSTALLBUILDCHECKBUILD BIN
BiocIO 1.5.0  (landing page)
Bioconductor Package Maintainer
git_last_commit: 260a1fa
git_last_commit_date: 2021-10-26 13:01:59 -0500
nebbiolo1Linux (Ubuntu 20.04.3 LTS) / x86_64  OK    OK    OK  UNNEEDED, same version is already published
Package 35/588HostnameOS / ArchINSTALLBUILDCHECKBUILD BIN
BiocNeighbors 1.13.0  (landing page)
Aaron Lun
git_last_commit: 244b2d4
git_last_commit_date: 2021-10-26 12:45:33 -0500
nebbiolo1Linux (Ubuntu 20.04.3 LTS) / x86_64  OK    OK    OK  UNNEEDED, same version is already published
Package 36/588HostnameOS / ArchINSTALLBUILDCHECKBUILD BIN
BiocOncoTK 1.15.0  (landing page)
VJ Carey
git_last_commit: 8d8ce4a
git_last_commit_date: 2021-10-26 12:44:33 -0500
nebbiolo1Linux (Ubuntu 20.04.3 LTS) / x86_64  OK    OK    OK  UNNEEDED, same version is already published
Package 37/588HostnameOS / ArchINSTALLBUILDCHECKBUILD BIN
BiocSet 1.9.1  (landing page)
Kayla Morrell
git_last_commit: ad19adf
git_last_commit_date: 2021-11-02 15:26:58 -0500
nebbiolo1Linux (Ubuntu 20.04.3 LTS) / x86_64  OK    OK    OK  UNNEEDED, same version is already published
Package 38/588HostnameOS / ArchINSTALLBUILDCHECKBUILD BIN
BiocSingular 1.11.0  (landing page)
Aaron Lun
git_last_commit: 706a908
git_last_commit_date: 2021-10-26 12:49:33 -0500
nebbiolo1Linux (Ubuntu 20.04.3 LTS) / x86_64  OK    OK    OK  UNNEEDED, same version is already published
Package 39/588HostnameOS / ArchINSTALLBUILDCHECKBUILD BIN
Biostrings 2.63.0  (landing page)
H. Pagès
git_last_commit: 1403218
git_last_commit_date: 2021-10-26 11:46:31 -0500
nebbiolo1Linux (Ubuntu 20.04.3 LTS) / x86_64  OK    OK    WARNINGS  UNNEEDED, same version is already published
Package 40/588HostnameOS / ArchINSTALLBUILDCHECKBUILD BIN
biotmle 1.19.0  (landing page)
Nima Hejazi
git_last_commit: 876210b
git_last_commit_date: 2021-10-26 12:34:49 -0500
nebbiolo1Linux (Ubuntu 20.04.3 LTS) / x86_64  OK    OK    OK  UNNEEDED, same version is already published
Package 41/588HostnameOS / ArchINSTALLBUILDCHECKBUILD BIN
biovizBase 1.43.1  (landing page)
Michael Lawrence
git_last_commit: d459e88
git_last_commit_date: 2021-11-17 08:55:41 -0500
nebbiolo1Linux (Ubuntu 20.04.3 LTS) / x86_64  OK    OK    WARNINGS  UNNEEDED, same version is already published
Package 42/588HostnameOS / ArchINSTALLBUILDCHECKBUILD BIN
biscuiteer 1.9.2  (landing page)
"Jacob Morrison"
git_last_commit: a17221f
git_last_commit_date: 2021-11-20 23:10:29 -0500
nebbiolo1Linux (Ubuntu 20.04.3 LTS) / x86_64  OK    OK    WARNINGS  UNNEEDED, same version is already published
Package 43/588HostnameOS / ArchINSTALLBUILDCHECKBUILD BIN
BiSeq 1.35.0  (landing page)
Katja Hebestreit
git_last_commit: 167cfff
git_last_commit_date: 2021-10-26 12:07:58 -0500
nebbiolo1Linux (Ubuntu 20.04.3 LTS) / x86_64  OK    OK    OK  UNNEEDED, same version is already published
Package 44/588HostnameOS / ArchINSTALLBUILDCHECKBUILD BIN
BitSeq 1.39.0  (landing page)
Antti Honkela , Panagiotis Papastamoulis
git_last_commit: ac331d3
git_last_commit_date: 2021-10-26 12:02:43 -0500
nebbiolo1Linux (Ubuntu 20.04.3 LTS) / x86_64  OK    OK    WARNINGS  UNNEEDED, same version is already published
Package 45/588HostnameOS / ArchINSTALLBUILDCHECKBUILD BIN
bluster 1.5.0  (landing page)
Aaron Lun
git_last_commit: 504e9e7
git_last_commit_date: 2021-10-26 13:01:07 -0500
nebbiolo1Linux (Ubuntu 20.04.3 LTS) / x86_64  OK    OK    OK  UNNEEDED, same version is already published
Package 46/588HostnameOS / ArchINSTALLBUILDCHECKBUILD BIN
bnbc 1.17.1  (landing page)
Kipper Fletez-Brant
git_last_commit: b299f60
git_last_commit_date: 2021-11-20 23:13:42 -0500
nebbiolo1Linux (Ubuntu 20.04.3 LTS) / x86_64  OK    OK    OK  UNNEEDED, same version is already published
Package 47/588HostnameOS / ArchINSTALLBUILDCHECKBUILD BIN
BPRMeth 1.21.1  (landing page)
Chantriolnt-Andreas Kapourani
git_last_commit: 1107237
git_last_commit_date: 2021-11-20 23:13:48 -0500
nebbiolo1Linux (Ubuntu 20.04.3 LTS) / x86_64  OK    OK    OK  UNNEEDED, same version is already published
Package 48/588HostnameOS / ArchINSTALLBUILDCHECKBUILD BIN
BrainSABER 1.5.0  (landing page)
USD Biomedical Engineering
git_last_commit: 5f3a0f5
git_last_commit_date: 2021-10-26 12:59:58 -0500
nebbiolo1Linux (Ubuntu 20.04.3 LTS) / x86_64  OK    ERROR  skipped
Package 49/588HostnameOS / ArchINSTALLBUILDCHECKBUILD BIN
branchpointer 1.21.0  (landing page)
Beth Signal
git_last_commit: 95272b5
git_last_commit_date: 2021-10-26 12:33:49 -0500
nebbiolo1Linux (Ubuntu 20.04.3 LTS) / x86_64  OK    OK    OK  UNNEEDED, same version is already published
Package 50/588HostnameOS / ArchINSTALLBUILDCHECKBUILD BIN
breakpointR 1.13.1  (landing page)
David Porubsky
git_last_commit: 761cf0a
git_last_commit_date: 2021-11-20 23:13:59 -0500
nebbiolo1Linux (Ubuntu 20.04.3 LTS) / x86_64  OK    OK    OK  UNNEEDED, same version is already published
Package 51/588HostnameOS / ArchINSTALLBUILDCHECKBUILD BIN
BRGenomics 1.7.0  (landing page)
Mike DeBerardine
git_last_commit: 1851a17
git_last_commit_date: 2021-10-26 12:58:20 -0500
nebbiolo1Linux (Ubuntu 20.04.3 LTS) / x86_64  OK    OK    WARNINGS  UNNEEDED, same version is already published
Package 52/588HostnameOS / ArchINSTALLBUILDCHECKBUILD BIN
BSgenome 1.63.3  (landing page)
H. Pagès
git_last_commit: b83d582
git_last_commit_date: 2021-11-17 16:19:59 -0500
nebbiolo1Linux (Ubuntu 20.04.3 LTS) / x86_64  OK    OK    WARNINGS  UNNEEDED, same version is already published
Package 53/588HostnameOS / ArchINSTALLBUILDCHECKBUILD BIN
bsseq 1.31.1  (landing page)
Kasper Daniel Hansen
git_last_commit: b9e8130
git_last_commit_date: 2021-11-01 21:52:48 -0500
nebbiolo1Linux (Ubuntu 20.04.3 LTS) / x86_64  OK    OK    OK  UNNEEDED, same version is already published
Package 54/588HostnameOS / ArchINSTALLBUILDCHECKBUILD BIN
bumphunter 1.37.1  (landing page)
Tamilselvi Guharaj
git_last_commit: 478db86
git_last_commit_date: 2021-11-20 23:19:33 -0500
nebbiolo1Linux (Ubuntu 20.04.3 LTS) / x86_64  OK    OK    OK  UNNEEDED, same version is already published
Package 55/588HostnameOS / ArchINSTALLBUILDCHECKBUILD BIN
BumpyMatrix 1.3.0  (landing page)
Aaron Lun
git_last_commit: 869dff3
git_last_commit_date: 2021-10-26 13:06:08 -0500
nebbiolo1Linux (Ubuntu 20.04.3 LTS) / x86_64  OK    OK    OK  UNNEEDED, same version is already published
Package 56/588HostnameOS / ArchINSTALLBUILDCHECKBUILD BIN
BUSpaRse 1.9.0  (landing page)
Lambda Moses
git_last_commit: a3b907e
git_last_commit_date: 2021-10-26 12:53:45 -0500
nebbiolo1Linux (Ubuntu 20.04.3 LTS) / x86_64  OK    OK    OK  UNNEEDED, same version is already published
Package 57/588HostnameOS / ArchINSTALLBUILDCHECKBUILD BIN
BUSseq 1.1.0  (landing page)
Fangda Song
git_last_commit: 6e5d189
git_last_commit_date: 2021-10-26 13:10:51 -0500
nebbiolo1Linux (Ubuntu 20.04.3 LTS) / x86_64  OK    OK    OK  UNNEEDED, same version is already published
Package 58/588HostnameOS / ArchINSTALLBUILDCHECKBUILD BIN
CAGEfightR 1.15.1  (landing page)
Malte Thodberg
git_last_commit: aead2e0
git_last_commit_date: 2021-11-20 23:19:47 -0500
nebbiolo1Linux (Ubuntu 20.04.3 LTS) / x86_64  OK    OK    OK  UNNEEDED, same version is already published
Package 59/588HostnameOS / ArchINSTALLBUILDCHECKBUILD BIN
CAGEr 2.1.3  (landing page)
Charles Plessy
git_last_commit: 5a58b26
git_last_commit_date: 2021-11-17 15:27:06 -0500
nebbiolo1Linux (Ubuntu 20.04.3 LTS) / x86_64  OK    ERROR  skipped
Package 60/588HostnameOS / ArchINSTALLBUILDCHECKBUILD BIN
Cardinal 2.13.1  (landing page)
Kylie A. Bemis
git_last_commit: 4bd3fdf
git_last_commit_date: 2021-11-21 05:19:35 -0500
nebbiolo1Linux (Ubuntu 20.04.3 LTS) / x86_64  OK    OK    OK  UNNEEDED, same version is already published
Package 61/588HostnameOS / ArchINSTALLBUILDCHECKBUILD BIN
casper 2.29.1  (landing page)
David Rossell
git_last_commit: ff4be92
git_last_commit_date: 2021-11-20 23:20:07 -0500
nebbiolo1Linux (Ubuntu 20.04.3 LTS) / x86_64  OK    OK    WARNINGS  UNNEEDED, same version is already published
Package 62/588HostnameOS / ArchINSTALLBUILDCHECKBUILD BIN
CATALYST 1.19.0  (landing page)
Helena L. Crowell
git_last_commit: 4988576
git_last_commit_date: 2021-10-26 12:34:36 -0500
nebbiolo1Linux (Ubuntu 20.04.3 LTS) / x86_64  OK    OK    OK  UNNEEDED, same version is already published
Package 63/588HostnameOS / ArchINSTALLBUILDCHECKBUILD BIN
cBioPortalData 2.7.3  (landing page)
Marcel Ramos
git_last_commit: 2304ab9
git_last_commit_date: 2021-11-30 12:20:53 -0500
nebbiolo1Linux (Ubuntu 20.04.3 LTS) / x86_64  OK    OK    WARNINGS  UNNEEDED, same version is already published
Package 64/588HostnameOS / ArchINSTALLBUILDCHECKBUILD BIN
ccfindR 1.15.0  (landing page)
Jun Woo
git_last_commit: 1030c36
git_last_commit_date: 2021-10-26 12:44:23 -0500
nebbiolo1Linux (Ubuntu 20.04.3 LTS) / x86_64  OK    OK    OK  UNNEEDED, same version is already published
Package 65/588HostnameOS / ArchINSTALLBUILDCHECKBUILD BIN
celaref 1.13.1  (landing page)
Sarah Williams
git_last_commit: 1962f4d
git_last_commit_date: 2021-11-20 23:20:25 -0500
nebbiolo1Linux (Ubuntu 20.04.3 LTS) / x86_64  OK    OK    OK  UNNEEDED, same version is already published
Package 66/588HostnameOS / ArchINSTALLBUILDCHECKBUILD BIN
celda 1.11.0  (landing page)
Joshua Campbell
git_last_commit: f7bccaa
git_last_commit_date: 2021-10-26 12:52:02 -0500
nebbiolo1Linux (Ubuntu 20.04.3 LTS) / x86_64  OK    OK    OK  UNNEEDED, same version is already published
Package 67/588HostnameOS / ArchINSTALLBUILDCHECKBUILD BIN
CellaRepertorium 1.5.0  (landing page)
Andrew McDavid
git_last_commit: 2f16fab
git_last_commit_date: 2021-10-26 13:04:40 -0500
nebbiolo1Linux (Ubuntu 20.04.3 LTS) / x86_64  OK    OK    OK  UNNEEDED, same version is already published
Package 68/588HostnameOS / ArchINSTALLBUILDCHECKBUILD BIN
CellBarcode 1.1.0  (landing page)
Wenjie Sun
git_last_commit: 3cc603b
git_last_commit_date: 2021-10-26 13:14:06 -0500
nebbiolo1Linux (Ubuntu 20.04.3 LTS) / x86_64  OK    OK    OK  UNNEEDED, same version is already published
Package 69/588HostnameOS / ArchINSTALLBUILDCHECKBUILD BIN
CellMapper 1.21.0  (landing page)
Brad Nelms
git_last_commit: c678e4f
git_last_commit_date: 2021-10-26 12:29:27 -0500
nebbiolo1Linux (Ubuntu 20.04.3 LTS) / x86_64  OK    OK    WARNINGS  UNNEEDED, same version is already published
Package 70/588HostnameOS / ArchINSTALLBUILDCHECKBUILD BIN
censcyt 1.3.0  (landing page)
Reto Gerber
git_last_commit: 10f9f74
git_last_commit_date: 2021-10-26 13:05:50 -0500
nebbiolo1Linux (Ubuntu 20.04.3 LTS) / x86_64  OK    OK    OK  UNNEEDED, same version is already published
Package 71/588HostnameOS / ArchINSTALLBUILDCHECKBUILD BIN
Cepo 1.1.1  (landing page)
Hani Jieun Kim
git_last_commit: 328e5cf
git_last_commit_date: 2021-11-20 23:20:58 -0500
nebbiolo1Linux (Ubuntu 20.04.3 LTS) / x86_64  OK    ERROR  skipped
Package 72/588HostnameOS / ArchINSTALLBUILDCHECKBUILD BIN
CeTF 1.7.0  (landing page)
Carlos Alberto Oliveira de Biagi Junior
git_last_commit: 730595a
git_last_commit_date: 2021-10-26 12:56:36 -0500
nebbiolo1Linux (Ubuntu 20.04.3 LTS) / x86_64  OK    OK    OK  UNNEEDED, same version is already published
Package 73/588HostnameOS / ArchINSTALLBUILDCHECKBUILD BIN
CexoR 1.33.0  (landing page)
Pedro Madrigal
git_last_commit: a013200
git_last_commit_date: 2021-10-26 13:12:55 -0500
nebbiolo1Linux (Ubuntu 20.04.3 LTS) / x86_64  OK    OK    OK  UNNEEDED, same version is already published
Package 74/588HostnameOS / ArchINSTALLBUILDCHECKBUILD BIN
CHETAH 1.11.2  (landing page)
Jurrian de Kanter
git_last_commit: 5d5f5df
git_last_commit_date: 2021-11-20 23:21:28 -0500
nebbiolo1Linux (Ubuntu 20.04.3 LTS) / x86_64  OK    ERROR  skipped
Package 75/588HostnameOS / ArchINSTALLBUILDCHECKBUILD BIN
ChIC 1.15.0  (landing page)
Carmen Maria Livi
git_last_commit: 1022d72
git_last_commit_date: 2021-10-26 12:43:56 -0500
nebbiolo1Linux (Ubuntu 20.04.3 LTS) / x86_64  OK    OK    OK  UNNEEDED, same version is already published
Package 76/588HostnameOS / ArchINSTALLBUILDCHECKBUILD BIN
chimeraviz 1.21.0  (landing page)
Stian Lågstad
git_last_commit: ea91012
git_last_commit_date: 2021-10-26 12:31:52 -0500
nebbiolo1Linux (Ubuntu 20.04.3 LTS) / x86_64  OK    OK    OK  UNNEEDED, same version is already published
Package 77/588HostnameOS / ArchINSTALLBUILDCHECKBUILD BIN
ChIPanalyser 1.17.1  (landing page)
Patrick C.N. Martin
git_last_commit: 66ff2c8
git_last_commit_date: 2021-11-18 16:54:52 -0500
nebbiolo1Linux (Ubuntu 20.04.3 LTS) / x86_64  OK    OK    OK  UNNEEDED, same version is already published
Package 78/588HostnameOS / ArchINSTALLBUILDCHECKBUILD BIN
ChIPComp 1.25.0  (landing page)
Li Chen
git_last_commit: f8cfac7
git_last_commit_date: 2021-10-26 12:22:08 -0500
nebbiolo1Linux (Ubuntu 20.04.3 LTS) / x86_64  OK    OK    OK  UNNEEDED, same version is already published
Package 79/588HostnameOS / ArchINSTALLBUILDCHECKBUILD BIN
chipenrich 2.19.0  (landing page)
Raymond G. Cavalcante
git_last_commit: bc9e4cd
git_last_commit_date: 2021-10-26 12:09:45 -0500
nebbiolo1Linux (Ubuntu 20.04.3 LTS) / x86_64  OK    OK    OK  UNNEEDED, same version is already published
Package 80/588HostnameOS / ArchINSTALLBUILDCHECKBUILD BIN
ChIPexoQual 1.19.1  (landing page)
Rene Welch
git_last_commit: f1c48ae
git_last_commit_date: 2021-11-18 16:48:13 -0500
nebbiolo1Linux (Ubuntu 20.04.3 LTS) / x86_64  OK    OK    OK  UNNEEDED, same version is already published
Package 81/588HostnameOS / ArchINSTALLBUILDCHECKBUILD BIN
ChIPpeakAnno 3.29.2  (landing page)
Jianhong Ou
git_last_commit: 75622ae
git_last_commit_date: 2021-11-17 15:32:25 -0500
nebbiolo1Linux (Ubuntu 20.04.3 LTS) / x86_64  OK    OK    ERROR  
Package 82/588HostnameOS / ArchINSTALLBUILDCHECKBUILD BIN
ChIPQC 1.31.1  (landing page)
Tom Carroll , Rory Stark
git_last_commit: e20e832
git_last_commit_date: 2021-11-20 23:21:44 -0500
nebbiolo1Linux (Ubuntu 20.04.3 LTS) / x86_64  OK    OK    WARNINGS  UNNEEDED, same version is already published
Package 83/588HostnameOS / ArchINSTALLBUILDCHECKBUILD BIN
ChIPseeker 1.31.2  (landing page)
Guangchuang Yu
git_last_commit: c99a82d
git_last_commit_date: 2021-11-10 04:02:22 -0500
nebbiolo1Linux (Ubuntu 20.04.3 LTS) / x86_64  OK    OK    OK  UNNEEDED, same version is already published
Package 84/588HostnameOS / ArchINSTALLBUILDCHECKBUILD BIN
chipseq 1.45.1  (landing page)
Bioconductor Package Maintainer
git_last_commit: ca93b17
git_last_commit_date: 2021-11-20 23:21:56 -0500
nebbiolo1Linux (Ubuntu 20.04.3 LTS) / x86_64  OK    OK    WARNINGS  UNNEEDED, same version is already published
Package 85/588HostnameOS / ArchINSTALLBUILDCHECKBUILD BIN
ChIPseqR 1.49.0  (landing page)
Peter Humburg
git_last_commit: 853ba4f
git_last_commit_date: 2021-10-26 11:54:55 -0500
nebbiolo1Linux (Ubuntu 20.04.3 LTS) / x86_64  OK    OK    OK  UNNEEDED, same version is already published
Package 86/588HostnameOS / ArchINSTALLBUILDCHECKBUILD BIN
ChromSCape 1.5.0  (landing page)
Pacome Prompsy
git_last_commit: 9f8abc6
git_last_commit_date: 2021-10-26 13:03:24 -0500
nebbiolo1Linux (Ubuntu 20.04.3 LTS) / x86_64  OK    OK    OK  NO, package depends on 'Sushi' which is not available
Package 87/588HostnameOS / ArchINSTALLBUILDCHECKBUILD BIN
chromstaR 1.21.4  (landing page)
Aaron Taudt
git_last_commit: f2d6332
git_last_commit_date: 2021-11-20 23:22:12 -0500
nebbiolo1Linux (Ubuntu 20.04.3 LTS) / x86_64  OK    ERROR  skipped
Package 88/588HostnameOS / ArchINSTALLBUILDCHECKBUILD BIN
chromswitch 1.17.0  (landing page)
Selin Jessa
git_last_commit: 78d3895
git_last_commit_date: 2021-10-26 12:39:46 -0500
nebbiolo1Linux (Ubuntu 20.04.3 LTS) / x86_64  OK    OK    OK  UNNEEDED, same version is already published
Package 89/588HostnameOS / ArchINSTALLBUILDCHECKBUILD BIN
chromVAR 1.17.1  (landing page)
Alicia Schep
git_last_commit: d00cba8
git_last_commit_date: 2021-11-20 23:22:19 -0500
nebbiolo1Linux (Ubuntu 20.04.3 LTS) / x86_64  OK    OK    OK  UNNEEDED, same version is already published
Package 90/588HostnameOS / ArchINSTALLBUILDCHECKBUILD BIN
cicero 1.13.0  (landing page)
Hannah Pliner
git_last_commit: e4e2d36
git_last_commit_date: 2021-10-26 12:47:09 -0500
nebbiolo1Linux (Ubuntu 20.04.3 LTS) / x86_64  OK    OK    OK  NO, package depends on 'monocle' which is not available
Package 91/588HostnameOS / ArchINSTALLBUILDCHECKBUILD BIN
CINdex 1.23.0  (landing page)
Yuriy Gusev
git_last_commit: 08ce826
git_last_commit_date: 2021-10-26 12:26:47 -0500
nebbiolo1Linux (Ubuntu 20.04.3 LTS) / x86_64  OK    OK    WARNINGS  UNNEEDED, same version is already published
Package 92/588HostnameOS / ArchINSTALLBUILDCHECKBUILD BIN
circRNAprofiler 1.9.2  (landing page)
Simona Aufiero
git_last_commit: 0c5efa9
git_last_commit_date: 2021-11-09 10:43:09 -0500
nebbiolo1Linux (Ubuntu 20.04.3 LTS) / x86_64  OK    OK    OK  UNNEEDED, same version is already published
Package 93/588HostnameOS / ArchINSTALLBUILDCHECKBUILD BIN
CiteFuse 1.7.0  (landing page)
Yingxin Lin
git_last_commit: d26886b
git_last_commit_date: 2021-10-26 12:58:54 -0500
nebbiolo1Linux (Ubuntu 20.04.3 LTS) / x86_64  OK    OK    OK  UNNEEDED, same version is already published
Package 94/588HostnameOS / ArchINSTALLBUILDCHECKBUILD BIN
ClassifyR 2.15.1  (landing page)
Dario Strbenac
git_last_commit: 9fa7bbd
git_last_commit_date: 2021-11-05 15:34:35 -0500
nebbiolo1Linux (Ubuntu 20.04.3 LTS) / x86_64  OK    OK    OK  UNNEEDED, same version is already published
Package 95/588HostnameOS / ArchINSTALLBUILDCHECKBUILD BIN
cleaver 1.33.0  (landing page)
Sebastian Gibb
git_last_commit: b964556
git_last_commit_date: 2021-10-26 12:08:23 -0500
nebbiolo1Linux (Ubuntu 20.04.3 LTS) / x86_64  OK    OK    OK  UNNEEDED, same version is already published
Package 96/588HostnameOS / ArchINSTALLBUILDCHECKBUILD BIN
cliProfiler 1.1.0  (landing page)
You Zhou
git_last_commit: b1e6cc1
git_last_commit_date: 2021-10-26 13:13:16 -0500
nebbiolo1Linux (Ubuntu 20.04.3 LTS) / x86_64  OK    OK    OK  UNNEEDED, same version is already published
Package 97/588HostnameOS / ArchINSTALLBUILDCHECKBUILD BIN
CluMSID 1.11.0  (landing page)
Tobias Depke
git_last_commit: 5893acc
git_last_commit_date: 2021-10-26 12:48:48 -0500
nebbiolo1Linux (Ubuntu 20.04.3 LTS) / x86_64  OK    OK    OK  UNNEEDED, same version is already published
Package 98/588HostnameOS / ArchINSTALLBUILDCHECKBUILD BIN
clusterExperiment 2.15.1  (landing page)
Elizabeth Purdom
git_last_commit: 1f524ae
git_last_commit_date: 2021-11-05 19:07:36 -0500
nebbiolo1Linux (Ubuntu 20.04.3 LTS) / x86_64  OK    OK    WARNINGS  UNNEEDED, same version is already published
Package 99/588HostnameOS / ArchINSTALLBUILDCHECKBUILD BIN
clustifyr 1.7.1  (landing page)
Rui Fu
git_last_commit: 02f9db0
git_last_commit_date: 2021-11-18 15:38:58 -0500
nebbiolo1Linux (Ubuntu 20.04.3 LTS) / x86_64  OK    OK    OK  UNNEEDED, same version is already published
Package 100/588HostnameOS / ArchINSTALLBUILDCHECKBUILD BIN
cn.mops 1.41.1  (landing page)
Gundula Povysil
git_last_commit: cd0cc29
git_last_commit_date: 2021-11-20 03:52:29 -0500
nebbiolo1Linux (Ubuntu 20.04.3 LTS) / x86_64  OK    OK    OK  UNNEEDED, same version is already published
Package 101/588HostnameOS / ArchINSTALLBUILDCHECKBUILD BIN
CNEr 1.31.1  (landing page)
Ge Tan
git_last_commit: 0643f08
git_last_commit_date: 2021-11-20 03:55:18 -0500
nebbiolo1Linux (Ubuntu 20.04.3 LTS) / x86_64  OK    OK    OK  UNNEEDED, same version is already published
Package 102/588HostnameOS / ArchINSTALLBUILDCHECKBUILD BIN
CNVMetrics 0.99.2  (landing page)
Astrid Deschênes
git_last_commit: ee570d2
git_last_commit_date: 2021-11-23 15:25:03 -0500
nebbiolo1Linux (Ubuntu 20.04.3 LTS) / x86_64  OK    OK    OK  UNNEEDED, same version is already published
Package 103/588HostnameOS / ArchINSTALLBUILDCHECKBUILD BIN
CNVPanelizer 1.27.0  (landing page)
Thomas Wolf
git_last_commit: 6a20a6b
git_last_commit_date: 2021-10-26 12:21:16 -0500
nebbiolo1Linux (Ubuntu 20.04.3 LTS) / x86_64  OK    OK    OK  UNNEEDED, same version is already published
Package 104/588HostnameOS / ArchINSTALLBUILDCHECKBUILD BIN
CNVRanger 1.11.0  (landing page)
Ludwig Geistlinger
git_last_commit: 5ca6a1e
git_last_commit_date: 2021-10-26 12:49:21 -0500
nebbiolo1Linux (Ubuntu 20.04.3 LTS) / x86_64  OK    OK    OK  UNNEEDED, same version is already published
Package 105/588HostnameOS / ArchINSTALLBUILDCHECKBUILD BIN
COCOA 2.9.1  (landing page)
John Lawson
git_last_commit: 8d1d3ca
git_last_commit_date: 2021-11-19 00:54:37 -0500
nebbiolo1Linux (Ubuntu 20.04.3 LTS) / x86_64  OK    OK    OK  UNNEEDED, same version is already published
Package 106/588HostnameOS / ArchINSTALLBUILDCHECKBUILD BIN
CODEX 1.27.0  (landing page)
Yuchao Jiang
git_last_commit: 79e4f51
git_last_commit_date: 2021-10-26 12:18:14 -0500
nebbiolo1Linux (Ubuntu 20.04.3 LTS) / x86_64  OK    OK    OK  UNNEEDED, same version is already published
Package 107/588HostnameOS / ArchINSTALLBUILDCHECKBUILD BIN
CoGAPS 3.15.1  (landing page)
Elana J. Fertig
git_last_commit: d2cd8a1
git_last_commit_date: 2021-11-21 06:15:49 -0500
nebbiolo1Linux (Ubuntu 20.04.3 LTS) / x86_64  OK    OK    WARNINGS  UNNEEDED, same version is already published
Package 108/588HostnameOS / ArchINSTALLBUILDCHECKBUILD BIN
Cogito 1.1.0  (landing page)
Annika Bürger
git_last_commit: 6852ebd
git_last_commit_date: 2021-10-26 13:13:23 -0500
nebbiolo1Linux (Ubuntu 20.04.3 LTS) / x86_64  OK    OK    OK  UNNEEDED, same version is already published
Package 109/588HostnameOS / ArchINSTALLBUILDCHECKBUILD BIN
coMET 1.27.1  (landing page)
Tiphaine Martin
git_last_commit: 5913d6e
git_last_commit_date: 2021-11-17 16:01:48 -0500
nebbiolo1Linux (Ubuntu 20.04.3 LTS) / x86_64  OK    ERROR  skipped
Package 110/588HostnameOS / ArchINSTALLBUILDCHECKBUILD BIN
compEpiTools 1.29.2  (landing page)
Kamal Kishore
git_last_commit: 20988a4
git_last_commit_date: 2021-11-20 23:28:21 -0500
nebbiolo1Linux (Ubuntu 20.04.3 LTS) / x86_64  OK    OK    ERROR  
Package 111/588HostnameOS / ArchINSTALLBUILDCHECKBUILD BIN
consensusDE 1.13.0  (landing page)
Ashley J. Waardenberg
git_last_commit: 84c1aed
git_last_commit_date: 2021-10-26 12:47:51 -0500
nebbiolo1Linux (Ubuntu 20.04.3 LTS) / x86_64  OK    OK    OK  UNNEEDED, same version is already published
Package 112/588HostnameOS / ArchINSTALLBUILDCHECKBUILD BIN
consensusSeekeR 1.23.1  (landing page)
Astrid Deschenes
git_last_commit: b92c485
git_last_commit_date: 2021-11-20 03:56:22 -0500
nebbiolo1Linux (Ubuntu 20.04.3 LTS) / x86_64  OK    OK    OK  UNNEEDED, same version is already published
Package 113/588HostnameOS / ArchINSTALLBUILDCHECKBUILD BIN
contiBAIT 1.23.1  (landing page)
Kieran O'Neill
git_last_commit: 1a66f2b
git_last_commit_date: 2021-11-20 03:56:57 -0500
nebbiolo1Linux (Ubuntu 20.04.3 LTS) / x86_64  OK    OK    WARNINGS  UNNEEDED, same version is already published
Package 114/588HostnameOS / ArchINSTALLBUILDCHECKBUILD BIN
copynumber 1.35.0  (landing page)
Gro Nilsen
git_last_commit: 45bfbec
git_last_commit_date: 2021-10-26 12:07:45 -0500
nebbiolo1Linux (Ubuntu 20.04.3 LTS) / x86_64  OK    OK    OK  UNNEEDED, same version is already published
Package 115/588HostnameOS / ArchINSTALLBUILDCHECKBUILD BIN
CopywriteR 2.27.0  (landing page)
Oscar Krijgsman
git_last_commit: 2b202a3
git_last_commit_date: 2021-10-26 12:19:59 -0500
nebbiolo1Linux (Ubuntu 20.04.3 LTS) / x86_64  OK    OK    OK  UNNEEDED, same version is already published
Package 116/588HostnameOS / ArchINSTALLBUILDCHECKBUILD BIN
CoreGx 1.7.0  (landing page)
Benjamin Haibe-Kains
git_last_commit: b78b5a5
git_last_commit_date: 2021-10-26 12:59:39 -0500
nebbiolo1Linux (Ubuntu 20.04.3 LTS) / x86_64  OK    OK    OK  UNNEEDED, same version is already published
Package 117/588HostnameOS / ArchINSTALLBUILDCHECKBUILD BIN
coseq 1.19.0  (landing page)
Andrea Rau
git_last_commit: 0c533c8
git_last_commit_date: 2021-10-26 12:32:24 -0500
nebbiolo1Linux (Ubuntu 20.04.3 LTS) / x86_64  OK    OK    OK  UNNEEDED, same version is already published
Package 118/588HostnameOS / ArchINSTALLBUILDCHECKBUILD BIN
CoverageView 1.33.0  (landing page)
Ernesto Lowy
git_last_commit: 0f3b730
git_last_commit_date: 2021-10-26 12:13:02 -0500
nebbiolo1Linux (Ubuntu 20.04.3 LTS) / x86_64  OK    OK    WARNINGS  UNNEEDED, same version is already published
Package 119/588HostnameOS / ArchINSTALLBUILDCHECKBUILD BIN
CRISPRseek 1.35.2  (landing page)
Lihua Julie Zhu
git_last_commit: fcf7fbc
git_last_commit_date: 2021-12-02 21:08:12 -0500
nebbiolo1Linux (Ubuntu 20.04.3 LTS) / x86_64  OK    OK    ERROR  
Package 120/588HostnameOS / ArchINSTALLBUILDCHECKBUILD BIN
CrispRVariants 1.23.0  (landing page)
Helen Lindsay
git_last_commit: d8ef937
git_last_commit_date: 2021-10-26 12:24:29 -0500
nebbiolo1Linux (Ubuntu 20.04.3 LTS) / x86_64  OK    OK    WARNINGS  UNNEEDED, same version is already published
Package 121/588HostnameOS / ArchINSTALLBUILDCHECKBUILD BIN
CSAR 1.47.0  (landing page)
Jose M Muino
git_last_commit: 1459784
git_last_commit_date: 2021-10-26 11:55:08 -0500
nebbiolo1Linux (Ubuntu 20.04.3 LTS) / x86_64  OK    OK    OK  UNNEEDED, same version is already published
Package 122/588HostnameOS / ArchINSTALLBUILDCHECKBUILD BIN
csaw 1.29.1  (landing page)
Aaron Lun
git_last_commit: e480196
git_last_commit_date: 2021-11-20 23:29:19 -0500
nebbiolo1Linux (Ubuntu 20.04.3 LTS) / x86_64  OK    OK    OK  UNNEEDED, same version is already published
Package 123/588HostnameOS / ArchINSTALLBUILDCHECKBUILD BIN
CSSQ 1.7.0  (landing page)
Fan Lab at Georgia Institute of Technology
git_last_commit: a13363f
git_last_commit_date: 2021-10-26 12:56:31 -0500
nebbiolo1Linux (Ubuntu 20.04.3 LTS) / x86_64  OK    OK    OK  UNNEEDED, same version is already published
Package 124/588HostnameOS / ArchINSTALLBUILDCHECKBUILD BIN
CTDquerier 2.3.1  (landing page)
Xavier Escribà-Montagut
git_last_commit: 755fb4a
git_last_commit_date: 2021-11-20 23:29:39 -0500
nebbiolo1Linux (Ubuntu 20.04.3 LTS) / x86_64  OK    OK    WARNINGS  UNNEEDED, same version is already published
Package 125/588HostnameOS / ArchINSTALLBUILDCHECKBUILD BIN
cummeRbund 2.37.0  (landing page)
Loyal A. Goff
git_last_commit: cf5b3be
git_last_commit_date: 2021-10-26 12:00:39 -0500
nebbiolo1Linux (Ubuntu 20.04.3 LTS) / x86_64  OK    OK    WARNINGS  UNNEEDED, same version is already published
Package 126/588HostnameOS / ArchINSTALLBUILDCHECKBUILD BIN
customProDB 1.35.1  (landing page)
Xiaojing Wang
git_last_commit: 69b8805
git_last_commit_date: 2021-12-02 17:41:54 -0500
nebbiolo1Linux (Ubuntu 20.04.3 LTS) / x86_64  OK    OK    OK  UNNEEDED, same version is already published
Package 127/588HostnameOS / ArchINSTALLBUILDCHECKBUILD BIN
cydar 1.19.0  (landing page)
Aaron Lun
git_last_commit: 0377665
git_last_commit_date: 2021-10-26 12:34:03 -0500
nebbiolo1Linux (Ubuntu 20.04.3 LTS) / x86_64  OK    OK    OK  UNNEEDED, same version is already published
Package 128/588HostnameOS / ArchINSTALLBUILDCHECKBUILD BIN
cytoKernel 1.1.0  (landing page)
Tusharkanti Ghosh
git_last_commit: 3e4cbe9
git_last_commit_date: 2021-10-26 13:12:39 -0500
nebbiolo1Linux (Ubuntu 20.04.3 LTS) / x86_64  OK    OK    OK  UNNEEDED, same version is already published
Package 129/588HostnameOS / ArchINSTALLBUILDCHECKBUILD BIN
cytomapper 1.7.0  (landing page)
Nils Eling
git_last_commit: b0181cb
git_last_commit_date: 2021-10-26 12:58:24 -0500
nebbiolo1Linux (Ubuntu 20.04.3 LTS) / x86_64  OK    OK    OK  UNNEEDED, same version is already published
Package 130/588HostnameOS / ArchINSTALLBUILDCHECKBUILD BIN
DAMEfinder 1.7.1  (landing page)
Stephany Orjuela
git_last_commit: 96f7b31
git_last_commit_date: 2021-11-20 23:30:14 -0500
nebbiolo1Linux (Ubuntu 20.04.3 LTS) / x86_64  OK    OK    OK  UNNEEDED, same version is already published
Package 131/588HostnameOS / ArchINSTALLBUILDCHECKBUILD BIN
dasper 1.5.0  (landing page)
David Zhang
git_last_commit: b37d7c1
git_last_commit_date: 2021-10-26 13:04:45 -0500
nebbiolo1Linux (Ubuntu 20.04.3 LTS) / x86_64  OK    OK    ERROR  
Package 132/588HostnameOS / ArchINSTALLBUILDCHECKBUILD BIN
debrowser 1.23.2  (landing page)
Alper Kucukural
git_last_commit: 296457c
git_last_commit_date: 2021-11-08 12:35:49 -0500
nebbiolo1Linux (Ubuntu 20.04.3 LTS) / x86_64  OK    OK    OK  UNNEEDED, same version is already published
Package 133/588HostnameOS / ArchINSTALLBUILDCHECKBUILD BIN
DECIPHER 2.23.0  (landing page)
Erik Wright
git_last_commit: 84592e4
git_last_commit_date: 2021-10-26 12:00:41 -0500
nebbiolo1Linux (Ubuntu 20.04.3 LTS) / x86_64  OK    OK    OK  UNNEEDED, same version is already published
Package 134/588HostnameOS / ArchINSTALLBUILDCHECKBUILD BIN
decompTumor2Sig 2.11.0  (landing page)
Rosario M. Piro
git_last_commit: 218491c
git_last_commit_date: 2021-10-26 12:48:26 -0500
nebbiolo1Linux (Ubuntu 20.04.3 LTS) / x86_64  OK    OK    OK  UNNEEDED, same version is already published
Package 135/588HostnameOS / ArchINSTALLBUILDCHECKBUILD BIN
deconvR 1.1.1  (landing page)
İrem B. Gündüz
git_last_commit: 7cf3911
git_last_commit_date: 2021-10-28 04:16:08 -0500
nebbiolo1Linux (Ubuntu 20.04.3 LTS) / x86_64  OK    OK    OK  UNNEEDED, same version is already published
Package 136/588HostnameOS / ArchINSTALLBUILDCHECKBUILD BIN
DEFormats 1.23.0  (landing page)
Andrzej Oleś
git_last_commit: 166a3cf
git_last_commit_date: 2021-10-26 12:26:36 -0500
nebbiolo1Linux (Ubuntu 20.04.3 LTS) / x86_64  OK    OK    OK  UNNEEDED, same version is already published
Package 137/588HostnameOS / ArchINSTALLBUILDCHECKBUILD BIN
DegNorm 1.5.0  (landing page)
Ji-Ping Wang
git_last_commit: 5363c21
git_last_commit_date: 2021-10-26 13:00:12 -0500
nebbiolo1Linux (Ubuntu 20.04.3 LTS) / x86_64  OK    OK    OK  UNNEEDED, same version is already published
Package 138/588HostnameOS / ArchINSTALLBUILDCHECKBUILD BIN
DEGreport 1.31.1  (landing page)
Lorena Pantano
git_last_commit: b52cdc8
git_last_commit_date: 2021-11-20 23:31:34 -0500
nebbiolo1Linux (Ubuntu 20.04.3 LTS) / x86_64  OK    OK    OK  UNNEEDED, same version is already published
Package 139/588HostnameOS / ArchINSTALLBUILDCHECKBUILD BIN
DelayedArray 0.21.2  (landing page)
Hervé Pagès
git_last_commit: abcd154
git_last_commit_date: 2021-11-15 14:40:26 -0500
nebbiolo1Linux (Ubuntu 20.04.3 LTS) / x86_64  OK    OK    WARNINGS  UNNEEDED, same version is already published
Package 140/588HostnameOS / ArchINSTALLBUILDCHECKBUILD BIN
DelayedDataFrame 1.11.0  (landing page)
Qian Liu
git_last_commit: 449bc39
git_last_commit_date: 2021-10-26 12:48:35 -0500
nebbiolo1Linux (Ubuntu 20.04.3 LTS) / x86_64  OK    OK    OK  UNNEEDED, same version is already published
Package 141/588HostnameOS / ArchINSTALLBUILDCHECKBUILD BIN
DelayedMatrixStats 1.17.0  (landing page)
Peter Hickey
git_last_commit: 8fe318b
git_last_commit_date: 2021-10-26 12:39:13 -0500
nebbiolo1Linux (Ubuntu 20.04.3 LTS) / x86_64  OK    OK    OK  UNNEEDED, same version is already published
Package 142/588HostnameOS / ArchINSTALLBUILDCHECKBUILD BIN
derfinder 1.29.0  (landing page)
Leonardo Collado-Torres
git_last_commit: 5c1cbd4
git_last_commit_date: 2021-10-26 12:16:21 -0500
nebbiolo1Linux (Ubuntu 20.04.3 LTS) / x86_64  OK    OK    OK  UNNEEDED, same version is already published
Package 143/588HostnameOS / ArchINSTALLBUILDCHECKBUILD BIN
derfinderHelper 1.29.0  (landing page)
Leonardo Collado-Torres
git_last_commit: 31ad97e
git_last_commit_date: 2021-11-22 19:56:26 -0500
nebbiolo1Linux (Ubuntu 20.04.3 LTS) / x86_64  OK    OK    OK  UNNEEDED, same version is already published
Package 144/588HostnameOS / ArchINSTALLBUILDCHECKBUILD BIN
derfinderPlot 1.29.1  (landing page)
Leonardo Collado-Torres
git_last_commit: c6ca8d2
git_last_commit_date: 2021-11-22 19:33:05 -0500
nebbiolo1Linux (Ubuntu 20.04.3 LTS) / x86_64  OK    OK    OK  UNNEEDED, same version is already published
Package 145/588HostnameOS / ArchINSTALLBUILDCHECKBUILD BIN
DEScan2 1.15.2  (landing page)
Dario Righelli
git_last_commit: f8c695a
git_last_commit_date: 2021-11-20 23:32:10 -0500
nebbiolo1Linux (Ubuntu 20.04.3 LTS) / x86_64  ERROR    ERROR  skipped
Package 146/588HostnameOS / ArchINSTALLBUILDCHECKBUILD BIN
DESeq2 1.35.0  (landing page)
Michael Love
git_last_commit: f722b14
git_last_commit_date: 2021-10-26 12:06:54 -0500
nebbiolo1Linux (Ubuntu 20.04.3 LTS) / x86_64  OK    OK    OK  UNNEEDED, same version is already published
Package 147/588HostnameOS / ArchINSTALLBUILDCHECKBUILD BIN
DEWSeq 1.9.1  (landing page)
bioinformatics team Hentze
git_last_commit: a5f50fc
git_last_commit_date: 2021-11-20 03:58:27 -0500
nebbiolo1Linux (Ubuntu 20.04.3 LTS) / x86_64  OK    OK    OK  UNNEEDED, same version is already published
Package 148/588HostnameOS / ArchINSTALLBUILDCHECKBUILD BIN
DEXSeq 1.41.0  (landing page)
Alejandro Reyes
git_last_commit: 07c0807
git_last_commit_date: 2021-10-26 11:59:26 -0500
nebbiolo1Linux (Ubuntu 20.04.3 LTS) / x86_64  OK    OK    OK  UNNEEDED, same version is already published
Package 149/588HostnameOS / ArchINSTALLBUILDCHECKBUILD BIN
DiffBind 3.5.1  (landing page)
Rory Stark
git_last_commit: 46882c9
git_last_commit_date: 2021-12-01 12:02:17 -0500
nebbiolo1Linux (Ubuntu 20.04.3 LTS) / x86_64  OK    OK    OK  UNNEEDED, same version is already published
Package 150/588HostnameOS / ArchINSTALLBUILDCHECKBUILD BIN
diffcyt 1.15.0  (landing page)
Lukas M. Weber
git_last_commit: 4d4f49e
git_last_commit_date: 2021-10-26 12:43:31 -0500
nebbiolo1Linux (Ubuntu 20.04.3 LTS) / x86_64  OK    OK    OK  UNNEEDED, same version is already published
Package 151/588HostnameOS / ArchINSTALLBUILDCHECKBUILD BIN
diffHic 1.27.1  (landing page)
Aaron Lun
git_last_commit: 8fc1214
git_last_commit_date: 2021-11-17 00:39:29 -0500
nebbiolo1Linux (Ubuntu 20.04.3 LTS) / x86_64  OK    OK    OK  UNNEEDED, same version is already published
Package 152/588HostnameOS / ArchINSTALLBUILDCHECKBUILD BIN
diffloop 1.23.1  (landing page)
Caleb Lareau
git_last_commit: a71bf82
git_last_commit_date: 2021-11-20 03:59:02 -0500
nebbiolo1Linux (Ubuntu 20.04.3 LTS) / x86_64  OK    OK    OK  NO, package depends on 'Sushi' which is not available
Package 153/588HostnameOS / ArchINSTALLBUILDCHECKBUILD BIN
diffUTR 1.3.0  (landing page)
Pierre-Luc Germain
git_last_commit: c9ce0d7
git_last_commit_date: 2021-10-26 13:09:41 -0500
nebbiolo1Linux (Ubuntu 20.04.3 LTS) / x86_64  OK    OK    OK  UNNEEDED, same version is already published
Package 154/588HostnameOS / ArchINSTALLBUILDCHECKBUILD BIN
Dino 1.1.0  (landing page)
Jared Brown
git_last_commit: 161707f
git_last_commit_date: 2021-10-26 13:11:09 -0500
nebbiolo1Linux (Ubuntu 20.04.3 LTS) / x86_64  OK    OK    OK  UNNEEDED, same version is already published
Package 155/588HostnameOS / ArchINSTALLBUILDCHECKBUILD BIN
DirichletMultinomial 1.37.0  (landing page)
Martin Morgan
git_last_commit: 13a0c2b
git_last_commit_date: 2021-10-26 12:03:07 -0500
nebbiolo1Linux (Ubuntu 20.04.3 LTS) / x86_64  OK    OK    OK  UNNEEDED, same version is already published
Package 156/588HostnameOS / ArchINSTALLBUILDCHECKBUILD BIN
DiscoRhythm 1.11.0  (landing page)
Matthew Carlucci
git_last_commit: 74e90e8
git_last_commit_date: 2021-10-26 12:50:49 -0500
nebbiolo1Linux (Ubuntu 20.04.3 LTS) / x86_64  OK    OK    OK  UNNEEDED, same version is already published
Package 157/588HostnameOS / ArchINSTALLBUILDCHECKBUILD BIN
dittoSeq 1.7.0  (landing page)
Daniel Bunis
git_last_commit: b158b29
git_last_commit_date: 2021-10-26 12:57:43 -0500
nebbiolo1Linux (Ubuntu 20.04.3 LTS) / x86_64  OK    OK    OK  UNNEEDED, same version is already published
Package 158/588HostnameOS / ArchINSTALLBUILDCHECKBUILD BIN
DMCFB 1.9.0  (landing page)
Farhad Shokoohi
git_last_commit: b4b8c82
git_last_commit_date: 2021-10-26 12:54:46 -0500
nebbiolo1Linux (Ubuntu 20.04.3 LTS) / x86_64  OK    OK    OK  UNNEEDED, same version is already published
Package 159/588HostnameOS / ArchINSTALLBUILDCHECKBUILD BIN
DMCHMM 1.17.0  (landing page)
Farhad Shokoohi
git_last_commit: dcbe4c5
git_last_commit_date: 2021-10-26 12:37:33 -0500
nebbiolo1Linux (Ubuntu 20.04.3 LTS) / x86_64  OK    OK    OK  UNNEEDED, same version is already published
Package 160/588HostnameOS / ArchINSTALLBUILDCHECKBUILD BIN
DMRcaller 1.27.1  (landing page)
Nicolae Radu Zabet
git_last_commit: b5efd8f
git_last_commit_date: 2021-11-17 09:00:23 -0500
nebbiolo1Linux (Ubuntu 20.04.3 LTS) / x86_64  OK    OK    OK  UNNEEDED, same version is already published
Package 161/588HostnameOS / ArchINSTALLBUILDCHECKBUILD BIN
DMRcate 2.9.0  (landing page)
Tim Peters
git_last_commit: ce2a1d6
git_last_commit_date: 2021-10-26 12:12:00 -0500
nebbiolo1Linux (Ubuntu 20.04.3 LTS) / x86_64  OK    OK    WARNINGS  UNNEEDED, same version is already published
Package 162/588HostnameOS / ArchINSTALLBUILDCHECKBUILD BIN
dmrseq 1.15.1  (landing page)
Keegan Korthauer
git_last_commit: e64d866
git_last_commit_date: 2021-11-15 19:56:46 -0500
nebbiolo1Linux (Ubuntu 20.04.3 LTS) / x86_64  OK    OK    OK  UNNEEDED, same version is already published
Package 163/588HostnameOS / ArchINSTALLBUILDCHECKBUILD BIN
doseR 1.11.1  (landing page)
ake.vastermark
git_last_commit: a2e222d
git_last_commit_date: 2021-11-20 23:36:20 -0500
nebbiolo1Linux (Ubuntu 20.04.3 LTS) / x86_64  OK    OK    OK  UNNEEDED, same version is already published
Package 164/588HostnameOS / ArchINSTALLBUILDCHECKBUILD BIN
DRIMSeq 1.23.0  (landing page)
Malgorzata Nowicka
git_last_commit: 6156d62
git_last_commit_date: 2021-10-26 12:26:21 -0500
nebbiolo1Linux (Ubuntu 20.04.3 LTS) / x86_64  OK    OK    WARNINGS  UNNEEDED, same version is already published
Package 165/588HostnameOS / ArchINSTALLBUILDCHECKBUILD BIN
DropletUtils 1.15.2  (landing page)
Jonathan Griffiths
git_last_commit: b5fd73b
git_last_commit_date: 2021-11-11 13:22:23 -0500
nebbiolo1Linux (Ubuntu 20.04.3 LTS) / x86_64  OK    OK    OK  UNNEEDED, same version is already published
Package 166/588HostnameOS / ArchINSTALLBUILDCHECKBUILD BIN
drugTargetInteractions 1.3.0  (landing page)
Thomas Girke
git_last_commit: 3a1520e
git_last_commit_date: 2021-10-26 13:08:09 -0500
nebbiolo1Linux (Ubuntu 20.04.3 LTS) / x86_64  OK    OK    OK  UNNEEDED, same version is already published
Package 167/588HostnameOS / ArchINSTALLBUILDCHECKBUILD BIN
dStruct 1.1.0  (landing page)
Krishna Choudhary
git_last_commit: 805d634
git_last_commit_date: 2021-10-26 13:10:53 -0500
nebbiolo1Linux (Ubuntu 20.04.3 LTS) / x86_64  OK    OK    OK  UNNEEDED, same version is already published
Package 168/588HostnameOS / ArchINSTALLBUILDCHECKBUILD BIN
easyRNASeq 2.31.0  (landing page)
Nicolas Delhomme
git_last_commit: 0194dad
git_last_commit_date: 2021-10-26 12:01:41 -0500
nebbiolo1Linux (Ubuntu 20.04.3 LTS) / x86_64  OK    OK    OK  UNNEEDED, same version is already published
Package 169/588HostnameOS / ArchINSTALLBUILDCHECKBUILD BIN
eegc 1.21.0  (landing page)
Xiaoyuan Zhou
git_last_commit: c70bd39
git_last_commit_date: 2021-10-26 12:29:44 -0500
nebbiolo1Linux (Ubuntu 20.04.3 LTS) / x86_64  OK    OK    WARNINGS  UNNEEDED, same version is already published
Package 170/588HostnameOS / ArchINSTALLBUILDCHECKBUILD BIN
eisaR 1.7.0  (landing page)
Michael Stadler
git_last_commit: 6bca93c
git_last_commit_date: 2021-10-26 12:57:58 -0500
nebbiolo1Linux (Ubuntu 20.04.3 LTS) / x86_64  OK    OK    OK  UNNEEDED, same version is already published
Package 171/588HostnameOS / ArchINSTALLBUILDCHECKBUILD BIN
ELMER 2.19.0  (landing page)
Tiago Chedraoui Silva
git_last_commit: cc0e36c
git_last_commit_date: 2021-11-09 11:00:18 -0500
nebbiolo1Linux (Ubuntu 20.04.3 LTS) / x86_64  OK    OK    ERROR  
Package 172/588HostnameOS / ArchINSTALLBUILDCHECKBUILD BIN
enhancerHomologSearch 1.1.0  (landing page)
Jianhong Ou
git_last_commit: 603b621
git_last_commit_date: 2021-10-26 13:11:45 -0500
nebbiolo1Linux (Ubuntu 20.04.3 LTS) / x86_64  OK    OK    WARNINGS  UNNEEDED, same version is already published
Package 173/588HostnameOS / ArchINSTALLBUILDCHECKBUILD BIN
ENmix 1.31.0  (landing page)
Zongli Xu
git_last_commit: 4cc6e37
git_last_commit_date: 2021-10-26 12:20:15 -0500
nebbiolo1Linux (Ubuntu 20.04.3 LTS) / x86_64  OK    OK    OK  UNNEEDED, same version is already published
Package 174/588HostnameOS / ArchINSTALLBUILDCHECKBUILD BIN
EnrichmentBrowser 2.25.0  (landing page)
Ludwig Geistlinger
git_last_commit: 9b3c8fa
git_last_commit_date: 2021-10-26 12:15:55 -0500
nebbiolo1Linux (Ubuntu 20.04.3 LTS) / x86_64  OK    OK    OK  UNNEEDED, same version is already published
Package 175/588HostnameOS / ArchINSTALLBUILDCHECKBUILD BIN
enrichTF 1.11.0  (landing page)
Zheng Wei
git_last_commit: 032eacf
git_last_commit_date: 2021-10-26 12:51:43 -0500
nebbiolo1Linux (Ubuntu 20.04.3 LTS) / x86_64  OK    OK    OK  UNNEEDED, same version is already published
Package 176/588HostnameOS / ArchINSTALLBUILDCHECKBUILD BIN
ensembldb 2.19.3  (landing page)
Johannes Rainer
git_last_commit: b29a79c
git_last_commit_date: 2021-11-15 20:42:58 -0500
nebbiolo1Linux (Ubuntu 20.04.3 LTS) / x86_64  OK    OK    OK  UNNEEDED, same version is already published
Package 177/588HostnameOS / ArchINSTALLBUILDCHECKBUILD BIN
ensemblVEP 1.37.0  (landing page)
Bioconductor Package Maintainer
git_last_commit: 4b996be
git_last_commit_date: 2021-10-26 12:05:50 -0500
nebbiolo1Linux (Ubuntu 20.04.3 LTS) / x86_64  OK    OK    OK  UNNEEDED, same version is already published
Package 178/588HostnameOS / ArchINSTALLBUILDCHECKBUILD BIN
epigenomix 1.35.1  (landing page)
Hans-Ulrich Klein
git_last_commit: bf5904f
git_last_commit_date: 2021-11-18 19:30:22 -0500
nebbiolo1Linux (Ubuntu 20.04.3 LTS) / x86_64  OK    OK    OK  UNNEEDED, same version is already published
Package 179/588HostnameOS / ArchINSTALLBUILDCHECKBUILD BIN
epigraHMM 1.3.1  (landing page)
Pedro Baldoni
git_last_commit: c75facf
git_last_commit_date: 2021-12-02 18:38:04 -0500
nebbiolo1Linux (Ubuntu 20.04.3 LTS) / x86_64  OK    OK    OK  YES
Package 180/588HostnameOS / ArchINSTALLBUILDCHECKBUILD BIN
epihet 1.11.1  (landing page)
Xiaowen Chen
git_last_commit: ec4edcc
git_last_commit_date: 2021-11-18 20:22:56 -0500
nebbiolo1Linux (Ubuntu 20.04.3 LTS) / x86_64  OK    OK    OK  UNNEEDED, same version is already published
Package 181/588HostnameOS / ArchINSTALLBUILDCHECKBUILD BIN
epistack 1.1.2  (landing page)
DEVAILLY Guillaume
git_last_commit: 4d882ca
git_last_commit_date: 2021-11-23 04:57:24 -0500
nebbiolo1Linux (Ubuntu 20.04.3 LTS) / x86_64  OK    OK    OK  UNNEEDED, same version is already published
Package 182/588HostnameOS / ArchINSTALLBUILDCHECKBUILD BIN
EpiTxDb 1.7.0  (landing page)
Felix G.M. Ernst
git_last_commit: cf60f9b
git_last_commit_date: 2021-10-26 12:58:00 -0500
nebbiolo1Linux (Ubuntu 20.04.3 LTS) / x86_64  OK    OK    OK  UNNEEDED, same version is already published
Package 183/588HostnameOS / ArchINSTALLBUILDCHECKBUILD BIN
epivizr 2.25.1  (landing page)
Hector Corrada Bravo
git_last_commit: c67ed92
git_last_commit_date: 2021-11-20 23:37:45 -0500
nebbiolo1Linux (Ubuntu 20.04.3 LTS) / x86_64  OK    OK    OK  UNNEEDED, same version is already published
Package 184/588HostnameOS / ArchINSTALLBUILDCHECKBUILD BIN
epivizrData 1.23.0  (landing page)
Hector Corrada Bravo
git_last_commit: abfa958
git_last_commit_date: 2021-10-26 12:27:38 -0500
nebbiolo1Linux (Ubuntu 20.04.3 LTS) / x86_64  OK    OK    OK  UNNEEDED, same version is already published
Package 185/588HostnameOS / ArchINSTALLBUILDCHECKBUILD BIN
epivizrStandalone 1.23.0  (landing page)
Hector Corrada Bravo
git_last_commit: 7438da4
git_last_commit_date: 2021-10-26 12:27:54 -0500
nebbiolo1Linux (Ubuntu 20.04.3 LTS) / x86_64  OK    OK    OK  UNNEEDED, same version is already published
Package 186/588HostnameOS / ArchINSTALLBUILDCHECKBUILD BIN
erma 1.11.0  (landing page)
VJ Carey
git_last_commit: 1a4ab97
git_last_commit_date: 2021-10-26 12:21:07 -0500
nebbiolo1Linux (Ubuntu 20.04.3 LTS) / x86_64  OK    OK    OK  UNNEEDED, same version is already published
Package 187/588HostnameOS / ArchINSTALLBUILDCHECKBUILD BIN
esATAC 1.17.0  (landing page)
Zheng Wei
git_last_commit: 034ddac
git_last_commit_date: 2021-10-26 12:40:03 -0500
nebbiolo1Linux (Ubuntu 20.04.3 LTS) / x86_64  OK    OK    OK  UNNEEDED, same version is already published
Package 188/588HostnameOS / ArchINSTALLBUILDCHECKBUILD BIN
EventPointer 3.3.1  (landing page)
Juan A. Ferrer-Bonsoms
git_last_commit: f6f00a0
git_last_commit_date: 2021-11-20 23:53:56 -0500
nebbiolo1Linux (Ubuntu 20.04.3 LTS) / x86_64  OK    OK    OK  UNNEEDED, same version is already published
Package 189/588HostnameOS / ArchINSTALLBUILDCHECKBUILD BIN
exomePeak2 1.7.1  (landing page)
Zhen Wei
git_last_commit: 5d8ded6
git_last_commit_date: 2021-11-20 04:00:53 -0500
nebbiolo1Linux (Ubuntu 20.04.3 LTS) / x86_64  OK    OK    WARNINGS  UNNEEDED, same version is already published
Package 190/588HostnameOS / ArchINSTALLBUILDCHECKBUILD BIN
ExperimentHub 2.3.4  (landing page)
Bioconductor Package Maintainer
git_last_commit: 20f185a
git_last_commit_date: 2021-11-15 01:07:16 -0500
nebbiolo1Linux (Ubuntu 20.04.3 LTS) / x86_64  OK    OK    OK  UNNEEDED, same version is already published
Package 191/588HostnameOS / ArchINSTALLBUILDCHECKBUILD BIN
ExperimentHubData 1.21.2  (landing page)
Bioconductor Package Maintainer
git_last_commit: c808eb2
git_last_commit_date: 2021-11-24 13:01:28 -0500
nebbiolo1Linux (Ubuntu 20.04.3 LTS) / x86_64  OK    OK    OK  UNNEEDED, same version is already published
Package 192/588HostnameOS / ArchINSTALLBUILDCHECKBUILD BIN
ExperimentSubset 1.5.0  (landing page)
Irzam Sarfraz
git_last_commit: ce90b14
git_last_commit_date: 2021-10-26 13:03:55 -0500
nebbiolo1Linux (Ubuntu 20.04.3 LTS) / x86_64  OK    OK    OK  UNNEEDED, same version is already published
Package 193/588HostnameOS / ArchINSTALLBUILDCHECKBUILD BIN
ExploreModelMatrix 1.7.0  (landing page)
Charlotte Soneson
git_last_commit: 16cefd7
git_last_commit_date: 2021-10-27 02:47:44 -0500
nebbiolo1Linux (Ubuntu 20.04.3 LTS) / x86_64  OK    OK    OK  UNNEEDED, same version is already published
Package 194/588HostnameOS / ArchINSTALLBUILDCHECKBUILD BIN
ExpressionAtlas 1.23.1  (landing page)
Pedro Madrigal
git_last_commit: 1971922
git_last_commit_date: 2021-11-20 04:01:57 -0500
nebbiolo1Linux (Ubuntu 20.04.3 LTS) / x86_64  OK    OK    OK  UNNEEDED, same version is already published
Package 195/588HostnameOS / ArchINSTALLBUILDCHECKBUILD BIN
FastqCleaner 1.13.0  (landing page)
Leandro Roser
git_last_commit: a573586
git_last_commit_date: 2021-10-26 12:45:04 -0500
nebbiolo1Linux (Ubuntu 20.04.3 LTS) / x86_64  OK    OK    OK  UNNEEDED, same version is already published
Package 196/588HostnameOS / ArchINSTALLBUILDCHECKBUILD BIN
fastseg 1.41.0  (landing page)
Guenter Klambauer
git_last_commit: 4a320b1
git_last_commit_date: 2021-10-26 12:01:23 -0500
nebbiolo1Linux (Ubuntu 20.04.3 LTS) / x86_64  OK    OK    WARNINGS  UNNEEDED, same version is already published
Package 197/588HostnameOS / ArchINSTALLBUILDCHECKBUILD BIN
fCCAC 1.21.0  (landing page)
Pedro Madrigal
git_last_commit: d388209
git_last_commit_date: 2021-10-26 12:31:23 -0500
nebbiolo1Linux (Ubuntu 20.04.3 LTS) / x86_64  OK    OK    OK  UNNEEDED, same version is already published
Package 198/588HostnameOS / ArchINSTALLBUILDCHECKBUILD BIN
FilterFFPE 1.5.0  (landing page)
Lanying Wei
git_last_commit: 038997f
git_last_commit_date: 2021-10-26 13:02:40 -0500
nebbiolo1Linux (Ubuntu 20.04.3 LTS) / x86_64  OK    OK    OK  UNNEEDED, same version is already published
Package 199/588HostnameOS / ArchINSTALLBUILDCHECKBUILD BIN
FindIT2 1.1.2  (landing page)
Guandong Shang
git_last_commit: aea7f14
git_last_commit_date: 2021-11-23 19:50:32 -0500
nebbiolo1Linux (Ubuntu 20.04.3 LTS) / x86_64  OK    OK    OK  UNNEEDED, same version is already published
Package 200/588HostnameOS / ArchINSTALLBUILDCHECKBUILD BIN
fishpond 2.1.1  (landing page)
Michael Love
git_last_commit: c3773c0
git_last_commit_date: 2021-11-30 14:29:54 -0500
nebbiolo1Linux (Ubuntu 20.04.3 LTS) / x86_64  OK    OK    OK  UNNEEDED, same version is already published
Package 201/588HostnameOS / ArchINSTALLBUILDCHECKBUILD BIN
FLAMES 1.1.2  (landing page)
Voogd Oliver
git_last_commit: cf97e30
git_last_commit_date: 2021-11-03 18:27:48 -0500
nebbiolo1Linux (Ubuntu 20.04.3 LTS) / x86_64  OK    OK    OK  UNNEEDED, same version is already published
Package 202/588HostnameOS / ArchINSTALLBUILDCHECKBUILD BIN
flowCore 2.7.0  (landing page)
Mike Jiang
git_last_commit: f9ecce1
git_last_commit_date: 2021-10-26 11:50:30 -0500
nebbiolo1Linux (Ubuntu 20.04.3 LTS) / x86_64  OK    OK    OK  UNNEEDED, same version is already published
Package 203/588HostnameOS / ArchINSTALLBUILDCHECKBUILD BIN
flowWorkspace 4.7.0  (landing page)
Greg Finak , Mike Jiang
git_last_commit: d3559f6
git_last_commit_date: 2021-10-26 11:59:12 -0500
nebbiolo1Linux (Ubuntu 20.04.3 LTS) / x86_64  OK    OK    WARNINGS  UNNEEDED, same version is already published
Package 204/588HostnameOS / ArchINSTALLBUILDCHECKBUILD BIN
FRASER 1.7.0  (landing page)
Christian Mertes
git_last_commit: e6fb5aa
git_last_commit_date: 2021-10-26 12:59:14 -0500
nebbiolo1Linux (Ubuntu 20.04.3 LTS) / x86_64  OK    OK    OK  UNNEEDED, same version is already published
Package 205/588HostnameOS / ArchINSTALLBUILDCHECKBUILD BIN
GA4GHclient 1.19.1  (landing page)
Welliton Souza
git_last_commit: 6d21d42
git_last_commit_date: 2021-11-18 19:26:44 -0500
nebbiolo1Linux (Ubuntu 20.04.3 LTS) / x86_64  OK    ERROR  skipped
Package 206/588HostnameOS / ArchINSTALLBUILDCHECKBUILD BIN
GA4GHshiny 1.17.0  (landing page)
Welliton Souza
git_last_commit: 649392e
git_last_commit_date: 2021-10-26 12:35:32 -0500
nebbiolo1Linux (Ubuntu 20.04.3 LTS) / x86_64  OK    OK    OK  UNNEEDED, same version is already published
Package 207/588HostnameOS / ArchINSTALLBUILDCHECKBUILD BIN
gcapc 1.19.0  (landing page)
Mingxiang Teng
git_last_commit: 10df27c
git_last_commit_date: 2021-10-26 12:31:55 -0500
nebbiolo1Linux (Ubuntu 20.04.3 LTS) / x86_64  OK    OK    OK  UNNEEDED, same version is already published
Package 208/588HostnameOS / ArchINSTALLBUILDCHECKBUILD BIN
GDSArray 1.15.0  (landing page)
Qian Liu
git_last_commit: 230743e
git_last_commit_date: 2021-10-26 12:43:25 -0500
nebbiolo1Linux (Ubuntu 20.04.3 LTS) / x86_64  OK    OK    OK  UNNEEDED, same version is already published
Package 209/588HostnameOS / ArchINSTALLBUILDCHECKBUILD BIN
genbankr 1.23.0  (landing page)
Gabriel Becker
git_last_commit: 1300dcf
git_last_commit_date: 2021-10-26 12:27:18 -0500
nebbiolo1Linux (Ubuntu 20.04.3 LTS) / x86_64  OK    OK    OK  UNNEEDED, same version is already published
Package 210/588HostnameOS / ArchINSTALLBUILDCHECKBUILD BIN
GeneRegionScan 1.51.0  (landing page)
Lasse Folkersen
git_last_commit: 19a5f13
git_last_commit_date: 2021-10-26 11:53:49 -0500
nebbiolo1Linux (Ubuntu 20.04.3 LTS) / x86_64  OK    OK    OK  UNNEEDED, same version is already published
Package 211/588HostnameOS / ArchINSTALLBUILDCHECKBUILD BIN
GENESIS 2.25.0  (landing page)
Stephanie M. Gogarten
git_last_commit: e8cb0a2
git_last_commit_date: 2021-10-26 12:19:20 -0500
nebbiolo1Linux (Ubuntu 20.04.3 LTS) / x86_64  OK    OK    OK  UNNEEDED, same version is already published
Package 212/588HostnameOS / ArchINSTALLBUILDCHECKBUILD BIN
GeneStructureTools 1.15.0  (landing page)
Beth Signal
git_last_commit: f104af6
git_last_commit_date: 2021-10-26 12:42:28 -0500
nebbiolo1Linux (Ubuntu 20.04.3 LTS) / x86_64  OK    OK    OK  UNNEEDED, same version is already published
Package 213/588HostnameOS / ArchINSTALLBUILDCHECKBUILD BIN
GeneTonic 1.7.1  (landing page)
Federico Marini
git_last_commit: 4907b77
git_last_commit_date: 2021-12-01 18:04:22 -0500
nebbiolo1Linux (Ubuntu 20.04.3 LTS) / x86_64  OK    OK    OK  UNNEEDED, same version is already published
Package 214/588HostnameOS / ArchINSTALLBUILDCHECKBUILD BIN
GenoGAM 2.13.0  (landing page)
Georg Stricker
git_last_commit: fd1903b
git_last_commit_date: 2021-10-26 12:26:42 -0500
nebbiolo1Linux (Ubuntu 20.04.3 LTS) / x86_64  OK    ERROR  skipped
Package 215/588HostnameOS / ArchINSTALLBUILDCHECKBUILD BIN
genomation 1.27.1  (landing page)
Altuna Akalin , Vedran Franke
git_last_commit: fe8db24
git_last_commit_date: 2021-11-18 16:59:51 -0500
nebbiolo1Linux (Ubuntu 20.04.3 LTS) / x86_64  OK    OK    WARNINGS  UNNEEDED, same version is already published
Package 216/588HostnameOS / ArchINSTALLBUILDCHECKBUILD BIN
GenomeInfoDb 1.31.1  (landing page)
Bioconductor Package Maintainer
git_last_commit: d4604b1
git_last_commit_date: 2021-10-28 00:21:51 -0500
nebbiolo1Linux (Ubuntu 20.04.3 LTS) / x86_64  OK    OK    OK  UNNEEDED, same version is already published
Package 217/588HostnameOS / ArchINSTALLBUILDCHECKBUILD BIN
genomeIntervals 1.51.0  (landing page)
Julien Gagneur
git_last_commit: ddb6c83
git_last_commit_date: 2021-10-26 11:53:39 -0500
nebbiolo1Linux (Ubuntu 20.04.3 LTS) / x86_64  OK    OK    OK  UNNEEDED, same version is already published
Package 218/588HostnameOS / ArchINSTALLBUILDCHECKBUILD BIN
GenomicAlignments 1.31.2  (landing page)
Bioconductor Package Maintainer
git_last_commit: 6043a0a
git_last_commit_date: 2021-11-03 18:06:15 -0500
nebbiolo1Linux (Ubuntu 20.04.3 LTS) / x86_64  OK    OK    OK  UNNEEDED, same version is already published
Package 219/588HostnameOS / ArchINSTALLBUILDCHECKBUILD BIN
GenomicDataCommons 1.19.1  (landing page)
Sean Davis
git_last_commit: e015531
git_last_commit_date: 2021-11-01 12:02:39 -0500
nebbiolo1Linux (Ubuntu 20.04.3 LTS) / x86_64  OK    OK    WARNINGS  UNNEEDED, same version is already published
Package 220/588HostnameOS / ArchINSTALLBUILDCHECKBUILD BIN
GenomicFeatures 1.47.3  (landing page)
Bioconductor Package Maintainer
git_last_commit: cb9859a
git_last_commit_date: 2021-11-21 00:14:42 -0500
nebbiolo1Linux (Ubuntu 20.04.3 LTS) / x86_64  OK    OK    WARNINGS  UNNEEDED, same version is already published
Package 221/588HostnameOS / ArchINSTALLBUILDCHECKBUILD BIN
GenomicFiles 1.31.0  (landing page)
Bioconductor Package Maintainer
git_last_commit: bf1d058
git_last_commit_date: 2021-10-26 12:13:21 -0500
nebbiolo1Linux (Ubuntu 20.04.3 LTS) / x86_64  OK    OK    OK  UNNEEDED, same version is already published
Package 222/588HostnameOS / ArchINSTALLBUILDCHECKBUILD BIN
GenomicInteractions 1.29.2  (landing page)
Liz Ing-Simmons
git_last_commit: a909e6c
git_last_commit_date: 2021-11-21 06:05:42 -0500
nebbiolo1Linux (Ubuntu 20.04.3 LTS) / x86_64  OK    OK    ERROR  
Package 223/588HostnameOS / ArchINSTALLBUILDCHECKBUILD BIN
GenomicOZone 1.9.0  (landing page)
Hua Zhong, Mingzhou Song
git_last_commit: f4b2d0f
git_last_commit_date: 2021-10-26 12:53:34 -0500
nebbiolo1Linux (Ubuntu 20.04.3 LTS) / x86_64  OK    OK    OK  UNNEEDED, same version is already published
Package 224/588HostnameOS / ArchINSTALLBUILDCHECKBUILD BIN
GenomicRanges 1.47.5  (landing page)
Bioconductor Package Maintainer
git_last_commit: 9ff3d01
git_last_commit_date: 2021-11-16 14:11:31 -0500
nebbiolo1Linux (Ubuntu 20.04.3 LTS) / x86_64  OK    OK    OK  UNNEEDED, same version is already published
Package 225/588HostnameOS / ArchINSTALLBUILDCHECKBUILD BIN
GenomicScores 2.7.1  (landing page)
Robert Castelo
git_last_commit: 7f0a387
git_last_commit_date: 2021-11-20 04:04:58 -0500
nebbiolo1Linux (Ubuntu 20.04.3 LTS) / x86_64  OK    OK    OK  UNNEEDED, same version is already published
Package 226/588HostnameOS / ArchINSTALLBUILDCHECKBUILD BIN
GenomicSuperSignature 1.3.0  (landing page)
Sehyun Oh
git_last_commit: 9f8ed81
git_last_commit_date: 2021-10-26 13:10:30 -0500
nebbiolo1Linux (Ubuntu 20.04.3 LTS) / x86_64  OK    OK    OK  UNNEEDED, same version is already published
Package 227/588HostnameOS / ArchINSTALLBUILDCHECKBUILD BIN
GenomicTuples 1.29.1  (landing page)
Peter Hickey
git_last_commit: b07bb8c
git_last_commit_date: 2021-11-21 05:49:21 -0500
nebbiolo1Linux (Ubuntu 20.04.3 LTS) / x86_64  OK    OK    OK  UNNEEDED, same version is already published
Package 228/588HostnameOS / ArchINSTALLBUILDCHECKBUILD BIN
GeomxTools 2.1.0  (landing page)
Nicole Ortogero
git_last_commit: f786ad8
git_last_commit_date: 2021-10-26 13:06:34 -0500
nebbiolo1Linux (Ubuntu 20.04.3 LTS) / x86_64  OK    OK    OK  UNNEEDED, same version is already published
Package 229/588HostnameOS / ArchINSTALLBUILDCHECKBUILD BIN
ggbio 1.43.0  (landing page)
Michael Lawrence
git_last_commit: 7f5f384
git_last_commit_date: 2021-11-05 14:03:26 -0500
nebbiolo1Linux (Ubuntu 20.04.3 LTS) / x86_64  OK    OK    WARNINGS  UNNEEDED, same version is already published
Package 230/588HostnameOS / ArchINSTALLBUILDCHECKBUILD BIN
girafe 1.47.0  (landing page)
J. Toedling
git_last_commit: 3756778
git_last_commit_date: 2021-10-26 11:55:45 -0500
nebbiolo1Linux (Ubuntu 20.04.3 LTS) / x86_64  OK    OK    OK  UNNEEDED, same version is already published
Package 231/588HostnameOS / ArchINSTALLBUILDCHECKBUILD BIN
Glimma 2.5.1  (landing page)
Shian Su
git_last_commit: 043d892
git_last_commit_date: 2021-11-20 04:06:42 -0500
nebbiolo1Linux (Ubuntu 20.04.3 LTS) / x86_64  OK    OK    ERROR  
Package 232/588HostnameOS / ArchINSTALLBUILDCHECKBUILD BIN
gmapR 1.37.0  (landing page)
Michael Lawrence
git_last_commit: 4fda1cc
git_last_commit_date: 2021-10-26 12:03:53 -0500
nebbiolo1Linux (Ubuntu 20.04.3 LTS) / x86_64  OK    OK    WARNINGS  UNNEEDED, same version is already published
Package 233/588HostnameOS / ArchINSTALLBUILDCHECKBUILD BIN
gmoviz 1.7.0  (landing page)
Kathleen Zeglinski
git_last_commit: d23d3d5
git_last_commit_date: 2021-10-26 12:58:11 -0500
nebbiolo1Linux (Ubuntu 20.04.3 LTS) / x86_64  OK    OK    OK  UNNEEDED, same version is already published
Package 234/588HostnameOS / ArchINSTALLBUILDCHECKBUILD BIN
GOpro 1.21.0  (landing page)
Lidia Chrabaszcz
git_last_commit: 8513fd9
git_last_commit_date: 2021-10-26 12:30:19 -0500
nebbiolo1Linux (Ubuntu 20.04.3 LTS) / x86_64  OK    OK    WARNINGS  UNNEEDED, same version is already published
Package 235/588HostnameOS / ArchINSTALLBUILDCHECKBUILD BIN
GOTHiC 1.31.1  (landing page)
Borbala Mifsud
git_last_commit: f0128ca
git_last_commit_date: 2021-11-18 17:07:49 -0500
nebbiolo1Linux (Ubuntu 20.04.3 LTS) / x86_64  OK    OK    OK  UNNEEDED, same version is already published
Package 236/588HostnameOS / ArchINSTALLBUILDCHECKBUILD BIN
GRmetrics 1.21.0  (landing page)
Nicholas Clark , Mario Medvedovic
git_last_commit: 1b9c877
git_last_commit_date: 2021-10-26 12:29:31 -0500
nebbiolo1Linux (Ubuntu 20.04.3 LTS) / x86_64  OK    OK    OK  UNNEEDED, same version is already published
Package 237/588HostnameOS / ArchINSTALLBUILDCHECKBUILD BIN
groHMM 1.29.1  (landing page)
Anusha Nagari , Tulip Nandu , W. Lee Kraus
git_last_commit: 0d1e238
git_last_commit_date: 2021-11-18 17:10:38 -0500
nebbiolo1Linux (Ubuntu 20.04.3 LTS) / x86_64  OK    OK    OK  UNNEEDED, same version is already published
Package 238/588HostnameOS / ArchINSTALLBUILDCHECKBUILD BIN
GSEABenchmarkeR 1.15.1  (landing page)
Ludwig Geistlinger
git_last_commit: 4c21a6a
git_last_commit_date: 2021-11-18 17:05:10 -0500
nebbiolo1Linux (Ubuntu 20.04.3 LTS) / x86_64  OK    OK    OK  UNNEEDED, same version is already published
Package 239/588HostnameOS / ArchINSTALLBUILDCHECKBUILD BIN
GSVA 1.43.1  (landing page)
Justin Guinney
git_last_commit: a2757e1
git_last_commit_date: 2021-11-19 06:39:28 -0500
nebbiolo1Linux (Ubuntu 20.04.3 LTS) / x86_64  OK    OK    OK  UNNEEDED, same version is already published
Package 240/588HostnameOS / ArchINSTALLBUILDCHECKBUILD BIN
GUIDEseq 1.25.3  (landing page)
Lihua Julie Zhu
git_last_commit: cf81669
git_last_commit_date: 2021-11-30 23:05:27 -0500
nebbiolo1Linux (Ubuntu 20.04.3 LTS) / x86_64  OK    OK    OK  UNNEEDED, same version is already published
Package 241/588HostnameOS / ArchINSTALLBUILDCHECKBUILD BIN
Gviz 1.39.1  (landing page)
Robert Ivanek
git_last_commit: 4f3f408
git_last_commit_date: 2021-11-02 15:16:34 -0500
nebbiolo1Linux (Ubuntu 20.04.3 LTS) / x86_64  OK    OK    WARNINGS  UNNEEDED, same version is already published
Package 242/588HostnameOS / ArchINSTALLBUILDCHECKBUILD BIN
gwascat 2.27.0  (landing page)
VJ Carey
git_last_commit: 126f159
git_last_commit_date: 2021-10-26 12:02:07 -0500
nebbiolo1Linux (Ubuntu 20.04.3 LTS) / x86_64  OK    OK    OK  UNNEEDED, same version is already published
Package 243/588HostnameOS / ArchINSTALLBUILDCHECKBUILD BIN
h5vc 2.29.0  (landing page)
Paul Theodor Pyl
git_last_commit: 08307f2
git_last_commit_date: 2021-10-26 12:10:50 -0500
nebbiolo1Linux (Ubuntu 20.04.3 LTS) / x86_64  OK    OK    WARNINGS  UNNEEDED, same version is already published
Package 244/588HostnameOS / ArchINSTALLBUILDCHECKBUILD BIN
HDF5Array 1.23.2  (landing page)
Hervé Pagès
git_last_commit: 4e7bd06
git_last_commit_date: 2021-11-15 12:29:31 -0500
nebbiolo1Linux (Ubuntu 20.04.3 LTS) / x86_64  OK    OK    WARNINGS  UNNEEDED, same version is already published
Package 245/588HostnameOS / ArchINSTALLBUILDCHECKBUILD BIN
HelloRanges 1.21.0  (landing page)
Michael Lawrence
git_last_commit: af59c99
git_last_commit_date: 2021-10-26 12:30:55 -0500
nebbiolo1Linux (Ubuntu 20.04.3 LTS) / x86_64  OK    OK    WARNINGS  UNNEEDED, same version is already published
Package 246/588HostnameOS / ArchINSTALLBUILDCHECKBUILD BIN
hermes 0.99.2  (landing page)
Daniel Sabanés Bové
git_last_commit: 02e1817
git_last_commit_date: 2021-11-16 05:38:44 -0500
nebbiolo1Linux (Ubuntu 20.04.3 LTS) / x86_64  OK    OK    OK  UNNEEDED, same version is already published
Package 247/588HostnameOS / ArchINSTALLBUILDCHECKBUILD BIN
HiCBricks 1.13.0  (landing page)
Koustav Pal
git_last_commit: 59e90be
git_last_commit_date: 2021-10-26 12:47:36 -0500
nebbiolo1Linux (Ubuntu 20.04.3 LTS) / x86_64  OK    ERROR  skipped
Package 248/588HostnameOS / ArchINSTALLBUILDCHECKBUILD BIN
HiCcompare 1.17.1  (landing page)
John Stansfield , Mikhail Dozmorov
git_last_commit: edac4e1
git_last_commit_date: 2021-11-20 04:09:33 -0500
nebbiolo1Linux (Ubuntu 20.04.3 LTS) / x86_64  OK    OK    WARNINGS  UNNEEDED, same version is already published
Package 249/588HostnameOS / ArchINSTALLBUILDCHECKBUILD BIN
HiCDCPlus 1.3.0  (landing page)
Merve Sahin
git_last_commit: f20a848
git_last_commit_date: 2021-10-26 13:07:04 -0500
nebbiolo1Linux (Ubuntu 20.04.3 LTS) / x86_64  OK    OK    OK  UNNEEDED, same version is already published
Package 250/588HostnameOS / ArchINSTALLBUILDCHECKBUILD BIN
HiLDA 1.9.0  (landing page)
Zhi Yang
git_last_commit: cab020f
git_last_commit_date: 2021-10-26 12:53:08 -0500
nebbiolo1Linux (Ubuntu 20.04.3 LTS) / x86_64  OK    OK    OK  UNNEEDED, same version is already published
Package 251/588HostnameOS / ArchINSTALLBUILDCHECKBUILD BIN
hipathia 2.11.1  (landing page)
Marta R. Hidalgo
git_last_commit: a617079
git_last_commit_date: 2021-11-20 04:10:38 -0500
nebbiolo1Linux (Ubuntu 20.04.3 LTS) / x86_64  OK    OK    OK  UNNEEDED, same version is already published
Package 252/588HostnameOS / ArchINSTALLBUILDCHECKBUILD BIN
hmdbQuery 1.15.0  (landing page)
VJ Carey
git_last_commit: 0e8f859
git_last_commit_date: 2021-10-26 12:40:52 -0500
nebbiolo1Linux (Ubuntu 20.04.3 LTS) / x86_64  OK    OK    ERROR  
Package 253/588HostnameOS / ArchINSTALLBUILDCHECKBUILD BIN
HTSeqGenie 4.25.1  (landing page)
Jens Reeder
git_last_commit: c66a4ad
git_last_commit_date: 2021-11-21 00:18:55 -0500
nebbiolo1Linux (Ubuntu 20.04.3 LTS) / x86_64  OK    OK    OK  UNNEEDED, same version is already published
Package 254/588HostnameOS / ArchINSTALLBUILDCHECKBUILD BIN
HumanTranscriptomeCompendium 1.11.0  (landing page)
VJ Carey
git_last_commit: 6ad4da2
git_last_commit_date: 2021-10-26 12:51:13 -0500
nebbiolo1Linux (Ubuntu 20.04.3 LTS) / x86_64  OK    OK    OK  UNNEEDED, same version is already published
Package 255/588HostnameOS / ArchINSTALLBUILDCHECKBUILD BIN
icetea 1.13.1  (landing page)
Vivek Bhardwaj
git_last_commit: 9324e97
git_last_commit_date: 2021-11-21 00:19:16 -0500
nebbiolo1Linux (Ubuntu 20.04.3 LTS) / x86_64  OK    OK    OK  UNNEEDED, same version is already published
Package 256/588HostnameOS / ArchINSTALLBUILDCHECKBUILD BIN
ideal 1.19.1  (landing page)
Federico Marini
git_last_commit: 8aae42f
git_last_commit_date: 2021-12-01 16:40:18 -0500
nebbiolo1Linux (Ubuntu 20.04.3 LTS) / x86_64  OK    OK    OK  UNNEEDED, same version is already published
Package 257/588HostnameOS / ArchINSTALLBUILDCHECKBUILD BIN
ILoReg 1.5.0  (landing page)
Johannes Smolander
git_last_commit: 3cbf204
git_last_commit_date: 2021-10-26 13:01:20 -0500
nebbiolo1Linux (Ubuntu 20.04.3 LTS) / x86_64  OK    OK    OK  UNNEEDED, same version is already published
Package 258/588HostnameOS / ArchINSTALLBUILDCHECKBUILD BIN
IMAS 1.19.0  (landing page)
Seonggyun Han
git_last_commit: 961c84c
git_last_commit_date: 2021-10-26 12:34:42 -0500
nebbiolo1Linux (Ubuntu 20.04.3 LTS) / x86_64  OK    OK    OK  UNNEEDED, same version is already published
Package 259/588HostnameOS / ArchINSTALLBUILDCHECKBUILD BIN
imcRtools 1.1.1  (landing page)
Nils Eling
git_last_commit: 9450e5e
git_last_commit_date: 2021-11-22 15:43:16 -0500
nebbiolo1Linux (Ubuntu 20.04.3 LTS) / x86_64  OK    OK    OK  UNNEEDED, same version is already published
Package 260/588HostnameOS / ArchINSTALLBUILDCHECKBUILD BIN
InPAS 2.3.1  (landing page)
Jianhong Ou
git_last_commit: 320001a
git_last_commit_date: 2021-11-20 04:40:58 -0500
nebbiolo1Linux (Ubuntu 20.04.3 LTS) / x86_64  OK    OK    OK  UNNEEDED, same version is already published
Package 261/588HostnameOS / ArchINSTALLBUILDCHECKBUILD BIN
INSPEcT 1.25.0  (landing page)
Stefano de Pretis
git_last_commit: e99d196
git_last_commit_date: 2021-10-26 12:21:19 -0500
nebbiolo1Linux (Ubuntu 20.04.3 LTS) / x86_64  OK    OK    OK  UNNEEDED, same version is already published
Package 262/588HostnameOS / ArchINSTALLBUILDCHECKBUILD BIN
InTAD 1.15.1  (landing page)
Konstantin Okonechnikov
git_last_commit: c176b6f
git_last_commit_date: 2021-11-20 04:41:32 -0500
nebbiolo1Linux (Ubuntu 20.04.3 LTS) / x86_64  OK    OK    OK  UNNEEDED, same version is already published
Package 263/588HostnameOS / ArchINSTALLBUILDCHECKBUILD BIN
InteractionSet 1.23.1  (landing page)
Aaron Lun
git_last_commit: 36be45b
git_last_commit_date: 2021-11-17 01:24:52 -0500
nebbiolo1Linux (Ubuntu 20.04.3 LTS) / x86_64  OK    OK    WARNINGS  UNNEEDED, same version is already published
Package 264/588HostnameOS / ArchINSTALLBUILDCHECKBUILD BIN
InteractiveComplexHeatmap 1.3.0  (landing page)
Zuguang Gu
git_last_commit: 9b86bd9
git_last_commit_date: 2021-10-26 13:06:23 -0500
nebbiolo1Linux (Ubuntu 20.04.3 LTS) / x86_64  OK    OK    OK  UNNEEDED, same version is already published
Package 265/588HostnameOS / ArchINSTALLBUILDCHECKBUILD BIN
IntEREst 1.19.1  (landing page)
Ali Oghabian , Mikko Frilander
git_last_commit: af24676
git_last_commit_date: 2021-11-20 04:42:00 -0500
nebbiolo1Linux (Ubuntu 20.04.3 LTS) / x86_64  OK    OK    OK  UNNEEDED, same version is already published
Package 266/588HostnameOS / ArchINSTALLBUILDCHECKBUILD BIN
InterMineR 1.17.0  (landing page)
InterMine Team
git_last_commit: bb63b24
git_last_commit_date: 2021-10-26 12:37:51 -0500
nebbiolo1Linux (Ubuntu 20.04.3 LTS) / x86_64  OK    OK    ERROR  
Package 267/588HostnameOS / ArchINSTALLBUILDCHECKBUILD BIN
IRanges 2.29.1  (landing page)
Bioconductor Package Maintainer
git_last_commit: 46d535b
git_last_commit_date: 2021-11-16 01:17:17 -0500
nebbiolo1Linux (Ubuntu 20.04.3 LTS) / x86_64  OK    OK    WARNINGS  UNNEEDED, same version is already published
Package 268/588HostnameOS / ArchINSTALLBUILDCHECKBUILD BIN
iSEE 2.7.0  (landing page)
Kevin Rue-Albrecht
git_last_commit: c6bb93a
git_last_commit_date: 2021-10-26 12:42:43 -0500
nebbiolo1Linux (Ubuntu 20.04.3 LTS) / x86_64  OK    OK    OK  UNNEEDED, same version is already published
Package 269/588HostnameOS / ArchINSTALLBUILDCHECKBUILD BIN
iSEEu 1.7.0  (landing page)
Kevin Rue-Albrecht
git_last_commit: d216067
git_last_commit_date: 2021-10-26 12:58:51 -0500
nebbiolo1Linux (Ubuntu 20.04.3 LTS) / x86_64  OK    OK    ERROR  
Package 270/588HostnameOS / ArchINSTALLBUILDCHECKBUILD BIN
isomiRs 1.23.1  (landing page)
Lorena Pantano
git_last_commit: 1e62c9a
git_last_commit_date: 2021-11-21 00:21:43 -0500
nebbiolo1Linux (Ubuntu 20.04.3 LTS) / x86_64  OK    OK    OK  UNNEEDED, same version is already published
Package 271/588HostnameOS / ArchINSTALLBUILDCHECKBUILD BIN
IVAS 2.15.0  (landing page)
Seonggyun Han
git_last_commit: 0187e23
git_last_commit_date: 2021-10-26 12:18:38 -0500
nebbiolo1Linux (Ubuntu 20.04.3 LTS) / x86_64  OK    OK    WARNINGS  UNNEEDED, same version is already published
Package 272/588HostnameOS / ArchINSTALLBUILDCHECKBUILD BIN
ivygapSE 1.17.0  (landing page)
VJ Carey
git_last_commit: 94b08ec
git_last_commit_date: 2021-10-26 12:39:28 -0500
nebbiolo1Linux (Ubuntu 20.04.3 LTS) / x86_64  OK    OK    OK  UNNEEDED, same version is already published
Package 273/588HostnameOS / ArchINSTALLBUILDCHECKBUILD BIN
IWTomics 1.19.1  (landing page)
Marzia A Cremona
git_last_commit: a7db019
git_last_commit_date: 2021-11-21 00:21:54 -0500
nebbiolo1Linux (Ubuntu 20.04.3 LTS) / x86_64  OK    OK    OK  UNNEEDED, same version is already published
Package 274/588HostnameOS / ArchINSTALLBUILDCHECKBUILD BIN
karyoploteR 1.21.0  (landing page)
Bernat Gel
git_last_commit: cb9ad80
git_last_commit_date: 2021-10-26 12:32:46 -0500
nebbiolo1Linux (Ubuntu 20.04.3 LTS) / x86_64  OK    OK    ERROR  
Package 275/588HostnameOS / ArchINSTALLBUILDCHECKBUILD BIN
kebabs 1.29.0  (landing page)
Ulrich Bodenhofer
git_last_commit: 7c35dc1
git_last_commit_date: 2021-10-26 12:17:16 -0500
nebbiolo1Linux (Ubuntu 20.04.3 LTS) / x86_64  OK    OK    OK  UNNEEDED, same version is already published
Package 276/588HostnameOS / ArchINSTALLBUILDCHECKBUILD BIN
lionessR 1.9.0  (landing page)
Ping-Han Hsieh
git_last_commit: 0dee909
git_last_commit_date: 2021-10-26 12:54:27 -0500
nebbiolo1Linux (Ubuntu 20.04.3 LTS) / x86_64  OK    OK    OK  UNNEEDED, same version is already published
Package 277/588HostnameOS / ArchINSTALLBUILDCHECKBUILD BIN
lipidr 2.9.0  (landing page)
Ahmed Mohamed
git_last_commit: ff6b7aa
git_last_commit_date: 2021-10-26 12:51:23 -0500
nebbiolo1Linux (Ubuntu 20.04.3 LTS) / x86_64  OK    OK    OK  UNNEEDED, same version is already published
Package 278/588HostnameOS / ArchINSTALLBUILDCHECKBUILD BIN
lisaClust 1.3.0  (landing page)
Ellis Patrick
git_last_commit: 7bac02a
git_last_commit_date: 2021-10-26 13:07:43 -0500
nebbiolo1Linux (Ubuntu 20.04.3 LTS) / x86_64  OK    OK    OK  UNNEEDED, same version is already published
Package 279/588HostnameOS / ArchINSTALLBUILDCHECKBUILD BIN
loci2path 1.15.1  (landing page)
Tianlei Xu
git_last_commit: 371a9c5
git_last_commit_date: 2021-11-21 00:29:12 -0500
nebbiolo1Linux (Ubuntu 20.04.3 LTS) / x86_64  OK    OK    OK  UNNEEDED, same version is already published
Package 280/588HostnameOS / ArchINSTALLBUILDCHECKBUILD BIN
LOLA 1.25.1  (landing page)
Nathan Sheffield
git_last_commit: 35339f0
git_last_commit_date: 2021-11-20 04:45:32 -0500
nebbiolo1Linux (Ubuntu 20.04.3 LTS) / x86_64  OK    OK    OK  UNNEEDED, same version is already published
Package 281/588HostnameOS / ArchINSTALLBUILDCHECKBUILD BIN
LoomExperiment 1.13.0  (landing page)
Bioconductor Package Maintainer
git_last_commit: edb0ecf
git_last_commit_date: 2021-10-26 12:48:14 -0500
nebbiolo1Linux (Ubuntu 20.04.3 LTS) / x86_64  OK    OK    OK  UNNEEDED, same version is already published
Package 282/588HostnameOS / ArchINSTALLBUILDCHECKBUILD BIN
m6Aboost 1.1.0  (landing page)
You Zhou
git_last_commit: ac0f0f3
git_last_commit_date: 2021-10-26 13:10:46 -0500
nebbiolo1Linux (Ubuntu 20.04.3 LTS) / x86_64  OK    OK    OK  UNNEEDED, same version is already published
Package 283/588HostnameOS / ArchINSTALLBUILDCHECKBUILD BIN
MACPET 1.15.1  (landing page)
Ioannis Vardaxis
git_last_commit: 2da9d25
git_last_commit_date: 2021-11-20 04:49:46 -0500
nebbiolo1Linux (Ubuntu 20.04.3 LTS) / x86_64  OK    ERROR  skipped
Package 284/588HostnameOS / ArchINSTALLBUILDCHECKBUILD BIN
MACSr 1.3.0  (landing page)
Qiang Hu
git_last_commit: 348c29d
git_last_commit_date: 2021-10-26 13:06:52 -0500
nebbiolo1Linux (Ubuntu 20.04.3 LTS) / x86_64  OK    OK    OK  UNNEEDED, same version is already published
Package 285/588HostnameOS / ArchINSTALLBUILDCHECKBUILD BIN
MADSEQ 1.21.1  (landing page)
Yu Kong
git_last_commit: 209e573
git_last_commit_date: 2021-11-21 00:29:48 -0500
nebbiolo1Linux (Ubuntu 20.04.3 LTS) / x86_64  OK    OK    OK  UNNEEDED, same version is already published
Package 286/588HostnameOS / ArchINSTALLBUILDCHECKBUILD BIN
MAI 1.1.0  (landing page)
Jonathan Dekermanjian
git_last_commit: f7a5f28
git_last_commit_date: 2021-10-26 13:11:41 -0500
nebbiolo1Linux (Ubuntu 20.04.3 LTS) / x86_64  OK    OK    OK  UNNEEDED, same version is already published
Package 287/588HostnameOS / ArchINSTALLBUILDCHECKBUILD BIN
marr 1.5.0  (landing page)
Tusharkanti Ghosh
git_last_commit: 71d828e
git_last_commit_date: 2021-10-26 13:04:55 -0500
nebbiolo1Linux (Ubuntu 20.04.3 LTS) / x86_64  OK    OK    OK  UNNEEDED, same version is already published
Package 288/588HostnameOS / ArchINSTALLBUILDCHECKBUILD BIN
MAST 1.21.0  (landing page)
Andrew McDavid
git_last_commit: 0df7fcd
git_last_commit_date: 2021-10-26 12:30:38 -0500
nebbiolo1Linux (Ubuntu 20.04.3 LTS) / x86_64  OK    OK    OK  UNNEEDED, same version is already published
Package 289/588HostnameOS / ArchINSTALLBUILDCHECKBUILD BIN
MatrixQCvis 1.3.1  (landing page)
Thomas Naake
git_last_commit: 03f2eae
git_last_commit_date: 2021-12-01 05:08:59 -0500
nebbiolo1Linux (Ubuntu 20.04.3 LTS) / x86_64  OK    OK    OK  UNNEEDED, same version is already published
Package 290/588HostnameOS / ArchINSTALLBUILDCHECKBUILD BIN
MatrixRider 1.27.0  (landing page)
Elena Grassi
git_last_commit: 5999520
git_last_commit_date: 2021-10-26 12:19:14 -0500
nebbiolo1Linux (Ubuntu 20.04.3 LTS) / x86_64  OK    OK    OK  UNNEEDED, same version is already published
Package 291/588HostnameOS / ArchINSTALLBUILDCHECKBUILD BIN
mbkmeans 1.11.0  (landing page)
Davide Risso
git_last_commit: 656214a
git_last_commit_date: 2021-10-26 12:50:45 -0500
nebbiolo1Linux (Ubuntu 20.04.3 LTS) / x86_64  OK    OK    OK  UNNEEDED, same version is already published
Package 292/588HostnameOS / ArchINSTALLBUILDCHECKBUILD BIN
mCSEA 1.15.0  (landing page)
Jordi Martorell-Marugán
git_last_commit: cb4a4d8
git_last_commit_date: 2021-10-26 12:41:03 -0500
nebbiolo1Linux (Ubuntu 20.04.3 LTS) / x86_64  OK    OK    OK  UNNEEDED, same version is already published
Package 293/588HostnameOS / ArchINSTALLBUILDCHECKBUILD BIN
MEAL 1.25.0  (landing page)
Xavier Escribà Montagut
git_last_commit: 3255c2b
git_last_commit_date: 2021-10-26 12:23:04 -0500
nebbiolo1Linux (Ubuntu 20.04.3 LTS) / x86_64  OK    OK    WARNINGS  UNNEEDED, same version is already published
Package 294/588HostnameOS / ArchINSTALLBUILDCHECKBUILD BIN
meshr 2.1.0  (landing page)
Koki Tsuyuzaki
git_last_commit: 5083868
git_last_commit_date: 2021-10-26 12:13:27 -0500
nebbiolo1Linux (Ubuntu 20.04.3 LTS) / x86_64  OK    OK    OK  UNNEEDED, same version is already published
Package 295/588HostnameOS / ArchINSTALLBUILDCHECKBUILD BIN
MesKit 1.5.0  (landing page)
Mengni Liu
git_last_commit: 402cd61
git_last_commit_date: 2021-10-26 13:01:22 -0500
nebbiolo1Linux (Ubuntu 20.04.3 LTS) / x86_64  OK    OK    OK  UNNEEDED, same version is already published
Package 296/588HostnameOS / ArchINSTALLBUILDCHECKBUILD BIN
metabCombiner 1.5.0  (landing page)
Hani Habra
git_last_commit: 0593c84
git_last_commit_date: 2021-10-26 13:04:05 -0500
nebbiolo1Linux (Ubuntu 20.04.3 LTS) / x86_64  OK    OK    OK  UNNEEDED, same version is already published
Package 297/588HostnameOS / ArchINSTALLBUILDCHECKBUILD BIN
metaseqR2 1.7.11  (landing page)
Panagiotis Moulos
git_last_commit: e49a25c
git_last_commit_date: 2021-11-26 06:45:40 -0500
nebbiolo1Linux (Ubuntu 20.04.3 LTS) / x86_64  OK    OK    OK  UNNEEDED, same version is already published
Package 298/588HostnameOS / ArchINSTALLBUILDCHECKBUILD BIN
MetCirc 1.25.1  (landing page)
Thomas Naake
git_last_commit: d2c1c34
git_last_commit_date: 2021-11-21 00:32:28 -0500
nebbiolo1Linux (Ubuntu 20.04.3 LTS) / x86_64  OK    OK    OK  UNNEEDED, same version is already published
Package 299/588HostnameOS / ArchINSTALLBUILDCHECKBUILD BIN
MethCP 1.9.0  (landing page)
Boying Gong
git_last_commit: bf01065
git_last_commit_date: 2021-10-26 12:55:29 -0500
nebbiolo1Linux (Ubuntu 20.04.3 LTS) / x86_64  OK    OK    ERROR  
Package 300/588HostnameOS / ArchINSTALLBUILDCHECKBUILD BIN
methInheritSim 1.17.1  (landing page)
Pascal Belleau
git_last_commit: ea580fb
git_last_commit_date: 2021-11-21 00:32:40 -0500
nebbiolo1Linux (Ubuntu 20.04.3 LTS) / x86_64  OK    OK    OK  UNNEEDED, same version is already published
Package 301/588HostnameOS / ArchINSTALLBUILDCHECKBUILD BIN
MethReg 1.5.0  (landing page)
Tiago Silva
git_last_commit: ce227ed
git_last_commit_date: 2021-10-26 13:02:56 -0500
nebbiolo1Linux (Ubuntu 20.04.3 LTS) / x86_64  OK    OK    OK  UNNEEDED, same version is already published
Package 302/588HostnameOS / ArchINSTALLBUILDCHECKBUILD BIN
methylCC 1.9.1  (landing page)
Stephanie C. Hicks
git_last_commit: 0446f82
git_last_commit_date: 2021-11-21 00:32:58 -0500
nebbiolo1Linux (Ubuntu 20.04.3 LTS) / x86_64  OK    OK    OK  UNNEEDED, same version is already published
Package 303/588HostnameOS / ArchINSTALLBUILDCHECKBUILD BIN
methylInheritance 1.19.1  (landing page)
Astrid Deschênes
git_last_commit: 1683f01
git_last_commit_date: 2021-11-21 00:33:06 -0500
nebbiolo1Linux (Ubuntu 20.04.3 LTS) / x86_64  OK    OK    OK  UNNEEDED, same version is already published
Package 304/588HostnameOS / ArchINSTALLBUILDCHECKBUILD BIN
methylKit 1.21.0  (landing page)
Altuna Akalin , Alexander Gosdschan
git_last_commit: ba376aa
git_last_commit_date: 2021-10-26 12:29:01 -0500
nebbiolo1Linux (Ubuntu 20.04.3 LTS) / x86_64  OK    OK    WARNINGS  UNNEEDED, same version is already published
Package 305/588HostnameOS / ArchINSTALLBUILDCHECKBUILD BIN
methylPipe 1.29.2  (landing page)
Kamal Kishore
git_last_commit: 9aa5834
git_last_commit_date: 2021-11-21 00:33:15 -0500
nebbiolo1Linux (Ubuntu 20.04.3 LTS) / x86_64  OK    ERROR  skipped
Package 306/588HostnameOS / ArchINSTALLBUILDCHECKBUILD BIN
methylSig 1.7.0  (landing page)
Raymond G. Cavalcante
git_last_commit: 61063dc
git_last_commit_date: 2021-10-26 12:59:11 -0500
nebbiolo1Linux (Ubuntu 20.04.3 LTS) / x86_64  OK    OK    OK  UNNEEDED, same version is already published
Package 307/588HostnameOS / ArchINSTALLBUILDCHECKBUILD BIN
methylumi 2.41.1  (landing page)
Sean Davis
git_last_commit: 80d9b99
git_last_commit_date: 2021-10-27 03:30:10 -0500
nebbiolo1Linux (Ubuntu 20.04.3 LTS) / x86_64  OK    OK    OK  UNNEEDED, same version is already published
Package 308/588HostnameOS / ArchINSTALLBUILDCHECKBUILD BIN
MetNet 1.13.0  (landing page)
Thomas Naake
git_last_commit: 0ee27ba
git_last_commit_date: 2021-10-26 12:46:19 -0500
nebbiolo1Linux (Ubuntu 20.04.3 LTS) / x86_64  OK    OK    OK  UNNEEDED, same version is already published
Package 309/588HostnameOS / ArchINSTALLBUILDCHECKBUILD BIN
mia 1.3.1  (landing page)
Felix G.M. Ernst
git_last_commit: c75fcc5
git_last_commit_date: 2021-10-27 13:42:32 -0500
nebbiolo1Linux (Ubuntu 20.04.3 LTS) / x86_64  OK    OK    OK  UNNEEDED, same version is already published
Package 310/588HostnameOS / ArchINSTALLBUILDCHECKBUILD BIN
miaViz 1.3.0  (landing page)
Felix G.M. Ernst
git_last_commit: bd2467c
git_last_commit_date: 2021-10-26 13:08:12 -0500
nebbiolo1Linux (Ubuntu 20.04.3 LTS) / x86_64  OK    OK    OK  UNNEEDED, same version is already published
Package 311/588HostnameOS / ArchINSTALLBUILDCHECKBUILD BIN
microbiomeMarker 1.1.1  (landing page)
Yang Cao
git_last_commit: 9f55d08
git_last_commit_date: 2021-11-07 23:51:54 -0500
nebbiolo1Linux (Ubuntu 20.04.3 LTS) / x86_64  OK    OK    OK  UNNEEDED, same version is already published
Package 312/588HostnameOS / ArchINSTALLBUILDCHECKBUILD BIN
midasHLA 1.3.0  (landing page)
Maciej Migdał
git_last_commit: 0865afe
git_last_commit_date: 2021-10-26 13:07:22 -0500
nebbiolo1Linux (Ubuntu 20.04.3 LTS) / x86_64  OK    OK    OK  UNNEEDED, same version is already published
Package 313/588HostnameOS / ArchINSTALLBUILDCHECKBUILD BIN
miloR 1.3.0  (landing page)
Mike Morgan
git_last_commit: 505ca1e
git_last_commit_date: 2021-10-26 13:09:25 -0500
nebbiolo1Linux (Ubuntu 20.04.3 LTS) / x86_64  OK    ERROR  skipped
Package 314/588HostnameOS / ArchINSTALLBUILDCHECKBUILD BIN
mimager 1.19.0  (landing page)
Aaron Wolen
git_last_commit: 3a785eb
git_last_commit_date: 2021-10-26 12:32:28 -0500
nebbiolo1Linux (Ubuntu 20.04.3 LTS) / x86_64  OK    OK    OK  UNNEEDED, same version is already published
Package 315/588HostnameOS / ArchINSTALLBUILDCHECKBUILD BIN
minfi 1.41.1  (landing page)
Kasper Daniel Hansen
git_last_commit: 77d3345
git_last_commit_date: 2021-11-02 00:11:19 -0500
nebbiolo1Linux (Ubuntu 20.04.3 LTS) / x86_64  OK    OK    OK  UNNEEDED, same version is already published
Package 316/588HostnameOS / ArchINSTALLBUILDCHECKBUILD BIN
MinimumDistance 1.39.0  (landing page)
Robert Scharpf
git_last_commit: fc18f7b
git_last_commit_date: 2021-10-26 12:03:02 -0500
nebbiolo1Linux (Ubuntu 20.04.3 LTS) / x86_64  OK    OK    WARNINGS  NO, package depends on 'VanillaICE' which is not available
Package 317/588HostnameOS / ArchINSTALLBUILDCHECKBUILD BIN
MIRA 1.17.1  (landing page)
John Lawson
git_last_commit: f4b7c2e
git_last_commit_date: 2021-11-21 00:34:23 -0500
nebbiolo1Linux (Ubuntu 20.04.3 LTS) / x86_64  OK    OK    OK  UNNEEDED, same version is already published
Package 318/588HostnameOS / ArchINSTALLBUILDCHECKBUILD BIN
MiRaGE 1.37.0  (landing page)
Y-h. Taguchi
git_last_commit: d110414
git_last_commit_date: 2021-10-26 12:03:15 -0500
nebbiolo1Linux (Ubuntu 20.04.3 LTS) / x86_64  OK    OK    WARNINGS  UNNEEDED, same version is already published
Package 319/588HostnameOS / ArchINSTALLBUILDCHECKBUILD BIN
missMethyl 1.29.0  (landing page)
Belinda Phipson
git_last_commit: 5792d48
git_last_commit_date: 2021-10-26 12:14:52 -0500
nebbiolo1Linux (Ubuntu 20.04.3 LTS) / x86_64  OK    OK    OK  UNNEEDED, same version is already published
Package 320/588HostnameOS / ArchINSTALLBUILDCHECKBUILD BIN
missRows 1.15.0  (landing page)
Gonzalez Ignacio
git_last_commit: b1fa51d
git_last_commit_date: 2021-10-26 12:43:37 -0500
nebbiolo1Linux (Ubuntu 20.04.3 LTS) / x86_64  OK    ERROR  skipped
Package 321/588HostnameOS / ArchINSTALLBUILDCHECKBUILD BIN
mitoClone2 1.1.0  (landing page)
Benjamin Story
git_last_commit: f37ba3a
git_last_commit_date: 2021-10-26 13:11:28 -0500
nebbiolo1Linux (Ubuntu 20.04.3 LTS) / x86_64  OK    OK    WARNINGS  UNNEEDED, same version is already published
Package 322/588HostnameOS / ArchINSTALLBUILDCHECKBUILD BIN
MMAPPR2 1.9.0  (landing page)
Jonathon Hill
git_last_commit: dd99ccf
git_last_commit_date: 2021-10-26 12:52:40 -0500
nebbiolo1Linux (Ubuntu 20.04.3 LTS) / x86_64  OK    OK    OK  UNNEEDED, same version is already published
Package 323/588HostnameOS / ArchINSTALLBUILDCHECKBUILD BIN
MMDiff2 1.23.1  (landing page)
Gabriele Schweikert
git_last_commit: fdbba34
git_last_commit_date: 2021-11-21 00:35:33 -0500
nebbiolo1Linux (Ubuntu 20.04.3 LTS) / x86_64  OK    OK    OK  UNNEEDED, same version is already published
Package 324/588HostnameOS / ArchINSTALLBUILDCHECKBUILD BIN
moanin 1.3.0  (landing page)
Nelle Varoquaux
git_last_commit: 56898a2
git_last_commit_date: 2021-10-26 13:05:08 -0500
nebbiolo1Linux (Ubuntu 20.04.3 LTS) / x86_64  OK    OK    OK  UNNEEDED, same version is already published
Package 325/588HostnameOS / ArchINSTALLBUILDCHECKBUILD BIN
Modstrings 1.11.1  (landing page)
Felix G.M. Ernst
git_last_commit: 315ca2c
git_last_commit_date: 2021-11-17 09:12:10 -0500
nebbiolo1Linux (Ubuntu 20.04.3 LTS) / x86_64  OK    OK    OK  UNNEEDED, same version is already published
Package 326/588HostnameOS / ArchINSTALLBUILDCHECKBUILD BIN
monaLisa 1.1.0  (landing page)
Michael Stadler
git_last_commit: bdc5d07
git_last_commit_date: 2021-10-26 13:12:48 -0500
nebbiolo1Linux (Ubuntu 20.04.3 LTS) / x86_64  OK    OK    OK  UNNEEDED, same version is already published
Package 327/588HostnameOS / ArchINSTALLBUILDCHECKBUILD BIN
mosaics 2.33.0  (landing page)
Dongjun Chung
git_last_commit: 40b3d2d
git_last_commit_date: 2021-10-26 11:58:03 -0500
nebbiolo1Linux (Ubuntu 20.04.3 LTS) / x86_64  OK    OK    OK  UNNEEDED, same version is already published
Package 328/588HostnameOS / ArchINSTALLBUILDCHECKBUILD BIN
MOSim 1.9.0  (landing page)
Carlos Martínez
git_last_commit: da46028
git_last_commit_date: 2021-10-26 12:53:43 -0500
nebbiolo1Linux (Ubuntu 20.04.3 LTS) / x86_64  OK    OK    OK  UNNEEDED, same version is already published
Package 329/588HostnameOS / ArchINSTALLBUILDCHECKBUILD BIN
motifbreakR 2.9.1  (landing page)
Simon Gert Coetzee
git_last_commit: 9958f30
git_last_commit_date: 2021-11-17 09:15:02 -0500
nebbiolo1Linux (Ubuntu 20.04.3 LTS) / x86_64  OK    OK    WARNINGS  UNNEEDED, same version is already published
Package 330/588HostnameOS / ArchINSTALLBUILDCHECKBUILD BIN
MotifDb 1.37.0  (landing page)
Paul Shannon
git_last_commit: dc2076d
git_last_commit_date: 2021-10-26 12:04:11 -0500
nebbiolo1Linux (Ubuntu 20.04.3 LTS) / x86_64  OK    OK    WARNINGS  UNNEEDED, same version is already published
Package 331/588HostnameOS / ArchINSTALLBUILDCHECKBUILD BIN
motifmatchr 1.17.0  (landing page)
Alicia Schep
git_last_commit: adebf8d
git_last_commit_date: 2021-10-26 12:35:43 -0500
nebbiolo1Linux (Ubuntu 20.04.3 LTS) / x86_64  OK    OK    OK  UNNEEDED, same version is already published
Package 332/588HostnameOS / ArchINSTALLBUILDCHECKBUILD BIN
mpra 1.17.1  (landing page)
Leslie Myint
git_last_commit: 95a4690
git_last_commit_date: 2021-11-21 00:36:27 -0500
nebbiolo1Linux (Ubuntu 20.04.3 LTS) / x86_64  OK    OK    OK  UNNEEDED, same version is already published
Package 333/588HostnameOS / ArchINSTALLBUILDCHECKBUILD BIN
msa 1.27.0  (landing page)
Ulrich Bodenhofer
git_last_commit: 85abce7
git_last_commit_date: 2021-10-26 12:20:34 -0500
nebbiolo1Linux (Ubuntu 20.04.3 LTS) / x86_64  OK    OK    WARNINGS  UNNEEDED, same version is already published
Package 334/588HostnameOS / ArchINSTALLBUILDCHECKBUILD BIN
MsBackendMassbank 1.3.0  (landing page)
RforMassSpectrometry Package Maintainer
git_last_commit: 488f317
git_last_commit_date: 2021-10-26 13:07:15 -0500
nebbiolo1Linux (Ubuntu 20.04.3 LTS) / x86_64  OK    OK    OK  UNNEEDED, same version is already published
Package 335/588HostnameOS / ArchINSTALLBUILDCHECKBUILD BIN
MsBackendMgf 1.3.0  (landing page)
RforMassSpectrometry Package Maintainer
git_last_commit: cd92a38
git_last_commit_date: 2021-10-26 13:07:41 -0500
nebbiolo1Linux (Ubuntu 20.04.3 LTS) / x86_64  OK    OK    OK  UNNEEDED, same version is already published
Package 336/588HostnameOS / ArchINSTALLBUILDCHECKBUILD BIN
MsBackendRawFileReader 1.1.0  (landing page)
Christian Panse
git_last_commit: 16a7919
git_last_commit_date: 2021-10-26 13:13:18 -0500
nebbiolo1Linux (Ubuntu 20.04.3 LTS) / x86_64  OK    OK    OK  UNNEEDED, same version is already published
Package 337/588HostnameOS / ArchINSTALLBUILDCHECKBUILD BIN
MsCoreUtils 1.7.1  (landing page)
RforMassSpectrometry Package Maintainer
git_last_commit: daa2401
git_last_commit_date: 2021-12-03 12:43:18 -0500
nebbiolo1Linux (Ubuntu 20.04.3 LTS) / x86_64  OK    OK    OK  YES
Package 338/588HostnameOS / ArchINSTALLBUILDCHECKBUILD BIN
msgbsR 1.19.1  (landing page)
Benjamin Mayne
git_last_commit: b70ef90
git_last_commit_date: 2021-11-21 00:36:42 -0500
nebbiolo1Linux (Ubuntu 20.04.3 LTS) / x86_64  OK    OK    OK  UNNEEDED, same version is already published
Package 339/588HostnameOS / ArchINSTALLBUILDCHECKBUILD BIN
MSnbase 2.21.3  (landing page)
Laurent Gatto
git_last_commit: e62ea6c3
git_last_commit_date: 2021-11-24 11:46:28 -0500
nebbiolo1Linux (Ubuntu 20.04.3 LTS) / x86_64  OK    OK    ERROR  
Package 340/588HostnameOS / ArchINSTALLBUILDCHECKBUILD BIN
MSPrep 1.5.0  (landing page)
Max McGrath
git_last_commit: ad2e454
git_last_commit_date: 2021-10-26 13:03:21 -0500
nebbiolo1Linux (Ubuntu 20.04.3 LTS) / x86_64  OK    OK    OK  UNNEEDED, same version is already published
Package 341/588HostnameOS / ArchINSTALLBUILDCHECKBUILD BIN
MultiAssayExperiment 1.21.4  (landing page)
Marcel Ramos
git_last_commit: 2285477
git_last_commit_date: 2021-12-02 16:51:16 -0500
nebbiolo1Linux (Ubuntu 20.04.3 LTS) / x86_64  OK    OK    WARNINGS  YES
Package 342/588HostnameOS / ArchINSTALLBUILDCHECKBUILD BIN
MultiDataSet 1.23.0  (landing page)
Xavier Escribà Montagut
git_last_commit: ecf88bd
git_last_commit_date: 2021-10-26 12:27:30 -0500
nebbiolo1Linux (Ubuntu 20.04.3 LTS) / x86_64  OK    OK    WARNINGS  UNNEEDED, same version is already published
Package 343/588HostnameOS / ArchINSTALLBUILDCHECKBUILD BIN
mumosa 1.3.0  (landing page)
Aaron Lun
git_last_commit: e1f85ad
git_last_commit_date: 2021-10-26 13:05:57 -0500
nebbiolo1Linux (Ubuntu 20.04.3 LTS) / x86_64  OK    OK    OK  UNNEEDED, same version is already published
Package 344/588HostnameOS / ArchINSTALLBUILDCHECKBUILD BIN
muscat 1.9.1  (landing page)
Helena L. Crowell
git_last_commit: 9c7e814
git_last_commit_date: 2021-11-21 00:37:27 -0500
nebbiolo1Linux (Ubuntu 20.04.3 LTS) / x86_64  OK    OK    ERROR  
Package 345/588HostnameOS / ArchINSTALLBUILDCHECKBUILD BIN
musicatk 1.5.0  (landing page)
Aaron Chevalier
git_last_commit: ab8dbf0
git_last_commit_date: 2021-10-26 13:04:15 -0500
nebbiolo1Linux (Ubuntu 20.04.3 LTS) / x86_64  OK    OK    OK  UNNEEDED, same version is already published
Package 346/588HostnameOS / ArchINSTALLBUILDCHECKBUILD BIN
MutationalPatterns 3.5.1  (landing page)
Mark van Roosmalen
git_last_commit: e3da76a
git_last_commit_date: 2021-11-03 09:56:47 -0500
nebbiolo1Linux (Ubuntu 20.04.3 LTS) / x86_64  OK    OK    OK  UNNEEDED, same version is already published
Package 347/588HostnameOS / ArchINSTALLBUILDCHECKBUILD BIN
mygene 1.31.0  (landing page)
Adam Mark, Cyrus Afrasiabi, Chunlei Wu
git_last_commit: 64d853b
git_last_commit_date: 2021-10-26 12:17:38 -0500
nebbiolo1Linux (Ubuntu 20.04.3 LTS) / x86_64  OK    OK    OK  UNNEEDED, same version is already published
Package 348/588HostnameOS / ArchINSTALLBUILDCHECKBUILD BIN
myvariant 1.25.0  (landing page)
Adam Mark, Chunlei Wu
git_last_commit: 627fe00
git_last_commit_date: 2021-10-26 12:22:10 -0500
nebbiolo1Linux (Ubuntu 20.04.3 LTS) / x86_64  OK    OK    OK  UNNEEDED, same version is already published
Package 349/588HostnameOS / ArchINSTALLBUILDCHECKBUILD BIN
NADfinder 1.19.1  (landing page)
Jianhong Ou
git_last_commit: 0358a76
git_last_commit_date: 2021-11-21 00:37:41 -0500
nebbiolo1Linux (Ubuntu 20.04.3 LTS) / x86_64  OK    OK    OK  UNNEEDED, same version is already published
Package 350/588HostnameOS / ArchINSTALLBUILDCHECKBUILD BIN
NanoMethViz 2.1.0  (landing page)
Shian Su
git_last_commit: 89a557f
git_last_commit_date: 2021-10-26 13:04:33 -0500
nebbiolo1Linux (Ubuntu 20.04.3 LTS) / x86_64  OK    OK    OK  UNNEEDED, same version is already published
Package 351/588HostnameOS / ArchINSTALLBUILDCHECKBUILD BIN
NanoStringNCTools 1.3.0  (landing page)
Nicole Ortogero
git_last_commit: e2de44a
git_last_commit_date: 2021-10-26 13:06:28 -0500
nebbiolo1Linux (Ubuntu 20.04.3 LTS) / x86_64  OK    OK    OK  UNNEEDED, same version is already published
Package 352/588HostnameOS / ArchINSTALLBUILDCHECKBUILD BIN
NBAMSeq 1.11.0  (landing page)
Xu Ren
git_last_commit: 6dd548a
git_last_commit_date: 2021-10-26 12:50:51 -0500
nebbiolo1Linux (Ubuntu 20.04.3 LTS) / x86_64  OK    OK    OK  UNNEEDED, same version is already published
Package 353/588HostnameOS / ArchINSTALLBUILDCHECKBUILD BIN
ncRNAtools 1.5.0  (landing page)
Lara Selles Vidal
git_last_commit: 5c3c2e8
git_last_commit_date: 2021-10-26 13:02:33 -0500
nebbiolo1Linux (Ubuntu 20.04.3 LTS) / x86_64  OK    OK    OK  UNNEEDED, same version is already published
Package 354/588HostnameOS / ArchINSTALLBUILDCHECKBUILD BIN
nearBynding 1.5.0  (landing page)
Veronica Busa
git_last_commit: dbdeaa4
git_last_commit_date: 2021-10-26 13:02:45 -0500
nebbiolo1Linux (Ubuntu 20.04.3 LTS) / x86_64  OK    OK    OK  UNNEEDED, same version is already published
Package 355/588HostnameOS / ArchINSTALLBUILDCHECKBUILD BIN
netDx 1.7.1  (landing page)
Shraddha Pai
git_last_commit: bf65239
git_last_commit_date: 2021-11-21 00:38:25 -0500
nebbiolo1Linux (Ubuntu 20.04.3 LTS) / x86_64  OK    OK    OK  UNNEEDED, same version is already published
Package 356/588HostnameOS / ArchINSTALLBUILDCHECKBUILD BIN
NoRCE 1.7.1  (landing page)
Gulden Olgun
git_last_commit: 59b0d7d
git_last_commit_date: 2021-11-21 00:38:54 -0500
nebbiolo1Linux (Ubuntu 20.04.3 LTS) / x86_64  OK    OK    OK  UNNEEDED, same version is already published
Package 357/588HostnameOS / ArchINSTALLBUILDCHECKBUILD BIN
nucleoSim 1.23.0  (landing page)
Astrid Deschenes
git_last_commit: 3c747ec
git_last_commit_date: 2021-10-26 12:26:03 -0500
nebbiolo1Linux (Ubuntu 20.04.3 LTS) / x86_64  OK    OK    OK  UNNEEDED, same version is already published
Package 358/588HostnameOS / ArchINSTALLBUILDCHECKBUILD BIN
nucleR 2.27.1  (landing page)
Alba Sala
git_last_commit: 7bdabfa
git_last_commit_date: 2021-11-21 00:39:12 -0500
nebbiolo1Linux (Ubuntu 20.04.3 LTS) / x86_64  OK    OK    WARNINGS  UNNEEDED, same version is already published
Package 359/588HostnameOS / ArchINSTALLBUILDCHECKBUILD BIN
nullranges 1.1.1  (landing page)
Michael Love
git_last_commit: f17d521
git_last_commit_date: 2021-11-05 20:21:01 -0500
nebbiolo1Linux (Ubuntu 20.04.3 LTS) / x86_64  OK    OK    OK  UNNEEDED, same version is already published
Package 360/588HostnameOS / ArchINSTALLBUILDCHECKBUILD BIN
NxtIRFcore 1.1.0  (landing page)
Alex Chit Hei Wong
git_last_commit: a5c366c
git_last_commit_date: 2021-10-26 13:13:51 -0500
nebbiolo1Linux (Ubuntu 20.04.3 LTS) / x86_64  OK    ERROR  skipped
Package 361/588HostnameOS / ArchINSTALLBUILDCHECKBUILD BIN
ODER 1.1.0  (landing page)
David Zhang
git_last_commit: 31210a8
git_last_commit_date: 2021-10-26 13:13:04 -0500
nebbiolo1Linux (Ubuntu 20.04.3 LTS) / x86_64  OK    ERROR  skipped
Package 362/588HostnameOS / ArchINSTALLBUILDCHECKBUILD BIN
oligoClasses 1.57.0  (landing page)
Benilton Carvalho and Robert Scharpf
git_last_commit: c385539
git_last_commit_date: 2021-10-26 11:51:32 -0500
nebbiolo1Linux (Ubuntu 20.04.3 LTS) / x86_64  OK    OK    WARNINGS  UNNEEDED, same version is already published
Package 363/588HostnameOS / ArchINSTALLBUILDCHECKBUILD BIN
ontoProc 1.17.0  (landing page)
VJ Carey
git_last_commit: 3735374
git_last_commit_date: 2021-10-26 12:39:25 -0500
nebbiolo1Linux (Ubuntu 20.04.3 LTS) / x86_64  OK    OK    OK  UNNEEDED, same version is already published
Package 364/588HostnameOS / ArchINSTALLBUILDCHECKBUILD BIN
openPrimeR 1.17.0  (landing page)
Matthias Döring
git_last_commit: 1ca93f3
git_last_commit_date: 2021-10-26 12:38:03 -0500
nebbiolo1Linux (Ubuntu 20.04.3 LTS) / x86_64  OK    OK    OK  UNNEEDED, same version is already published
Package 365/588HostnameOS / ArchINSTALLBUILDCHECKBUILD BIN
ORFik 1.15.6  (landing page)
Haakon Tjeldnes
git_last_commit: 5661646
git_last_commit_date: 2021-11-15 21:10:31 -0500
nebbiolo1Linux (Ubuntu 20.04.3 LTS) / x86_64  OK    OK    OK  UNNEEDED, same version is already published
Package 366/588HostnameOS / ArchINSTALLBUILDCHECKBUILD BIN
Organism.dplyr 1.23.1  (landing page)
Martin Morgan
git_last_commit: ace251e
git_last_commit_date: 2021-10-28 16:48:35 -0500
nebbiolo1Linux (Ubuntu 20.04.3 LTS) / x86_64  OK    OK    OK  UNNEEDED, same version is already published
Package 367/588HostnameOS / ArchINSTALLBUILDCHECKBUILD BIN
OrganismDbi 1.37.1  (landing page)
Bioconductor Package Maintainer
git_last_commit: 73d64ce
git_last_commit_date: 2021-11-13 13:20:02 -0500
nebbiolo1Linux (Ubuntu 20.04.3 LTS) / x86_64  OK    OK    WARNINGS  UNNEEDED, same version is already published
Package 368/588HostnameOS / ArchINSTALLBUILDCHECKBUILD BIN
OTUbase 1.45.0  (landing page)
Daniel Beck
git_last_commit: ef06fcb
git_last_commit_date: 2021-10-26 11:57:04 -0500
nebbiolo1Linux (Ubuntu 20.04.3 LTS) / x86_64  OK    OK    OK  UNNEEDED, same version is already published
Package 369/588HostnameOS / ArchINSTALLBUILDCHECKBUILD BIN
OUTRIDER 1.13.0  (landing page)
Christian Mertes
git_last_commit: 82ab04c
git_last_commit_date: 2021-10-26 12:45:42 -0500
nebbiolo1Linux (Ubuntu 20.04.3 LTS) / x86_64  OK    OK    OK  UNNEEDED, same version is already published
Package 370/588HostnameOS / ArchINSTALLBUILDCHECKBUILD BIN
packFinder 1.7.0  (landing page)
Jack Gisby
git_last_commit: 4884bbf
git_last_commit_date: 2021-10-26 12:56:48 -0500
nebbiolo1Linux (Ubuntu 20.04.3 LTS) / x86_64  OK    OK    OK  UNNEEDED, same version is already published
Package 371/588HostnameOS / ArchINSTALLBUILDCHECKBUILD BIN
padma 1.5.0  (landing page)
Andrea Rau
git_last_commit: abc5a20
git_last_commit_date: 2021-10-26 13:00:54 -0500
nebbiolo1Linux (Ubuntu 20.04.3 LTS) / x86_64  OK    OK    OK  UNNEEDED, same version is already published
Package 372/588HostnameOS / ArchINSTALLBUILDCHECKBUILD BIN
PAIRADISE 1.11.0  (landing page)
Qiang Hu , Levon Demirdjian
git_last_commit: 38d1ea1
git_last_commit_date: 2021-10-26 12:48:55 -0500
nebbiolo1Linux (Ubuntu 20.04.3 LTS) / x86_64  OK    OK    OK  UNNEEDED, same version is already published
Package 373/588HostnameOS / ArchINSTALLBUILDCHECKBUILD BIN
pairkat 1.1.0  (landing page)
Cameron Severn
git_last_commit: 7481edf
git_last_commit_date: 2021-10-26 13:12:59 -0500
nebbiolo1Linux (Ubuntu 20.04.3 LTS) / x86_64  OK    OK    OK  UNNEEDED, same version is already published
Package 374/588HostnameOS / ArchINSTALLBUILDCHECKBUILD BIN
panelcn.mops 1.17.1  (landing page)
Gundula Povysil
git_last_commit: 339211d
git_last_commit_date: 2021-11-21 00:41:02 -0500
nebbiolo1Linux (Ubuntu 20.04.3 LTS) / x86_64  OK    OK    OK  UNNEEDED, same version is already published
Package 375/588HostnameOS / ArchINSTALLBUILDCHECKBUILD BIN
PAST 1.11.0  (landing page)
Thrash Adam
git_last_commit: fd44306
git_last_commit_date: 2021-10-26 12:52:12 -0500
nebbiolo1Linux (Ubuntu 20.04.3 LTS) / x86_64  OK    OK    WARNINGS  UNNEEDED, same version is already published
Package 376/588HostnameOS / ArchINSTALLBUILDCHECKBUILD BIN
pcaExplorer 2.21.0  (landing page)
Federico Marini
git_last_commit: a5af062
git_last_commit_date: 2021-10-26 12:27:09 -0500
nebbiolo1Linux (Ubuntu 20.04.3 LTS) / x86_64  OK    OK    OK  UNNEEDED, same version is already published
Package 377/588HostnameOS / ArchINSTALLBUILDCHECKBUILD BIN
PDATK 1.3.0  (landing page)
Benjamin Haibe-Kains
git_last_commit: acec60e
git_last_commit_date: 2021-10-26 13:07:20 -0500
nebbiolo1Linux (Ubuntu 20.04.3 LTS) / x86_64  OK    ERROR  skipped
Package 378/588HostnameOS / ArchINSTALLBUILDCHECKBUILD BIN
pdInfoBuilder 1.59.0  (landing page)
Benilton Carvalho
git_last_commit: 663615e
git_last_commit_date: 2021-10-26 11:50:45 -0500
nebbiolo1Linux (Ubuntu 20.04.3 LTS) / x86_64  OK    OK    OK  UNNEEDED, same version is already published
Package 379/588HostnameOS / ArchINSTALLBUILDCHECKBUILD BIN
periodicDNA 1.5.1  (landing page)
Jacques Serizay
git_last_commit: cc10a6d
git_last_commit_date: 2021-11-21 00:41:55 -0500
nebbiolo1Linux (Ubuntu 20.04.3 LTS) / x86_64  OK    OK    OK  UNNEEDED, same version is already published
Package 380/588HostnameOS / ArchINSTALLBUILDCHECKBUILD BIN
PharmacoGx 2.7.0  (landing page)
Benjamin Haibe-Kains
git_last_commit: f3d1fbf
git_last_commit_date: 2021-10-26 12:29:36 -0500
nebbiolo1Linux (Ubuntu 20.04.3 LTS) / x86_64  OK    OK    OK  UNNEEDED, same version is already published
Package 381/588HostnameOS / ArchINSTALLBUILDCHECKBUILD BIN
phemd 1.11.0  (landing page)
William S Chen
git_last_commit: 0a1c200
git_last_commit_date: 2021-10-26 12:49:23 -0500
nebbiolo1Linux (Ubuntu 20.04.3 LTS) / x86_64  ERROR    ERROR  skipped
Package 382/588HostnameOS / ArchINSTALLBUILDCHECKBUILD BIN
PhIPData 1.3.0  (landing page)
Athena Chen
git_last_commit: aafabf9
git_last_commit_date: 2021-10-26 13:07:31 -0500
nebbiolo1Linux (Ubuntu 20.04.3 LTS) / x86_64  OK    OK    OK  UNNEEDED, same version is already published
Package 383/588HostnameOS / ArchINSTALLBUILDCHECKBUILD BIN
PhosR 1.5.1  (landing page)
Taiyun Kim
git_last_commit: edcfb69
git_last_commit_date: 2021-11-21 21:10:43 -0500
nebbiolo1Linux (Ubuntu 20.04.3 LTS) / x86_64  OK    OK    OK  UNNEEDED, same version is already published
Package 384/588HostnameOS / ArchINSTALLBUILDCHECKBUILD BIN
PING 2.39.0  (landing page)
Renan Sauteraud
git_last_commit: 282fd88
git_last_commit_date: 2021-10-26 12:02:11 -0500
nebbiolo1Linux (Ubuntu 20.04.3 LTS) / x86_64  OK    OK    WARNINGS  UNNEEDED, same version is already published
Package 385/588HostnameOS / ArchINSTALLBUILDCHECKBUILD BIN
pipeComp 1.5.0  (landing page)
Pierre-Luc Germain
git_last_commit: b60d48b
git_last_commit_date: 2021-10-26 13:00:42 -0500
nebbiolo1Linux (Ubuntu 20.04.3 LTS) / x86_64  OK    OK    OK  UNNEEDED, same version is already published
Package 386/588HostnameOS / ArchINSTALLBUILDCHECKBUILD BIN
plethy 1.33.0  (landing page)
Daniel Bottomly
git_last_commit: 717316e
git_last_commit_date: 2021-10-26 12:08:12 -0500
nebbiolo1Linux (Ubuntu 20.04.3 LTS) / x86_64  OK    OK    OK  UNNEEDED, same version is already published
Package 387/588HostnameOS / ArchINSTALLBUILDCHECKBUILD BIN
plyranges 1.15.0  (landing page)
Stuart Lee
git_last_commit: 1263a98
git_last_commit_date: 2021-10-26 12:43:21 -0500
nebbiolo1Linux (Ubuntu 20.04.3 LTS) / x86_64  OK    OK    WARNINGS  UNNEEDED, same version is already published
Package 388/588HostnameOS / ArchINSTALLBUILDCHECKBUILD BIN
pmp 1.7.0  (landing page)
Gavin Rhys Lloyd
git_last_commit: 5ada669
git_last_commit_date: 2021-10-26 12:56:52 -0500
nebbiolo1Linux (Ubuntu 20.04.3 LTS) / x86_64  OK    OK    OK  UNNEEDED, same version is already published
Package 389/588HostnameOS / ArchINSTALLBUILDCHECKBUILD BIN
pogos 1.15.1  (landing page)
VJ Carey
git_last_commit: af009bd
git_last_commit_date: 2021-11-21 00:42:47 -0500
nebbiolo1Linux (Ubuntu 20.04.3 LTS) / x86_64  OK    OK    OK  UNNEEDED, same version is already published
Package 390/588HostnameOS / ArchINSTALLBUILDCHECKBUILD BIN
polyester 1.31.0  (landing page)
Jack Fu , Jeff Leek
git_last_commit: 3968e3e
git_last_commit_date: 2021-10-26 12:16:15 -0500
nebbiolo1Linux (Ubuntu 20.04.3 LTS) / x86_64  OK    OK    OK  UNNEEDED, same version is already published
Package 391/588HostnameOS / ArchINSTALLBUILDCHECKBUILD BIN
pqsfinder 2.11.1  (landing page)
Jiri Hon
git_last_commit: f73f71c
git_last_commit_date: 2021-11-21 00:43:10 -0500
nebbiolo1Linux (Ubuntu 20.04.3 LTS) / x86_64  OK    OK    OK  UNNEEDED, same version is already published
Package 392/588HostnameOS / ArchINSTALLBUILDCHECKBUILD BIN
pram 1.11.0  (landing page)
Peng Liu
git_last_commit: c9e5f4a
git_last_commit_date: 2021-10-26 12:50:01 -0500
nebbiolo1Linux (Ubuntu 20.04.3 LTS) / x86_64  OK    OK    OK  UNNEEDED, same version is already published
Package 393/588HostnameOS / ArchINSTALLBUILDCHECKBUILD BIN
prebs 1.35.0  (landing page)
Karolis Uziela
git_last_commit: 31214b0
git_last_commit_date: 2021-10-26 12:07:53 -0500
nebbiolo1Linux (Ubuntu 20.04.3 LTS) / x86_64  OK    OK    OK  UNNEEDED, same version is already published
Package 394/588HostnameOS / ArchINSTALLBUILDCHECKBUILD BIN
preciseTAD 1.5.0  (landing page)
Mikhail Dozmorov
git_last_commit: 62c257b
git_last_commit_date: 2021-10-26 13:02:48 -0500
nebbiolo1Linux (Ubuntu 20.04.3 LTS) / x86_64  OK    OK    OK  UNNEEDED, same version is already published
Package 395/588HostnameOS / ArchINSTALLBUILDCHECKBUILD BIN
PrecisionTrialDrawer 1.11.0  (landing page)
Giorgio Melloni
git_last_commit: 52b19d2
git_last_commit_date: 2021-10-26 12:48:33 -0500
nebbiolo1Linux (Ubuntu 20.04.3 LTS) / x86_64  OK    OK    OK  UNNEEDED, same version is already published
Package 396/588HostnameOS / ArchINSTALLBUILDCHECKBUILD BIN
primirTSS 1.13.0  (landing page)
Pumin Li
git_last_commit: 52b1d6e
git_last_commit_date: 2021-10-26 12:46:37 -0500
nebbiolo1Linux (Ubuntu 20.04.3 LTS) / x86_64  OK    OK    WARNINGS  UNNEEDED, same version is already published
Package 397/588HostnameOS / ArchINSTALLBUILDCHECKBUILD BIN
proActiv 1.5.0  (landing page)
Joseph Lee
git_last_commit: e9e7e25
git_last_commit_date: 2021-10-26 13:02:38 -0500
nebbiolo1Linux (Ubuntu 20.04.3 LTS) / x86_64  OK    OK    OK  UNNEEDED, same version is already published
Package 398/588HostnameOS / ArchINSTALLBUILDCHECKBUILD BIN
procoil 2.23.0  (landing page)
Ulrich Bodenhofer
git_last_commit: 4586f5f
git_last_commit_date: 2021-10-26 11:58:11 -0500
nebbiolo1Linux (Ubuntu 20.04.3 LTS) / x86_64  OK    OK    OK  UNNEEDED, same version is already published
Package 399/588HostnameOS / ArchINSTALLBUILDCHECKBUILD BIN
proDA 1.9.1  (landing page)
Constantin Ahlmann-Eltze
git_last_commit: 12b34c8
git_last_commit_date: 2021-11-09 05:20:22 -0500
nebbiolo1Linux (Ubuntu 20.04.3 LTS) / x86_64  OK    OK    OK  UNNEEDED, same version is already published
Package 400/588HostnameOS / ArchINSTALLBUILDCHECKBUILD BIN
profileplyr 1.11.1  (landing page)
Tom Carroll , Doug Barrows
git_last_commit: de8ed43
git_last_commit_date: 2021-11-21 00:43:36 -0500
nebbiolo1Linux (Ubuntu 20.04.3 LTS) / x86_64  OK    OK    OK  UNNEEDED, same version is already published
Package 401/588HostnameOS / ArchINSTALLBUILDCHECKBUILD BIN
ProteoDisco 1.1.1  (landing page)
Job van Riet
git_last_commit: 2f2814f
git_last_commit_date: 2021-11-17 08:59:39 -0500
nebbiolo1Linux (Ubuntu 20.04.3 LTS) / x86_64  OK    OK    WARNINGS  UNNEEDED, same version is already published
Package 402/588HostnameOS / ArchINSTALLBUILDCHECKBUILD BIN
pulsedSilac 1.9.1  (landing page)
Marc Pagès-Gallego
git_last_commit: c375e7f
git_last_commit_date: 2021-11-21 00:44:08 -0500
nebbiolo1Linux (Ubuntu 20.04.3 LTS) / x86_64  OK    OK    OK  UNNEEDED, same version is already published
Package 403/588HostnameOS / ArchINSTALLBUILDCHECKBUILD BIN
PureCN 2.1.2  (landing page)
Markus Riester
git_last_commit: 1592a75
git_last_commit_date: 2021-11-21 00:44:12 -0500
nebbiolo1Linux (Ubuntu 20.04.3 LTS) / x86_64  OK    OK    OK  UNNEEDED, same version is already published
Package 404/588HostnameOS / ArchINSTALLBUILDCHECKBUILD BIN
PWMEnrich 4.31.0  (landing page)
Diego Diez
git_last_commit: 1dd9feb
git_last_commit_date: 2021-10-26 12:03:29 -0500
nebbiolo1Linux (Ubuntu 20.04.3 LTS) / x86_64  OK    OK    OK  UNNEEDED, same version is already published
Package 405/588HostnameOS / ArchINSTALLBUILDCHECKBUILD BIN
qcmetrics 1.33.0  (landing page)
Laurent Gatto
git_last_commit: 1ab5017
git_last_commit_date: 2021-10-26 12:10:35 -0500
nebbiolo1Linux (Ubuntu 20.04.3 LTS) / x86_64  OK    OK    OK  UNNEEDED, same version is already published
Package 406/588HostnameOS / ArchINSTALLBUILDCHECKBUILD BIN
QFeatures 1.5.2  (landing page)
Laurent Gatto
git_last_commit: 252a37b
git_last_commit_date: 2021-11-22 08:50:48 -0500
nebbiolo1Linux (Ubuntu 20.04.3 LTS) / x86_64  OK    OK    OK  UNNEEDED, same version is already published
Package 407/588HostnameOS / ArchINSTALLBUILDCHECKBUILD BIN
qpgraph 2.29.0  (landing page)
Robert Castelo
git_last_commit: faf7788
git_last_commit_date: 2021-10-26 11:53:27 -0500
nebbiolo1Linux (Ubuntu 20.04.3 LTS) / x86_64  OK    OK    WARNINGS  UNNEEDED, same version is already published
Package 408/588HostnameOS / ArchINSTALLBUILDCHECKBUILD BIN
QuasR 1.35.0  (landing page)
Michael Stadler
git_last_commit: c247211
git_last_commit_date: 2021-10-26 12:06:13 -0500
nebbiolo1Linux (Ubuntu 20.04.3 LTS) / x86_64  OK    OK    OK  UNNEEDED, same version is already published
Package 409/588HostnameOS / ArchINSTALLBUILDCHECKBUILD BIN
R3CPET 1.27.0  (landing page)
Mohamed Nadhir Djekidel
git_last_commit: 0a47faf
git_last_commit_date: 2021-10-26 12:20:21 -0500
nebbiolo1Linux (Ubuntu 20.04.3 LTS) / x86_64  OK    OK    OK  UNNEEDED, same version is already published
Package 410/588HostnameOS / ArchINSTALLBUILDCHECKBUILD BIN
R453Plus1Toolbox 1.45.0  (landing page)
Hans-Ulrich Klein
git_last_commit: a40ef90
git_last_commit_date: 2021-10-26 11:57:24 -0500
nebbiolo1Linux (Ubuntu 20.04.3 LTS) / x86_64  OK    OK    OK  UNNEEDED, same version is already published
Package 411/588HostnameOS / ArchINSTALLBUILDCHECKBUILD BIN
RadioGx 1.5.0  (landing page)
Benjamin Haibe-Kains
git_last_commit: a981039
git_last_commit_date: 2021-10-26 13:00:29 -0500
nebbiolo1Linux (Ubuntu 20.04.3 LTS) / x86_64  OK    OK    OK  UNNEEDED, same version is already published
Package 412/588HostnameOS / ArchINSTALLBUILDCHECKBUILD BIN
RaggedExperiment 1.19.0  (landing page)
Martin Morgan
git_last_commit: e5a8923
git_last_commit_date: 2021-10-26 12:34:30 -0500
nebbiolo1Linux (Ubuntu 20.04.3 LTS) / x86_64  OK    OK    OK  UNNEEDED, same version is already published
Package 413/588HostnameOS / ArchINSTALLBUILDCHECKBUILD BIN
ramr 1.3.1  (landing page)
Oleksii Nikolaienko
git_last_commit: 6f30c30
git_last_commit_date: 2021-11-21 00:45:02 -0500
nebbiolo1Linux (Ubuntu 20.04.3 LTS) / x86_64  OK    OK    OK  UNNEEDED, same version is already published
Package 414/588HostnameOS / ArchINSTALLBUILDCHECKBUILD BIN
RareVariantVis 2.23.0  (landing page)
Tomasz Stokowy
git_last_commit: 19bbcdd
git_last_commit_date: 2021-10-26 12:20:56 -0500
nebbiolo1Linux (Ubuntu 20.04.3 LTS) / x86_64  OK    OK    OK  UNNEEDED, same version is already published
Package 415/588HostnameOS / ArchINSTALLBUILDCHECKBUILD BIN
Rcade 1.37.0  (landing page)
Jonathan Cairns
git_last_commit: 564d8e7
git_last_commit_date: 2021-10-26 12:05:06 -0500
nebbiolo1Linux (Ubuntu 20.04.3 LTS) / x86_64  OK    OK    OK  UNNEEDED, same version is already published
Package 416/588HostnameOS / ArchINSTALLBUILDCHECKBUILD BIN
RCAS 1.21.1  (landing page)
Bora Uyar
git_last_commit: 8c5dd58
git_last_commit_date: 2021-11-21 00:45:33 -0500
nebbiolo1Linux (Ubuntu 20.04.3 LTS) / x86_64  OK    OK    OK  UNNEEDED, same version is already published
Package 417/588HostnameOS / ArchINSTALLBUILDCHECKBUILD BIN
Rcwl 1.11.0  (landing page)
Qiang Hu
git_last_commit: 46eb935
git_last_commit_date: 2021-10-26 12:49:26 -0500
nebbiolo1Linux (Ubuntu 20.04.3 LTS) / x86_64  OK    OK    OK  UNNEEDED, same version is already published
Package 418/588HostnameOS / ArchINSTALLBUILDCHECKBUILD BIN
RcwlPipelines 1.11.0  (landing page)
Qiang Hu
git_last_commit: cdf2b31
git_last_commit_date: 2021-10-26 12:50:08 -0500
nebbiolo1Linux (Ubuntu 20.04.3 LTS) / x86_64  OK    OK    OK  UNNEEDED, same version is already published
Package 419/588HostnameOS / ArchINSTALLBUILDCHECKBUILD BIN
recount 1.21.1  (landing page)
Leonardo Collado-Torres
git_last_commit: 10f29f9
git_last_commit_date: 2021-11-22 19:53:08 -0500
nebbiolo1Linux (Ubuntu 20.04.3 LTS) / x86_64  OK    OK    OK  UNNEEDED, same version is already published
Package 420/588HostnameOS / ArchINSTALLBUILDCHECKBUILD BIN
recount3 1.5.0  (landing page)
Leonardo Collado-Torres
git_last_commit: ad3cecb
git_last_commit_date: 2021-11-22 20:00:54 -0500
nebbiolo1Linux (Ubuntu 20.04.3 LTS) / x86_64  OK    OK    OK  UNNEEDED, same version is already published
Package 421/588HostnameOS / ArchINSTALLBUILDCHECKBUILD BIN
recountmethylation 1.5.0  (landing page)
Sean K Maden
git_last_commit: 551ebe6
git_last_commit_date: 2021-10-26 13:02:20 -0500
nebbiolo1Linux (Ubuntu 20.04.3 LTS) / x86_64  OK    OK    OK  UNNEEDED, same version is already published
Package 422/588HostnameOS / ArchINSTALLBUILDCHECKBUILD BIN
recoup 1.23.1  (landing page)
Panagiotis Moulos
git_last_commit: 5e8cf95
git_last_commit_date: 2021-11-21 00:47:33 -0500
nebbiolo1Linux (Ubuntu 20.04.3 LTS) / x86_64  OK    OK    WARNINGS  UNNEEDED, same version is already published
Package 423/588HostnameOS / ArchINSTALLBUILDCHECKBUILD BIN
RegEnrich 1.5.0  (landing page)
Weiyang Tao
git_last_commit: 5372f54
git_last_commit_date: 2021-10-26 13:00:23 -0500
nebbiolo1Linux (Ubuntu 20.04.3 LTS) / x86_64  OK    OK    OK  UNNEEDED, same version is already published
Package 424/588HostnameOS / ArchINSTALLBUILDCHECKBUILD BIN
regioneR 1.27.0  (landing page)
Bernat Gel
git_last_commit: 9e26c8a
git_last_commit_date: 2021-10-26 12:19:44 -0500
nebbiolo1Linux (Ubuntu 20.04.3 LTS) / x86_64  OK    ERROR  skipped
Package 425/588HostnameOS / ArchINSTALLBUILDCHECKBUILD BIN
regionReport 1.29.1  (landing page)
Leonardo Collado-Torres
git_last_commit: 8c39b21
git_last_commit_date: 2021-11-22 19:47:27 -0500
nebbiolo1Linux (Ubuntu 20.04.3 LTS) / x86_64  OK    OK    OK  UNNEEDED, same version is already published
Package 426/588HostnameOS / ArchINSTALLBUILDCHECKBUILD BIN
regsplice 1.21.0  (landing page)
Lukas M. Weber
git_last_commit: b3eb4c6
git_last_commit_date: 2021-10-26 12:31:14 -0500
nebbiolo1Linux (Ubuntu 20.04.3 LTS) / x86_64  OK    OK    OK  UNNEEDED, same version is already published
Package 427/588HostnameOS / ArchINSTALLBUILDCHECKBUILD BIN
regutools 1.7.1  (landing page)
Joselyn Chavez
git_last_commit: c4d9394
git_last_commit_date: 2021-11-22 22:51:31 -0500
nebbiolo1Linux (Ubuntu 20.04.3 LTS) / x86_64  OK    OK    OK  UNNEEDED, same version is already published
Package 428/588HostnameOS / ArchINSTALLBUILDCHECKBUILD BIN
REMP 1.19.1  (landing page)
Yinan Zheng
git_last_commit: b78a06c
git_last_commit_date: 2021-11-21 00:47:47 -0500
nebbiolo1Linux (Ubuntu 20.04.3 LTS) / x86_64  OK    OK    OK  UNNEEDED, same version is already published
Package 429/588HostnameOS / ArchINSTALLBUILDCHECKBUILD BIN
Repitools 1.41.1  (landing page)
Mark Robinson
git_last_commit: 1747762
git_last_commit_date: 2021-11-21 00:47:53 -0500
nebbiolo1Linux (Ubuntu 20.04.3 LTS) / x86_64  OK    OK    OK  UNNEEDED, same version is already published
Package 430/588HostnameOS / ArchINSTALLBUILDCHECKBUILD BIN
RepViz 1.11.0  (landing page)
Thomas Faux, Asta Laiho
git_last_commit: 32701b9
git_last_commit_date: 2021-10-26 12:51:03 -0500
nebbiolo1Linux (Ubuntu 20.04.3 LTS) / x86_64  OK    OK    WARNINGS  UNNEEDED, same version is already published
Package 431/588HostnameOS / ArchINSTALLBUILDCHECKBUILD BIN
ResidualMatrix 1.5.0  (landing page)
Aaron Lun
git_last_commit: 1cdc88f
git_last_commit_date: 2021-10-26 13:02:35 -0500
nebbiolo1Linux (Ubuntu 20.04.3 LTS) / x86_64  OK    OK    OK  UNNEEDED, same version is already published
Package 432/588HostnameOS / ArchINSTALLBUILDCHECKBUILD BIN
restfulSE 1.17.0  (landing page)
Shweta Gopaulakrishnan
git_last_commit: 7f3bd6a
git_last_commit_date: 2021-10-26 12:38:23 -0500
nebbiolo1Linux (Ubuntu 20.04.3 LTS) / x86_64  OK    OK    ERROR  
Package 433/588HostnameOS / ArchINSTALLBUILDCHECKBUILD BIN
rexposome 1.17.1  (landing page)
Xavier Escribà Montagut
git_last_commit: b2b40aa
git_last_commit_date: 2021-11-21 00:48:03 -0500
nebbiolo1Linux (Ubuntu 20.04.3 LTS) / x86_64  OK    OK    WARNINGS  UNNEEDED, same version is already published
Package 434/588HostnameOS / ArchINSTALLBUILDCHECKBUILD BIN
rfaRm 1.7.0  (landing page)
Lara Selles Vidal
git_last_commit: 6acc243
git_last_commit_date: 2021-10-26 12:59:02 -0500
nebbiolo1Linux (Ubuntu 20.04.3 LTS) / x86_64  OK    OK    OK  UNNEEDED, same version is already published
Package 435/588HostnameOS / ArchINSTALLBUILDCHECKBUILD BIN
RGMQL 1.15.1  (landing page)
Simone Pallotta
git_last_commit: 9b0cb5a
git_last_commit_date: 2021-11-18 03:32:22 -0500
nebbiolo1Linux (Ubuntu 20.04.3 LTS) / x86_64  OK    OK    WARNINGS  UNNEEDED, same version is already published
Package 436/588HostnameOS / ArchINSTALLBUILDCHECKBUILD BIN
rhdf5client 1.17.0  (landing page)
Vincent Carey
git_last_commit: a028e94
git_last_commit_date: 2021-10-26 12:39:17 -0500
nebbiolo1Linux (Ubuntu 20.04.3 LTS) / x86_64  OK    OK    OK  UNNEEDED, same version is already published
Package 437/588HostnameOS / ArchINSTALLBUILDCHECKBUILD BIN
RiboDiPA 1.3.0  (landing page)
Ji-Ping Wang
git_last_commit: 5929cb2
git_last_commit_date: 2021-10-26 13:06:31 -0500
nebbiolo1Linux (Ubuntu 20.04.3 LTS) / x86_64  OK    OK    OK  UNNEEDED, same version is already published
Package 438/588HostnameOS / ArchINSTALLBUILDCHECKBUILD BIN
RiboProfiling 1.25.1  (landing page)
A. Popa
git_last_commit: c5025aa
git_last_commit_date: 2021-11-17 08:50:59 -0500
nebbiolo1Linux (Ubuntu 20.04.3 LTS) / x86_64  OK    OK    WARNINGS  UNNEEDED, same version is already published
Package 439/588HostnameOS / ArchINSTALLBUILDCHECKBUILD BIN
ribor 1.7.0  (landing page)
Michael Geng
git_last_commit: 6b3fc0e
git_last_commit_date: 2021-10-26 12:57:45 -0500
nebbiolo1Linux (Ubuntu 20.04.3 LTS) / x86_64  OK    OK    OK  UNNEEDED, same version is already published
Package 440/588HostnameOS / ArchINSTALLBUILDCHECKBUILD BIN
ribosomeProfilingQC 1.7.2  (landing page)
Jianhong Ou
git_last_commit: a97d282
git_last_commit_date: 2021-11-21 00:49:04 -0500
nebbiolo1Linux (Ubuntu 20.04.3 LTS) / x86_64  OK    OK    OK  UNNEEDED, same version is already published
Package 441/588HostnameOS / ArchINSTALLBUILDCHECKBUILD BIN
RJMCMCNucleosomes 1.19.1  (landing page)
Astrid Deschênes
git_last_commit: a9de435
git_last_commit_date: 2021-11-21 00:49:20 -0500
nebbiolo1Linux (Ubuntu 20.04.3 LTS) / x86_64  OK    OK    OK  UNNEEDED, same version is already published
Package 442/588HostnameOS / ArchINSTALLBUILDCHECKBUILD BIN
RMassBank 3.5.0  (landing page)
RMassBank at Eawag
git_last_commit: aabc062
git_last_commit_date: 2021-10-26 12:04:06 -0500
nebbiolo1Linux (Ubuntu 20.04.3 LTS) / x86_64  OK    OK    WARNINGS  UNNEEDED, same version is already published
Package 443/588HostnameOS / ArchINSTALLBUILDCHECKBUILD BIN
Rmmquant 1.13.0  (landing page)
Zytnicki Matthias
git_last_commit: 43a0c21
git_last_commit_date: 2021-10-26 12:45:13 -0500
nebbiolo1Linux (Ubuntu 20.04.3 LTS) / x86_64  OK    OK    OK  UNNEEDED, same version is already published
Package 444/588HostnameOS / ArchINSTALLBUILDCHECKBUILD BIN
rnaEditr 1.5.0  (landing page)
Lanyu Zhang
git_last_commit: 656cecb
git_last_commit_date: 2021-10-26 13:03:36 -0500
nebbiolo1Linux (Ubuntu 20.04.3 LTS) / x86_64  OK    OK    OK  UNNEEDED, same version is already published
Package 445/588HostnameOS / ArchINSTALLBUILDCHECKBUILD BIN