Back to Multiple platform build/check report for BioC 3.13
AB[C]DEFGHIJKLMNOPQRSTUVWXYZ

Multiple platform build/check report for BioC 3.13

Results for cpvSNP

This page was generated on 2020-11-30 12:16:52 -0500 (Mon, 30 Nov 2020).

Package 385/1914HostnameOS / ArchINSTALLBUILDCHECKBUILD BIN
cpvSNP 1.23.0
Caitlin McHugh
Snapshot Date: 2020-11-29 14:40:27 -0500 (Sun, 29 Nov 2020)
URL: https://git.bioconductor.org/packages/cpvSNP
Branch: master
Last Commit: a9b1fed
Last Changed Date: 2020-10-27 11:01:21 -0500 (Tue, 27 Oct 2020)
malbec2 Linux (Ubuntu 20.04.1 LTS) / x86_64  OK  OK  OK UNNEEDED, same version exists in internal repository
tokay2 Windows Server 2012 R2 Standard / x64  OK  OK  OK  OK UNNEEDED, same version exists in internal repository
riesling1 Windows Server 2019 Standard / x64  OK  OK  OK  OK 
machv2 macOS 10.14.6 Mojave / x86_64  OK  OK  OK  OK UNNEEDED, same version exists in internal repository