Back to Multiple platform build/check report for BioC 3.16 |
|
This page was generated on 2022-06-24 11:05:42 -0400 (Fri, 24 Jun 2022).
Hostname | OS | Arch (*) | R version | Installed pkgs |
---|---|---|---|---|
nebbiolo2 | Linux (Ubuntu 20.04.4 LTS) | x86_64 | 4.2.0 Patched (2022-06-02 r82447) -- "Vigorous Calisthenics" | 4331 |
palomino4 | Windows Server 2022 Datacenter | x64 | 4.2.0 Patched (2022-06-02 r82447 ucrt) -- "Vigorous Calisthenics" | 4136 |
lconway | macOS 12.2.1 Monterey | x86_64 | 4.2.0 Patched (2022-05-29 r82424) -- "Vigorous Calisthenics" | 4147 |
Click on any hostname to see more info about the system (e.g. compilers) (*) as reported by 'uname -p', except on Windows and Mac OS X |
To the developers/maintainers of the qpgraph package: - Please allow up to 24 hours (and sometimes 48 hours) for your latest push to git@git.bioconductor.org:packages/qpgraph.git to reflect on this report. See How and When does the builder pull? When will my changes propagate? for more information. - Make sure to use the following settings in order to reproduce any error or warning you see on this page. |
Package 1520/2118 | Hostname | OS / Arch | INSTALL | BUILD | CHECK | BUILD BIN | ||||||||
qpgraph 2.31.0 (landing page) Robert Castelo
| nebbiolo2 | Linux (Ubuntu 20.04.4 LTS) / x86_64 | OK | OK | WARNINGS | ![]() | ||||||||
palomino4 | Windows Server 2022 Datacenter / x64 | OK | OK | WARNINGS | OK | ![]() | ||||||||
lconway | macOS 12.2.1 Monterey / x86_64 | OK | OK | WARNINGS | OK | ![]() | ||||||||
Package: qpgraph |
Version: 2.31.0 |
Command: /home/biocbuild/bbs-3.16-bioc/R/bin/R CMD INSTALL qpgraph |
StartedAt: 2022-06-23 15:29:20 -0400 (Thu, 23 Jun 2022) |
EndedAt: 2022-06-23 15:30:15 -0400 (Thu, 23 Jun 2022) |
EllapsedTime: 55.7 seconds |
RetCode: 0 |
Status: OK |
############################################################################## ############################################################################## ### ### Running command: ### ### /home/biocbuild/bbs-3.16-bioc/R/bin/R CMD INSTALL qpgraph ### ############################################################################## ############################################################################## * installing to library ‘/home/biocbuild/bbs-3.16-bioc/R/library’ * installing *source* package ‘qpgraph’ ... ** using staged installation checking for gcc... gcc checking for C compiler default output file name... a.out checking whether the C compiler works... yes checking whether we are cross compiling... no checking for suffix of executables... checking for suffix of object files... o checking whether we are using the GNU C compiler... yes checking whether gcc accepts -g... yes checking for gcc option to accept ANSI C... none needed checking build system type... x86_64-pc-linux-gnu checking host system type... x86_64-pc-linux-gnu configure: creating ./config.status config.status: creating src/Makevars ** libs gcc -I"/home/biocbuild/bbs-3.16-bioc/R/include" -DNDEBUG -I/usr/local/include -DUSE_FC_LEN_T -I/usr/local/include -g -O2 -Wall -Wall -pedantic -Werror=implicit-function-declaration -fpic -g -O2 -Wall -c cliquer.c -o cliquer.o gcc -I"/home/biocbuild/bbs-3.16-bioc/R/include" -DNDEBUG -I/usr/local/include -DUSE_FC_LEN_T -I/usr/local/include -g -O2 -Wall -Wall -pedantic -Werror=implicit-function-declaration -fpic -g -O2 -Wall -c graph.c -o graph.o gcc -I"/home/biocbuild/bbs-3.16-bioc/R/include" -DNDEBUG -I/usr/local/include -DUSE_FC_LEN_T -I/usr/local/include -g -O2 -Wall -Wall -pedantic -Werror=implicit-function-declaration -fpic -g -O2 -Wall -c qpgraph.c -o qpgraph.o qpgraph.c:24: warning: "USE_FC_LEN_T" redefined 24 | #define USE_FC_LEN_T | <command-line>: note: this is the location of the previous definition gcc -I"/home/biocbuild/bbs-3.16-bioc/R/include" -DNDEBUG -I/usr/local/include -DUSE_FC_LEN_T -I/usr/local/include -g -O2 -Wall -Wall -pedantic -Werror=implicit-function-declaration -fpic -g -O2 -Wall -c reorder.c -o reorder.o gcc -shared -L/home/biocbuild/bbs-3.16-bioc/R/lib -L/usr/local/lib -o qpgraph.so cliquer.o graph.o qpgraph.o reorder.o -L/home/biocbuild/bbs-3.16-bioc/R/lib -lRlapack -L/home/biocbuild/bbs-3.16-bioc/R/lib -lRblas -lgfortran -lm -lquadmath -L/home/biocbuild/bbs-3.16-bioc/R/lib -lR installing to /home/biocbuild/bbs-3.16-bioc/R/library/00LOCK-qpgraph/00new/qpgraph/libs ** R ** data *** moving datasets to lazyload DB ** inst ** byte-compile and prepare package for lazy loading Creating a generic function for ‘det’ from package ‘Matrix’ in package ‘qpgraph’ ** help *** installing help indices ** building package indices ** installing vignettes ** testing if installed package can be loaded from temporary location ** checking absolute paths in shared objects and dynamic libraries ** testing if installed package can be loaded from final location ** testing if installed package keeps a record of temporary installation path * DONE (qpgraph)