Back to Build/check report for BioC 3.13
ABCDEFGHIJKLMNOPQ[R]STUVWXYZ

Build/check report for BioC 3.13

Results for RMassBank

This page was generated on 2020-10-30 10:53:27 -0400 (Fri, 30 Oct 2020).

Package 1486/1906HostnameOS / ArchINSTALLBUILDCHECKBUILD BIN
RMassBank 3.1.0
RMassBank at Eawag
Snapshot Date: 2020-10-29 14:40:27 -0400 (Thu, 29 Oct 2020)
URL: https://git.bioconductor.org/packages/RMassBank
Branch: master
Last Commit: 1ea0650
Last Changed Date: 2020-10-27 10:46:42 -0400 (Tue, 27 Oct 2020)
malbec2 Linux (Ubuntu 18.04.4 LTS) / x86_64  OK  OK  WARNINGS UNNEEDED, same version exists in internal repository