Multiple platform build/check report for BioC 3.13 experimental data

This page was generated on 2021-03-01 15:56:11 -0500 (Mon, 01 Mar 2021).

Approx. Package Snapshot Date (git pull): 2021-03-01 09:00:05 -0500 (Mon, 01 Mar 2021)

HostnameOSArch (*)Platform label (**)R versionInstalled pkgs
rex3Linux (Ubuntu 20.04.2 LTS)x86_64x86_64-linux-gnuR Under development (unstable) (2021-02-10 r79979) -- "Unsuffered Consequences" 3996
riesling1Windows Server 2019 Standardx64mingw32 / x86_64-w64-mingw32R Under development (unstable) (2021-02-08 r79971) -- "Unsuffered Consequences" 3955
Click on any hostname to see more info about the system (e.g. compilers)      (*) as reported by 'uname -p', except on Windows and Mac OS X      (**) as reported by 'gcc -v'

Package status is indicated by one of the following glyphs
  TIMEOUT  
INSTALL, BUILD, CHECK or BUILD BIN of package took more than 40, 80, 80 or 40 minutes, respectively
  ERROR  
Bad DESCRIPTION file or INSTALL, BUILD or BUILD BIN of package failed, or CHECK produced errors
  WARNINGS  
CHECK of package produced warnings
  OK  
INSTALL, BUILD, CHECK or BUILD BIN of package was OK
skipped
CHECK or BUILD BIN of package was skipped because the BUILD step failed
  NA  
BUILD, CHECK or BUILD BIN result is not available because of an anomaly in the Build System
Click on any glyph in the report below to access the detailed report.
Package propagation status is indicated by one of the following LEDs
YES YES: Package was propagated because it didn't previously exist or version was bumped
NO NO: Package was not propagated because of a problem (impossible dependencies, or version lower than what is already propagated)
UNNEEDED UNNEEDED: Package was not propagated because it is already in the repository with this version. A version bump is required in order to propagate it

A crossed-out package name indicates the package is deprecated


QUICK STATSOS / ArchINSTALLBUILDCHECK
rex3Linux (Ubuntu 20.04.2 LTS) / x86_64
07384
07384
0681297
riesling1Windows Server 2019 Standard / x64
010380
09381
01094277
A
ABCDEFGHIJKLMNOPQRSTUVWXYZ
Package 1/391HostnameOS / ArchINSTALLBUILDCHECK
ABAData 1.21.0
Steffi Grote
Last Commit: 7550693
Last Changed Date: 2020-10-27 10:13:41 -0500
rex3Linux (Ubuntu 20.04.2 LTS) / x86_64  OK    OK    OK  UNNEEDED, same version exists in internal repository
riesling1Windows Server 2019 Standard / x64  OK    OK    OK  
Package 2/391HostnameOS / ArchINSTALLBUILDCHECK
adductData 1.7.0
Josie Hayes
Last Commit: f321628
Last Changed Date: 2020-10-27 10:29:10 -0500
rex3Linux (Ubuntu 20.04.2 LTS) / x86_64  OK    OK    OK  UNNEEDED, same version exists in internal repository
riesling1Windows Server 2019 Standard / x64  OK    OK    OK  
Package 3/391HostnameOS / ArchINSTALLBUILDCHECK
affycompData 1.29.0
Harris Jaffee
Last Commit: 0a7753d
Last Changed Date: 2020-10-27 09:52:33 -0500
rex3Linux (Ubuntu 20.04.2 LTS) / x86_64  OK    OK    OK  UNNEEDED, same version exists in internal repository
riesling1Windows Server 2019 Standard / x64  OK    OK    OK  
Package 4/391HostnameOS / ArchINSTALLBUILDCHECK
affydata 1.39.0
Harris Jaffee
Last Commit: 080210b
Last Changed Date: 2020-10-27 09:44:24 -0500
rex3Linux (Ubuntu 20.04.2 LTS) / x86_64  OK    OK    WARNINGS  UNNEEDED, same version exists in internal repository
riesling1Windows Server 2019 Standard / x64  OK    OK    WARNINGS  
Package 5/391HostnameOS / ArchINSTALLBUILDCHECK
Affyhgu133A2Expr 1.27.0
Zhicheng Ji
Last Commit: 325a4ba
Last Changed Date: 2020-10-27 10:08:21 -0500
rex3Linux (Ubuntu 20.04.2 LTS) / x86_64  OK    OK    OK  UNNEEDED, same version exists in internal repository
riesling1Windows Server 2019 Standard / x64  OK    OK    OK  
Package 6/391HostnameOS / ArchINSTALLBUILDCHECK
Affyhgu133aExpr 1.29.0
Zhicheng Ji
Last Commit: 9cbb782
Last Changed Date: 2020-10-27 10:07:40 -0500
rex3Linux (Ubuntu 20.04.2 LTS) / x86_64  OK    OK    OK  UNNEEDED, same version exists in internal repository
riesling1Windows Server 2019 Standard / x64  OK    OK    OK  
Package 7/391HostnameOS / ArchINSTALLBUILDCHECK
Affyhgu133Plus2Expr 1.25.0
Zhicheng Ji
Last Commit: cc97d22
Last Changed Date: 2020-10-27 10:08:24 -0500
rex3Linux (Ubuntu 20.04.2 LTS) / x86_64  OK    OK    OK  UNNEEDED, same version exists in internal repository
riesling1Windows Server 2019 Standard / x64  OK    OK    OK  
Package 8/391HostnameOS / ArchINSTALLBUILDCHECK
AffymetrixDataTestFiles 0.29.0
Henrik Bengtsson
Last Commit: b0450e1
Last Changed Date: 2020-10-27 09:44:28 -0500
rex3Linux (Ubuntu 20.04.2 LTS) / x86_64  OK    OK    OK  UNNEEDED, same version exists in internal repository
riesling1Windows Server 2019 Standard / x64  OK    OK    OK  
Package 9/391HostnameOS / ArchINSTALLBUILDCHECK
Affymoe4302Expr 1.29.0
Zhicheng Ji
Last Commit: ddab6bb
Last Changed Date: 2020-10-27 10:07:56 -0500
rex3Linux (Ubuntu 20.04.2 LTS) / x86_64  OK    OK    OK  UNNEEDED, same version exists in internal repository
riesling1Windows Server 2019 Standard / x64  OK    OK    OK  
Package 10/391HostnameOS / ArchINSTALLBUILDCHECK
airway 1.11.0
Michael Love
Last Commit: 9795210
Last Changed Date: 2020-10-27 10:09:39 -0500
rex3Linux (Ubuntu 20.04.2 LTS) / x86_64  OK    OK    WARNINGS  UNNEEDED, same version exists in internal repository
riesling1Windows Server 2019 Standard / x64  OK    OK    WARNINGS  
Package 11/391HostnameOS / ArchINSTALLBUILDCHECK
ALL 1.33.0
Robert Gentleman
Last Commit: b374d82
Last Changed Date: 2020-10-27 09:44:39 -0500
rex3Linux (Ubuntu 20.04.2 LTS) / x86_64  OK    OK    OK  UNNEEDED, same version exists in internal repository
riesling1Windows Server 2019 Standard / x64  OK    OK    OK  
Package 12/391HostnameOS / ArchINSTALLBUILDCHECK
ALLMLL 1.31.0
B. M. Bolstad
Last Commit: 44945ac
Last Changed Date: 2020-10-27 09:44:43 -0500
rex3Linux (Ubuntu 20.04.2 LTS) / x86_64  OK    OK    OK  UNNEEDED, same version exists in internal repository
riesling1Windows Server 2019 Standard / x64  OK    OK    OK  
Package 13/391HostnameOS / ArchINSTALLBUILDCHECK
alpineData 1.17.0
Michael Love
Last Commit: e1c33cf
Last Changed Date: 2020-10-27 10:21:31 -0500
rex3Linux (Ubuntu 20.04.2 LTS) / x86_64  OK    OK    OK  UNNEEDED, same version exists in internal repository
riesling1Windows Server 2019 Standard / x64  OK    OK    OK  
Package 14/391HostnameOS / ArchINSTALLBUILDCHECK
AmpAffyExample 1.31.0
Rafael A. Irizarry
Last Commit: 5bf96c0
Last Changed Date: 2020-10-27 09:44:46 -0500
rex3Linux (Ubuntu 20.04.2 LTS) / x86_64  OK    OK    WARNINGS  UNNEEDED, same version exists in internal repository
riesling1Windows Server 2019 Standard / x64  OK    OK    WARNINGS  
Package 15/391HostnameOS / ArchINSTALLBUILDCHECK
AneuFinderData 1.19.0
Aaron Taudt
Last Commit: 31d0d3f
Last Changed Date: 2020-10-27 10:18:25 -0500
rex3Linux (Ubuntu 20.04.2 LTS) / x86_64  OK    OK    WARNINGS  UNNEEDED, same version exists in internal repository
riesling1Windows Server 2019 Standard / x64  OK    OK    WARNINGS  
Package 16/391HostnameOS / ArchINSTALLBUILDCHECK
antiProfilesData 1.27.0
Hector Corrada Bravo
Last Commit: bfaa695
Last Changed Date: 2020-10-27 10:01:42 -0500
rex3Linux (Ubuntu 20.04.2 LTS) / x86_64  OK    OK    OK  UNNEEDED, same version exists in internal repository
riesling1Windows Server 2019 Standard / x64  OK    OK    OK  
Package 17/391HostnameOS / ArchINSTALLBUILDCHECK
aracne.networks 1.17.0
Federico M. Giorgi , Mariano Alvarez
Last Commit: 0719873
Last Changed Date: 2020-10-27 10:20:54 -0500
rex3Linux (Ubuntu 20.04.2 LTS) / x86_64  OK    OK    WARNINGS  UNNEEDED, same version exists in internal repository
riesling1Windows Server 2019 Standard / x64  OK    OK    WARNINGS  
Package 18/391HostnameOS / ArchINSTALLBUILDCHECK
ARRmData 1.27.0
Jean-Philippe Fortin
Last Commit: b224c9c
Last Changed Date: 2020-10-27 10:00:59 -0500
rex3Linux (Ubuntu 20.04.2 LTS) / x86_64  OK    OK    OK  UNNEEDED, same version exists in internal repository
riesling1Windows Server 2019 Standard / x64  OK    OK    OK  
Package 19/391HostnameOS / ArchINSTALLBUILDCHECK
AshkenazimSonChr21 1.21.0
Who to complain to
Last Commit: d530d6e
Last Changed Date: 2020-10-27 10:13:29 -0500
rex3Linux (Ubuntu 20.04.2 LTS) / x86_64  OK    OK    OK  UNNEEDED, same version exists in internal repository
riesling1Windows Server 2019 Standard / x64  OK    OK    OK  
Package 20/391HostnameOS / ArchINSTALLBUILDCHECK
ASICSdata 1.11.0
Gaëlle Lefort
Last Commit: e37e1d2
Last Changed Date: 2020-10-27 10:26:25 -0500
rex3Linux (Ubuntu 20.04.2 LTS) / x86_64  OK    OK    OK  UNNEEDED, same version exists in internal repository
riesling1Windows Server 2019 Standard / x64  OK    OK    OK  
Package 21/391HostnameOS / ArchINSTALLBUILDCHECK
AssessORFData 1.9.0
Deepank Korandla
Last Commit: a2da368
Last Changed Date: 2020-10-27 10:28:32 -0500
rex3Linux (Ubuntu 20.04.2 LTS) / x86_64  OK    OK    OK  UNNEEDED, same version exists in internal repository
riesling1Windows Server 2019 Standard / x64  OK    OK    OK  
B
ABCDEFGHIJKLMNOPQRSTUVWXYZ
Package 22/391HostnameOS / ArchINSTALLBUILDCHECK
bcellViper 1.27.0
Mariano Javier Alvarez
Last Commit: 676db9a
Last Changed Date: 2020-10-27 10:08:37 -0500
rex3Linux (Ubuntu 20.04.2 LTS) / x86_64  OK    OK    OK  UNNEEDED, same version exists in internal repository
riesling1Windows Server 2019 Standard / x64  OK    OK    OK  
Package 23/391HostnameOS / ArchINSTALLBUILDCHECK
beadarrayExampleData 1.29.0
Mark Dunning
Last Commit: fd38a77
Last Changed Date: 2020-10-27 09:53:57 -0500
rex3Linux (Ubuntu 20.04.2 LTS) / x86_64  OK    OK    OK  UNNEEDED, same version exists in internal repository
riesling1Windows Server 2019 Standard / x64  OK    OK    OK  
Package 24/391HostnameOS / ArchINSTALLBUILDCHECK
BeadArrayUseCases 1.29.0
Mike Smith
Last Commit: 9416683
Last Changed Date: 2020-10-27 09:54:12 -0500
rex3Linux (Ubuntu 20.04.2 LTS) / x86_64  OK    OK    OK  UNNEEDED, same version exists in internal repository
riesling1Windows Server 2019 Standard / x64  OK    OK    OK  
Package 25/391HostnameOS / ArchINSTALLBUILDCHECK
benchmarkfdrData2019 1.5.0
Stephanie Hicks
Last Commit: 259eb05
Last Changed Date: 2020-10-27 10:30:09 -0500
rex3Linux (Ubuntu 20.04.2 LTS) / x86_64  OK    OK    OK  UNNEEDED, same version exists in internal repository
riesling1Windows Server 2019 Standard / x64  OK    OK    OK  
Package 26/391HostnameOS / ArchINSTALLBUILDCHECK
beta7 1.29.0
Jean Yang
Last Commit: 219d575
Last Changed Date: 2020-10-27 09:44:50 -0500
rex3Linux (Ubuntu 20.04.2 LTS) / x86_64  OK    OK    WARNINGS  UNNEEDED, same version exists in internal repository
riesling1Windows Server 2019 Standard / x64  OK    OK    WARNINGS  
Package 27/391HostnameOS / ArchINSTALLBUILDCHECK
biotmleData 1.15.0
Nima Hejazi
Last Commit: ecab0d2
Last Changed Date: 2020-10-27 10:22:49 -0500
rex3Linux (Ubuntu 20.04.2 LTS) / x86_64  OK    OK    OK  UNNEEDED, same version exists in internal repository
riesling1Windows Server 2019 Standard / x64  OK    OK    OK  
Package 28/391HostnameOS / ArchINSTALLBUILDCHECK
biscuiteerData 1.5.0
"Jacob Morrison"
Last Commit: 3d8ba53
Last Changed Date: 2020-10-27 10:30:54 -0500
rex3Linux (Ubuntu 20.04.2 LTS) / x86_64  OK    OK    OK  UNNEEDED, same version exists in internal repository
riesling1Windows Server 2019 Standard / x64  OK    OK    OK  
Package 29/391HostnameOS / ArchINSTALLBUILDCHECK
bladderbatch 1.29.0
Jeffrey T. Leek
Last Commit: 8eb688a
Last Changed Date: 2020-10-27 09:53:50 -0500
rex3Linux (Ubuntu 20.04.2 LTS) / x86_64  OK    OK    WARNINGS  UNNEEDED, same version exists in internal repository
riesling1Windows Server 2019 Standard / x64  OK    OK    WARNINGS  
Package 30/391HostnameOS / ArchINSTALLBUILDCHECK
blimaTestingData 1.11.0
Vojtech Kulvait
Last Commit: 6689baa
Last Changed Date: 2020-10-27 10:09:04 -0500
rex3Linux (Ubuntu 20.04.2 LTS) / x86_64  OK    OK    OK  UNNEEDED, same version exists in internal repository
riesling1Windows Server 2019 Standard / x64  OK    OK    OK  
Package 31/391HostnameOS / ArchINSTALLBUILDCHECK
BloodCancerMultiOmics2017 1.11.0
Malgorzata Oles
Last Commit: 7d60da4
Last Changed Date: 2020-10-27 10:26:12 -0500
rex3Linux (Ubuntu 20.04.2 LTS) / x86_64  OK    OK    OK  UNNEEDED, same version exists in internal repository
riesling1Windows Server 2019 Standard / x64  OK    OK    OK  
Package 32/391HostnameOS / ArchINSTALLBUILDCHECK
bodymapRat 1.7.0
Stephanie Hicks
Last Commit: d3a4487
Last Changed Date: 2020-10-27 10:29:45 -0500
rex3Linux (Ubuntu 20.04.2 LTS) / x86_64  OK    OK    OK  UNNEEDED, same version exists in internal repository
riesling1Windows Server 2019 Standard / x64  OK    OK    OK  
Package 33/391HostnameOS / ArchINSTALLBUILDCHECK
brainImageRdata 1.9.0
Sara Linker
Last Commit: d37621d
Last Changed Date: 2020-10-27 10:27:37 -0500
rex3Linux (Ubuntu 20.04.2 LTS) / x86_64  OK    OK    OK  UNNEEDED, same version exists in internal repository
riesling1Windows Server 2019 Standard / x64  OK    OK    OK  
Package 34/391HostnameOS / ArchINSTALLBUILDCHECK
breakpointRdata 1.9.0
David Porubsky
Last Commit: c32cc15
Last Changed Date: 2020-10-27 10:27:44 -0500
rex3Linux (Ubuntu 20.04.2 LTS) / x86_64  OK    OK    OK  UNNEEDED, same version exists in internal repository
riesling1Windows Server 2019 Standard / x64  OK    OK    OK  
Package 35/391HostnameOS / ArchINSTALLBUILDCHECK
breastCancerMAINZ 1.29.0
Markus Schroeder , Benjamin Haibe-Kains
Last Commit: c14abaf
Last Changed Date: 2020-10-27 09:52:40 -0500
rex3Linux (Ubuntu 20.04.2 LTS) / x86_64  OK    OK    WARNINGS  UNNEEDED, same version exists in internal repository
riesling1Windows Server 2019 Standard / x64  OK    OK    WARNINGS  
Package 36/391HostnameOS / ArchINSTALLBUILDCHECK
breastCancerNKI 1.29.0
Markus Schroeder , Benjamin Haibe-Kains
Last Commit: 8a22703
Last Changed Date: 2020-10-27 09:52:43 -0500
rex3Linux (Ubuntu 20.04.2 LTS) / x86_64  OK    OK    WARNINGS  UNNEEDED, same version exists in internal repository
riesling1Windows Server 2019 Standard / x64  OK    OK    WARNINGS  
Package 37/391HostnameOS / ArchINSTALLBUILDCHECK
breastCancerTRANSBIG 1.29.0
Markus Schroeder , Benjamin Haibe-Kains
Last Commit: 884c4ac
Last Changed Date: 2020-10-27 09:52:47 -0500
rex3Linux (Ubuntu 20.04.2 LTS) / x86_64  OK    OK    WARNINGS  UNNEEDED, same version exists in internal repository
riesling1Windows Server 2019 Standard / x64  OK    OK    WARNINGS  
Package 38/391HostnameOS / ArchINSTALLBUILDCHECK
breastCancerUNT 1.29.0
Markus Schroeder , Benjamin Haibe-Kains
Last Commit: 8e9b7ca
Last Changed Date: 2020-10-27 09:52:50 -0500
rex3Linux (Ubuntu 20.04.2 LTS) / x86_64  OK    OK    WARNINGS  UNNEEDED, same version exists in internal repository
riesling1Windows Server 2019 Standard / x64  OK    OK    WARNINGS  
Package 39/391HostnameOS / ArchINSTALLBUILDCHECK
breastCancerUPP 1.29.0
Markus Schroeder , Benjamin Haibe-Kains
Last Commit: fb59a90
Last Changed Date: 2020-10-27 09:52:54 -0500
rex3Linux (Ubuntu 20.04.2 LTS) / x86_64  OK    OK    WARNINGS  UNNEEDED, same version exists in internal repository
riesling1Windows Server 2019 Standard / x64  OK    OK    WARNINGS  
Package 40/391HostnameOS / ArchINSTALLBUILDCHECK
breastCancerVDX 1.29.0
Markus Schroeder , Benjamin Haibe-Kains
Last Commit: ea547c4
Last Changed Date: 2020-10-27 09:52:57 -0500
rex3Linux (Ubuntu 20.04.2 LTS) / x86_64  OK    OK    WARNINGS  UNNEEDED, same version exists in internal repository
riesling1Windows Server 2019 Standard / x64  OK    OK    WARNINGS  
Package 41/391HostnameOS / ArchINSTALLBUILDCHECK
brgedata 1.13.0
Carlos Ruiz-Arenas
Last Commit: c9c7e98
Last Changed Date: 2020-10-27 10:23:31 -0500
rex3Linux (Ubuntu 20.04.2 LTS) / x86_64  OK    OK    WARNINGS  UNNEEDED, same version exists in internal repository
riesling1Windows Server 2019 Standard / x64  OK    OK    WARNINGS  
Package 42/391HostnameOS / ArchINSTALLBUILDCHECK
bronchialIL13 1.29.0
Vince Carey
Last Commit: 2d5adca
Last Changed Date: 2020-10-27 09:44:55 -0500
rex3Linux (Ubuntu 20.04.2 LTS) / x86_64  OK    OK    OK  UNNEEDED, same version exists in internal repository
riesling1Windows Server 2019 Standard / x64  OK    OK    OK  
Package 43/391HostnameOS / ArchINSTALLBUILDCHECK
bsseqData 0.29.0
Kasper Daniel Hansen
Last Commit: 05f855c
Last Changed Date: 2020-10-27 09:56:15 -0500
rex3Linux (Ubuntu 20.04.2 LTS) / x86_64  OK    OK    OK  UNNEEDED, same version exists in internal repository
riesling1Windows Server 2019 Standard / x64  OK    OK    OK  
C
ABCDEFGHIJKLMNOPQRSTUVWXYZ
Package 44/391HostnameOS / ArchINSTALLBUILDCHECK
cancerdata 1.29.0
Daniel Kosztyla
Last Commit: 45b4aad
Last Changed Date: 2020-10-27 09:55:31 -0500
rex3Linux (Ubuntu 20.04.2 LTS) / x86_64  OK    OK    OK  UNNEEDED, same version exists in internal repository
riesling1Windows Server 2019 Standard / x64  OK    OK    OK  
Package 45/391HostnameOS / ArchINSTALLBUILDCHECK
CardinalWorkflows 1.23.0
Kylie A. Bemis
Last Commit: eb287ce
Last Changed Date: 2020-10-27 10:11:32 -0500
rex3Linux (Ubuntu 20.04.2 LTS) / x86_64  OK    OK    OK  UNNEEDED, same version exists in internal repository
riesling1Windows Server 2019 Standard / x64  OK    OK    OK  
Package 46/391HostnameOS / ArchINSTALLBUILDCHECK
ccdata 1.17.0
Alex Pickering
Last Commit: 7f6a164
Last Changed Date: 2020-10-27 10:21:01 -0500
rex3Linux (Ubuntu 20.04.2 LTS) / x86_64  OK    OK    WARNINGS  UNNEEDED, same version exists in internal repository
riesling1Windows Server 2019 Standard / x64  OK    OK    WARNINGS  
Package 47/391HostnameOS / ArchINSTALLBUILDCHECK
CCl4 1.29.0
Audrey Kauffmann
Last Commit: d5d52d2
Last Changed Date: 2020-10-27 09:47:36 -0500
rex3Linux (Ubuntu 20.04.2 LTS) / x86_64  OK    OK    WARNINGS  UNNEEDED, same version exists in internal repository
riesling1Windows Server 2019 Standard / x64  OK    OK    WARNINGS  
Package 48/391HostnameOS / ArchINSTALLBUILDCHECK
ccTutorial 1.29.0
Joern Toedling
Last Commit: edfce2d
Last Changed Date: 2020-10-27 09:49:38 -0500
rex3Linux (Ubuntu 20.04.2 LTS) / x86_64  OK    OK    OK  UNNEEDED, same version exists in internal repository
riesling1Windows Server 2019 Standard / x64  OK    OK    OK  
Package 49/391HostnameOS / ArchINSTALLBUILDCHECK
celarefData 1.9.0
Sarah Williams
Last Commit: 9813acd
Last Changed Date: 2020-10-27 10:27:16 -0500
rex3Linux (Ubuntu 20.04.2 LTS) / x86_64  OK    OK    OK  UNNEEDED, same version exists in internal repository
riesling1Windows Server 2019 Standard / x64  OK    OK    OK  
Package 50/391HostnameOS / ArchINSTALLBUILDCHECK
celldex 1.1.0
Aaron Lun
Last Commit: e3fabad
Last Changed Date: 2020-10-27 10:32:01 -0500
rex3Linux (Ubuntu 20.04.2 LTS) / x86_64  OK    OK    OK  UNNEEDED, same version exists in internal repository
riesling1Windows Server 2019 Standard / x64  OK    OK    OK  
Package 51/391HostnameOS / ArchINSTALLBUILDCHECK
CellMapperData 1.17.0
Brad Nelms
Last Commit: 95f5e46
Last Changed Date: 2020-10-27 10:21:34 -0500
rex3Linux (Ubuntu 20.04.2 LTS) / x86_64  OK    OK    OK  UNNEEDED, same version exists in internal repository
riesling1Windows Server 2019 Standard / x64  OK    OK    OK  
Package 52/391HostnameOS / ArchINSTALLBUILDCHECK
ceu1kg 0.29.1
VJ Carey
Last Commit: fdea3e5
Last Changed Date: 2020-11-30 08:18:42 -0500
rex3Linux (Ubuntu 20.04.2 LTS) / x86_64  ERROR    ERROR  skipped
riesling1Windows Server 2019 Standard / x64  ERROR    ERROR  skipped
Package 53/391HostnameOS / ArchINSTALLBUILDCHECK
ceu1kgv 0.33.1
VJ Carey
Last Commit: aaa6b5c
Last Changed Date: 2020-11-30 08:19:41 -0500
rex3Linux (Ubuntu 20.04.2 LTS) / x86_64  ERROR    ERROR  skipped
riesling1Windows Server 2019 Standard / x64  ERROR    ERROR  skipped
Package 54/391HostnameOS / ArchINSTALLBUILDCHECK
ceuhm3 0.29.1
VJ Carey
Last Commit: 27a06f7
Last Changed Date: 2020-11-30 08:20:45 -0500
rex3Linux (Ubuntu 20.04.2 LTS) / x86_64  ERROR    OK    ERROR  
riesling1Windows Server 2019 Standard / x64  ERROR    OK    ERROR  
Package 55/391HostnameOS / ArchINSTALLBUILDCHECK
cgdv17 0.29.1
VJ Carey
Last Commit: 8e1b19a
Last Changed Date: 2020-11-30 08:21:37 -0500
rex3Linux (Ubuntu 20.04.2 LTS) / x86_64  OK    ERROR  skipped
riesling1Windows Server 2019 Standard / x64  OK    ERROR  skipped
Package 56/391HostnameOS / ArchINSTALLBUILDCHECK
ChAMPdata 2.23.0
Yuan Tian
Last Commit: 9095bbe
Last Changed Date: 2020-10-27 10:05:58 -0500
rex3Linux (Ubuntu 20.04.2 LTS) / x86_64  OK    OK    OK  UNNEEDED, same version exists in internal repository
riesling1Windows Server 2019 Standard / x64  OK    OK    OK  
Package 57/391HostnameOS / ArchINSTALLBUILDCHECK
ChIC.data 1.11.0
Carmen Maria Livi
Last Commit: 3345c49
Last Changed Date: 2020-10-27 10:26:51 -0500
rex3Linux (Ubuntu 20.04.2 LTS) / x86_64  OK    OK    OK  UNNEEDED, same version exists in internal repository
riesling1Windows Server 2019 Standard / x64  OK    OK    OK  
Package 58/391HostnameOS / ArchINSTALLBUILDCHECK
ChimpHumanBrainData 1.29.0
Sean Davis
Last Commit: c86db6f
Last Changed Date: 2020-10-27 10:07:29 -0500
rex3Linux (Ubuntu 20.04.2 LTS) / x86_64  OK    OK    OK  UNNEEDED, same version exists in internal repository
riesling1Windows Server 2019 Standard / x64  OK    OK    OK  
Package 59/391HostnameOS / ArchINSTALLBUILDCHECK
chipenrich.data 2.15.0
Raymond G. Cavalcante
Last Commit: 3a67788
Last Changed Date: 2020-10-27 10:05:31 -0500
rex3Linux (Ubuntu 20.04.2 LTS) / x86_64  OK    OK    OK  UNNEEDED, same version exists in internal repository
riesling1Windows Server 2019 Standard / x64  OK    OK    OK  
Package 60/391HostnameOS / ArchINSTALLBUILDCHECK
ChIPexoQualExample 1.15.0
Rene Welch
Last Commit: dbc6d72
Last Changed Date: 2020-10-27 10:22:29 -0500
rex3Linux (Ubuntu 20.04.2 LTS) / x86_64  OK    OK    OK  UNNEEDED, same version exists in internal repository
riesling1Windows Server 2019 Standard / x64  OK    OK    OK  
Package 61/391HostnameOS / ArchINSTALLBUILDCHECK
chipseqDBData 1.7.0
Aaron Lun
Last Commit: 96984e6
Last Changed Date: 2020-10-27 10:29:02 -0500
rex3Linux (Ubuntu 20.04.2 LTS) / x86_64  OK    OK    OK  UNNEEDED, same version exists in internal repository
riesling1Windows Server 2019 Standard / x64  OK    OK    OK  
Package 62/391HostnameOS / ArchINSTALLBUILDCHECK
ChIPXpressData 1.29.0
George Wu
Last Commit: 761a41d
Last Changed Date: 2020-10-27 09:57:08 -0500
rex3Linux (Ubuntu 20.04.2 LTS) / x86_64  OK    OK    WARNINGS  UNNEEDED, same version exists in internal repository
riesling1Windows Server 2019 Standard / x64... NOT SUPPORTED ...
Package 63/391HostnameOS / ArchINSTALLBUILDCHECK
chromstaRData 1.17.0
Aaron Taudt
Last Commit: b830e91
Last Changed Date: 2020-10-27 10:20:48 -0500
rex3Linux (Ubuntu 20.04.2 LTS) / x86_64  OK    OK    OK  UNNEEDED, same version exists in internal repository
riesling1Windows Server 2019 Standard / x64  OK    OK    OK  
Package 64/391HostnameOS / ArchINSTALLBUILDCHECK
CLL 1.31.0
Robert Gentleman
Last Commit: 656d76b
Last Changed Date: 2020-10-27 09:44:59 -0500
rex3Linux (Ubuntu 20.04.2 LTS) / x86_64  OK    OK    OK  UNNEEDED, same version exists in internal repository
riesling1Windows Server 2019 Standard / x64  OK    OK    OK  
Package 65/391HostnameOS / ArchINSTALLBUILDCHECK
CLLmethylation 1.11.0
Malgorzata Oles , Andreas Mock
Last Commit: 2f7de5e
Last Changed Date: 2020-10-27 10:26:16 -0500
rex3Linux (Ubuntu 20.04.2 LTS) / x86_64  OK    OK    OK  UNNEEDED, same version exists in internal repository
riesling1Windows Server 2019 Standard / x64  OK    OK    OK  
Package 66/391HostnameOS / ArchINSTALLBUILDCHECK
CluMSIDdata 1.7.0
Tobias Depke
Last Commit: 701b60a
Last Changed Date: 2020-10-27 10:28:53 -0500
rex3Linux (Ubuntu 20.04.2 LTS) / x86_64  OK    OK    OK  UNNEEDED, same version exists in internal repository
riesling1Windows Server 2019 Standard / x64  OK    OK    OK  
Package 67/391HostnameOS / ArchINSTALLBUILDCHECK
clustifyrdatahub 1.1.0
Rui Fu
Last Commit: 95cdae9
Last Changed Date: 2020-10-27 10:32:19 -0500
rex3Linux (Ubuntu 20.04.2 LTS) / x86_64  OK    OK    OK  UNNEEDED, same version exists in internal repository
riesling1Windows Server 2019 Standard / x64  OK    OK    OK  
Package 68/391HostnameOS / ArchINSTALLBUILDCHECK
cMap2data 1.27.0
J. Saez-Rodriguez
Last Commit: 0fb2788
Last Changed Date: 2020-10-27 10:01:03 -0500
rex3Linux (Ubuntu 20.04.2 LTS) / x86_64  OK    OK    OK  UNNEEDED, same version exists in internal repository
riesling1Windows Server 2019 Standard / x64  OK    OK    OK  
Package 69/391HostnameOS / ArchINSTALLBUILDCHECK
cnvGSAdata 1.27.0
Joseph Lugo
Last Commit: d259bce
Last Changed Date: 2020-10-27 09:55:27 -0500
rex3Linux (Ubuntu 20.04.2 LTS) / x86_64  OK    OK    WARNINGS  UNNEEDED, same version exists in internal repository
riesling1Windows Server 2019 Standard / x64  OK    OK    WARNINGS  
Package 70/391HostnameOS / ArchINSTALLBUILDCHECK
COHCAPanno 1.27.0
Charles Warden
Last Commit: b771882
Last Changed Date: 2020-10-27 10:07:36 -0500
rex3Linux (Ubuntu 20.04.2 LTS) / x86_64  OK    OK    OK  UNNEEDED, same version exists in internal repository
riesling1Windows Server 2019 Standard / x64  OK    OK    OK  
Package 71/391HostnameOS / ArchINSTALLBUILDCHECK
colonCA 1.33.0
W Sylvia Merk
Last Commit: 26a5e93
Last Changed Date: 2020-10-27 09:45:02 -0500
rex3Linux (Ubuntu 20.04.2 LTS) / x86_64  OK    OK    WARNINGS  UNNEEDED, same version exists in internal repository
riesling1Windows Server 2019 Standard / x64  OK    OK    WARNINGS  
Package 72/391HostnameOS / ArchINSTALLBUILDCHECK
CONFESSdata 1.19.0
Diana LOW
Last Commit: c0be77c
Last Changed Date: 2020-10-27 10:18:44 -0500
rex3Linux (Ubuntu 20.04.2 LTS) / x86_64  OK    OK    OK  UNNEEDED, same version exists in internal repository
riesling1Windows Server 2019 Standard / x64  OK    OK    OK  
Package 73/391HostnameOS / ArchINSTALLBUILDCHECK
ConnectivityMap 1.27.0
Paul Shannon
Last Commit: 28a725a
Last Changed Date: 2020-10-27 10:01:07 -0500
rex3Linux (Ubuntu 20.04.2 LTS) / x86_64  OK    OK    OK  UNNEEDED, same version exists in internal repository
riesling1Windows Server 2019 Standard / x64  OK    OK    OK  
Package 74/391HostnameOS / ArchINSTALLBUILDCHECK
COPDSexualDimorphism.data 1.27.0
J Fah Sathirapongsasuti
Last Commit: d59afa6
Last Changed Date: 2020-10-27 10:08:40 -0500
rex3Linux (Ubuntu 20.04.2 LTS) / x86_64  OK    OK    WARNINGS  UNNEEDED, same version exists in internal repository
riesling1Windows Server 2019 Standard / x64  OK    OK    WARNINGS  
Package 75/391HostnameOS / ArchINSTALLBUILDCHECK
CopyhelpeR 1.23.0
Oscar Krijgsman
Last Commit: 995a539
Last Changed Date: 2020-10-27 10:12:43 -0500
rex3Linux (Ubuntu 20.04.2 LTS) / x86_64  OK    OK    OK  UNNEEDED, same version exists in internal repository
riesling1Windows Server 2019 Standard / x64  OK    OK    OK  
Package 76/391HostnameOS / ArchINSTALLBUILDCHECK
CopyNeutralIMA 1.9.0
Xavier Pastor Hostench
Last Commit: b9ed464
Last Changed Date: 2020-10-27 10:27:13 -0500
rex3Linux (Ubuntu 20.04.2 LTS) / x86_64  OK    OK    OK  UNNEEDED, same version exists in internal repository
riesling1Windows Server 2019 Standard / x64  OK    OK    OK  
Package 77/391HostnameOS / ArchINSTALLBUILDCHECK
COSMIC.67 1.27.0
Julian Gehring
Last Commit: db73308
Last Changed Date: 2020-10-27 10:06:45 -0500
rex3Linux (Ubuntu 20.04.2 LTS) / x86_64  OK    OK    OK  UNNEEDED, same version exists in internal repository
riesling1Windows Server 2019 Standard / x64  OK    OK    OK  
Package 78/391HostnameOS / ArchINSTALLBUILDCHECK
CRCL18 1.11.0
Claudio Isella
Last Commit: d7c6f9f
Last Changed Date: 2020-10-27 10:09:44 -0500
rex3Linux (Ubuntu 20.04.2 LTS) / x86_64  OK    OK    OK  UNNEEDED, same version exists in internal repository
riesling1Windows Server 2019 Standard / x64  OK    OK    OK  
Package 79/391HostnameOS / ArchINSTALLBUILDCHECK
curatedAdipoArray 1.3.0
Mahmoud Ahmed
Last Commit: 72d0d34
Last Changed Date: 2020-10-27 10:31:04 -0500
rex3Linux (Ubuntu 20.04.2 LTS) / x86_64  OK    OK    OK  UNNEEDED, same version exists in internal repository
riesling1Windows Server 2019 Standard / x64  OK    OK    OK  
Package 80/391HostnameOS / ArchINSTALLBUILDCHECK
curatedAdipoChIP 1.7.0
Mahmoud Ahmed
Last Commit: 129aea9
Last Changed Date: 2020-10-27 10:29:51 -0500
rex3Linux (Ubuntu 20.04.2 LTS) / x86_64  OK    OK    OK  UNNEEDED, same version exists in internal repository
riesling1Windows Server 2019 Standard / x64  OK    OK    OK  
Package 81/391HostnameOS / ArchINSTALLBUILDCHECK
curatedAdipoRNA 1.7.0
Mahmoud Ahmed
Last Commit: 836b471
Last Changed Date: 2020-10-27 10:29:38 -0500
rex3Linux (Ubuntu 20.04.2 LTS) / x86_64  OK    OK    OK  UNNEEDED, same version exists in internal repository
riesling1Windows Server 2019 Standard / x64  OK    OK    OK  
Package 82/391HostnameOS / ArchINSTALLBUILDCHECK
curatedBladderData 1.27.0
Markus Riester
Last Commit: d804766
Last Changed Date: 2020-10-27 10:05:27 -0500
rex3Linux (Ubuntu 20.04.2 LTS) / x86_64  OK    OK    OK  UNNEEDED, same version exists in internal repository
riesling1Windows Server 2019 Standard / x64  OK    OK    OK  
Package 83/391HostnameOS / ArchINSTALLBUILDCHECK
curatedBreastData 2.19.0
Katie Planey
Last Commit: 2aa1064
Last Changed Date: 2020-10-27 10:11:50 -0500
rex3Linux (Ubuntu 20.04.2 LTS) / x86_64  OK    OK    OK  UNNEEDED, same version exists in internal repository
riesling1Windows Server 2019 Standard / x64  OK    OK    OK  
Package 84/391HostnameOS / ArchINSTALLBUILDCHECK
curatedCRCData 2.23.0
Princy Parsana
Last Commit: 7453b6e
Last Changed Date: 2020-10-27 10:06:49 -0500
rex3Linux (Ubuntu 20.04.2 LTS) / x86_64  OK    OK    OK  UNNEEDED, same version exists in internal repository
riesling1Windows Server 2019 Standard / x64  OK    OK    OK  
Package 85/391HostnameOS / ArchINSTALLBUILDCHECK
curatedMetagenomicData 1.21.0
Lucas Schiffer
Last Commit: 8f99117
Last Changed Date: 2020-10-27 10:20:00 -0500
rex3Linux (Ubuntu 20.04.2 LTS) / x86_64  OK    OK    OK  UNNEEDED, same version exists in internal repository
riesling1Windows Server 2019 Standard / x64  OK    OK    OK  
Package 86/391HostnameOS / ArchINSTALLBUILDCHECK
curatedOvarianData 1.29.0
Levi Waldron
Last Commit: f92ddad
Last Changed Date: 2020-10-27 10:00:26 -0500
rex3Linux (Ubuntu 20.04.2 LTS) / x86_64  OK    OK    OK  UNNEEDED, same version exists in internal repository
riesling1Windows Server 2019 Standard / x64  OK    OK    OK  
Package 87/391HostnameOS / ArchINSTALLBUILDCHECK
curatedTCGAData 1.13.7
Marcel Ramos
Last Commit: 1265c9d
Last Changed Date: 2021-01-27 19:04:06 -0500
rex3Linux (Ubuntu 20.04.2 LTS) / x86_64  OK    OK    OK  UNNEEDED, same version exists in internal repository
riesling1Windows Server 2019 Standard / x64  OK    OK    OK  
D
ABCDEFGHIJKLMNOPQRSTUVWXYZ
Package 88/391HostnameOS / ArchINSTALLBUILDCHECK
DAPARdata 1.21.0
Samuel Wieczorek
Last Commit: bc1bf19
Last Changed Date: 2020-10-27 10:18:29 -0500
rex3Linux (Ubuntu 20.04.2 LTS) / x86_64  OK    OK    WARNINGS  UNNEEDED, same version exists in internal repository
riesling1Windows Server 2019 Standard / x64  OK    OK    WARNINGS  
Package 89/391HostnameOS / ArchINSTALLBUILDCHECK
davidTiling 1.31.0
Wolfgang Huber
Last Commit: 0c228f3
Last Changed Date: 2020-10-27 09:45:05 -0500
rex3Linux (Ubuntu 20.04.2 LTS) / x86_64  OK    OK    WARNINGS  UNNEEDED, same version exists in internal repository
riesling1Windows Server 2019 Standard / x64  OK    OK    WARNINGS  
Package 90/391HostnameOS / ArchINSTALLBUILDCHECK
depmap 1.5.1
Laurent Gatto
Last Commit: f37525a
Last Changed Date: 2020-11-26 15:36:28 -0500
rex3Linux (Ubuntu 20.04.2 LTS) / x86_64  OK    OK    OK  UNNEEDED, same version exists in internal repository
riesling1Windows Server 2019 Standard / x64  OK    OK    OK  
Package 91/391HostnameOS / ArchINSTALLBUILDCHECK
derfinderData 2.9.1
Leonardo Collado-Torres
Last Commit: d7ced0a
Last Changed Date: 2020-12-17 18:10:49 -0500
rex3Linux (Ubuntu 20.04.2 LTS) / x86_64  OK    OK    OK  UNNEEDED, same version exists in internal repository
riesling1Windows Server 2019 Standard / x64  OK    OK    OK  
Package 92/391HostnameOS / ArchINSTALLBUILDCHECK
DeSousa2013 1.27.0
Xin Wang
Last Commit: bb7af97
Last Changed Date: 2020-10-27 10:02:18 -0500
rex3Linux (Ubuntu 20.04.2 LTS) / x86_64  OK    OK    OK  UNNEEDED, same version exists in internal repository
riesling1Windows Server 2019 Standard / x64  OK    OK    OK  
Package 93/391HostnameOS / ArchINSTALLBUILDCHECK
diffloopdata 1.19.0
Caleb Lareau
Last Commit: fc3780d
Last Changed Date: 2020-10-27 10:19:08 -0500
rex3Linux (Ubuntu 20.04.2 LTS) / x86_64  OK    OK    OK  UNNEEDED, same version exists in internal repository
riesling1Windows Server 2019 Standard / x64  OK    OK    OK  
Package 94/391HostnameOS / ArchINSTALLBUILDCHECK
diggitdata 1.23.0
Mariano Javier Alvarez
Last Commit: dfdf303
Last Changed Date: 2020-10-27 10:11:43 -0500
rex3Linux (Ubuntu 20.04.2 LTS) / x86_64  OK    OK    OK  UNNEEDED, same version exists in internal repository
riesling1Windows Server 2019 Standard / x64  OK    OK    OK  
Package 95/391HostnameOS / ArchINSTALLBUILDCHECK
DLBCL 1.31.0
Marcus Dittrich
Last Commit: b40e1f0
Last Changed Date: 2020-10-27 09:51:57 -0500
rex3Linux (Ubuntu 20.04.2 LTS) / x86_64  OK    OK    WARNINGS  UNNEEDED, same version exists in internal repository
riesling1Windows Server 2019 Standard / x64  OK    OK    WARNINGS  
Package 96/391HostnameOS / ArchINSTALLBUILDCHECK
DmelSGI 1.23.3
Mike Smith
Last Commit: 2b6365d
Last Changed Date: 2020-12-22 16:04:18 -0500
rex3Linux (Ubuntu 20.04.2 LTS) / x86_64  OK    OK    OK  UNNEEDED, same version exists in internal repository
riesling1Windows Server 2019 Standard / x64  OK    OK    OK  
Package 97/391HostnameOS / ArchINSTALLBUILDCHECK
DMRcatedata 2.9.2
Tim Peters
Last Commit: 8e55728
Last Changed Date: 2021-02-08 17:14:11 -0500
rex3Linux (Ubuntu 20.04.2 LTS) / x86_64  OK    OK    OK  UNNEEDED, same version exists in internal repository
riesling1Windows Server 2019 Standard / x64  OK    OK    OK  
Package 98/391HostnameOS / ArchINSTALLBUILDCHECK
DonaPLLP2013 1.29.0
Joseph D. Barry
Last Commit: f64b1ee
Last Changed Date: 2020-10-27 10:04:32 -0500
rex3Linux (Ubuntu 20.04.2 LTS) / x86_64  OK    OK    OK  UNNEEDED, same version exists in internal repository
riesling1Windows Server 2019 Standard / x64  OK    OK    OK  
Package 99/391HostnameOS / ArchINSTALLBUILDCHECK
dorothea 1.3.0
Christian H. Holland
Last Commit: 6e2b837
Last Changed Date: 2020-10-27 10:31:26 -0500
rex3Linux (Ubuntu 20.04.2 LTS) / x86_64  OK    OK    ERROR  
riesling1Windows Server 2019 Standard / x64  OK    OK    ERROR  
Package 100/391HostnameOS / ArchINSTALLBUILDCHECK
DREAM4 1.27.0
Paul Shannon
Last Commit: 2906b37
Last Changed Date: 2020-10-27 10:01:15 -0500
rex3Linux (Ubuntu 20.04.2 LTS) / x86_64  OK    OK    WARNINGS  UNNEEDED, same version exists in internal repository
riesling1Windows Server 2019 Standard / x64  OK    OK    WARNINGS  
Package 101/391HostnameOS / ArchINSTALLBUILDCHECK
dressCheck 0.29.0
Vincent Carey
Last Commit: 1ebba41
Last Changed Date: 2020-10-27 09:52:01 -0500
rex3Linux (Ubuntu 20.04.2 LTS) / x86_64  OK    OK    OK  UNNEEDED, same version exists in internal repository
riesling1Windows Server 2019 Standard / x64  OK    OK    OK  
Package 102/391HostnameOS / ArchINSTALLBUILDCHECK
DropletTestFiles 1.1.0
Aaron Lun
Last Commit: 0242945
Last Changed Date: 2020-10-27 10:32:28 -0500
rex3Linux (Ubuntu 20.04.2 LTS) / x86_64  OK    OK    OK  UNNEEDED, same version exists in internal repository
riesling1Windows Server 2019 Standard / x64  OK    OK    OK  
Package 103/391HostnameOS / ArchINSTALLBUILDCHECK
DrugVsDiseasedata 1.27.0
J. Saez-Rodriguez
Last Commit: 3e2ff74
Last Changed Date: 2020-10-27 10:01:18 -0500
rex3Linux (Ubuntu 20.04.2 LTS) / x86_64  OK    OK    OK  UNNEEDED, same version exists in internal repository
riesling1Windows Server 2019 Standard / x64  OK    OK    OK  
Package 104/391HostnameOS / ArchINSTALLBUILDCHECK
dsQTL 0.29.1
VJ Carey
Last Commit: a8e3bdb
Last Changed Date: 2020-11-30 08:23:04 -0500
rex3Linux (Ubuntu 20.04.2 LTS) / x86_64  ERROR    ERROR  skipped
riesling1Windows Server 2019 Standard / x64  ERROR    ERROR  skipped
Package 105/391HostnameOS / ArchINSTALLBUILDCHECK
DuoClustering2018 1.9.0
Angelo Duò
Last Commit: bac06f0
Last Changed Date: 2020-10-27 10:27:19 -0500
rex3Linux (Ubuntu 20.04.2 LTS) / x86_64  OK    OK    OK  UNNEEDED, same version exists in internal repository
riesling1Windows Server 2019 Standard / x64  OK    OK    OK  
Package 106/391HostnameOS / ArchINSTALLBUILDCHECK
DvDdata 1.27.0
J. Saez-Rodriguez
Last Commit: 18a7380
Last Changed Date: 2020-10-27 10:00:42 -0500
rex3Linux (Ubuntu 20.04.2 LTS) / x86_64  OK    OK    OK  UNNEEDED, same version exists in internal repository
riesling1Windows Server 2019 Standard / x64  OK    OK    OK  
Package 107/391HostnameOS / ArchINSTALLBUILDCHECK
dyebiasexamples 1.31.0
Philip Lijnzaad
Last Commit: de2c585
Last Changed Date: 2020-10-27 09:51:10 -0500
rex3Linux (Ubuntu 20.04.2 LTS) / x86_64  OK    OK    WARNINGS  UNNEEDED, same version exists in internal repository
riesling1Windows Server 2019 Standard / x64  OK    OK    WARNINGS  
E
ABCDEFGHIJKLMNOPQRSTUVWXYZ
Package 108/391HostnameOS / ArchINSTALLBUILDCHECK
EatonEtAlChIPseq 0.29.0
Patrick Aboyoun
Last Commit: 7adbe25
Last Changed Date: 2020-10-27 09:51:54 -0500
rex3Linux (Ubuntu 20.04.2 LTS) / x86_64  OK    OK    WARNINGS  UNNEEDED, same version exists in internal repository
riesling1Windows Server 2019 Standard / x64  OK    OK    WARNINGS  
Package 109/391HostnameOS / ArchINSTALLBUILDCHECK
ecoliLeucine 1.31.0
Laurent Gautier
Last Commit: 900b6bc
Last Changed Date: 2020-10-27 09:45:20 -0500
rex3Linux (Ubuntu 20.04.2 LTS) / x86_64  OK    OK    WARNINGS  UNNEEDED, same version exists in internal repository
riesling1Windows Server 2019 Standard / x64  OK    OK    WARNINGS  
Package 110/391HostnameOS / ArchINSTALLBUILDCHECK
EGSEAdata 1.19.0
Monther Alhamdoosh
Last Commit: 88896f2
Last Changed Date: 2020-10-27 10:19:15 -0500
rex3Linux (Ubuntu 20.04.2 LTS) / x86_64  OK    OK    OK  UNNEEDED, same version exists in internal repository
riesling1Windows Server 2019 Standard / x64  OK    OK    OK  
Package 111/391HostnameOS / ArchINSTALLBUILDCHECK
ELMER.data 2.15.0
Tiago Chedraoui Silva
Last Commit: 25cce04
Last Changed Date: 2020-10-27 10:13:21 -0500
rex3Linux (Ubuntu 20.04.2 LTS) / x86_64  OK    OK    OK  UNNEEDED, same version exists in internal repository
riesling1Windows Server 2019 Standard / x64  OK    OK    OK  
Package 112/391HostnameOS / ArchINSTALLBUILDCHECK
estrogen 1.37.0
Wolfgang Huber
Last Commit: bc7d2c5
Last Changed Date: 2020-10-27 09:45:24 -0500
rex3Linux (Ubuntu 20.04.2 LTS) / x86_64  OK    OK    OK  UNNEEDED, same version exists in internal repository
riesling1Windows Server 2019 Standard / x64  OK    OK    OK  
Package 113/391HostnameOS / ArchINSTALLBUILDCHECK
etec16s 1.19.0
Joseph N. Paulson
Last Commit: fc9615b
Last Changed Date: 2020-10-27 10:19:02 -0500
rex3Linux (Ubuntu 20.04.2 LTS) / x86_64  OK    OK    OK  UNNEEDED, same version exists in internal repository
riesling1Windows Server 2019 Standard / x64  OK    OK    OK  
F
ABCDEFGHIJKLMNOPQRSTUVWXYZ
Package 114/391HostnameOS / ArchINSTALLBUILDCHECK
faahKO 1.31.0
Steffen Neumann
Last Commit: b9fb3c8
Last Changed Date: 2020-10-27 09:45:37 -0500
rex3Linux (Ubuntu 20.04.2 LTS) / x86_64  OK    OK    OK  UNNEEDED, same version exists in internal repository
riesling1Windows Server 2019 Standard / x64  OK    OK    WARNINGS  
Package 115/391HostnameOS / ArchINSTALLBUILDCHECK
fabiaData 1.29.0
Sepp Hochreiter
Last Commit: 337016f
Last Changed Date: 2020-10-27 09:59:59 -0500
rex3Linux (Ubuntu 20.04.2 LTS) / x86_64  OK    OK    OK  UNNEEDED, same version exists in internal repository
riesling1Windows Server 2019 Standard / x64  OK    OK    OK  
Package 116/391HostnameOS / ArchINSTALLBUILDCHECK
facsDorit 1.33.1
Florian Hahne
Last Commit: 5f31c45
Last Changed Date: 2020-11-30 08:24:02 -0500
rex3Linux (Ubuntu 20.04.2 LTS) / x86_64  ERROR    OK    ERROR  
riesling1Windows Server 2019 Standard / x64  ERROR    OK    ERROR  
Package 117/391HostnameOS / ArchINSTALLBUILDCHECK
FANTOM3and4CAGE 1.27.0
Vanja Haberle
Last Commit: 7a1076a
Last Changed Date: 2020-10-27 10:00:55 -0500
rex3Linux (Ubuntu 20.04.2 LTS) / x86_64  OK    OK    OK  UNNEEDED, same version exists in internal repository
riesling1Windows Server 2019 Standard / x64  OK    OK    OK  
Package 118/391HostnameOS / ArchINSTALLBUILDCHECK
ffpeExampleData 1.29.0
Levi Waldron
Last Commit: 911bacc
Last Changed Date: 2020-10-27 09:55:21 -0500
rex3Linux (Ubuntu 20.04.2 LTS) / x86_64  OK    OK    OK  UNNEEDED, same version exists in internal repository
riesling1Windows Server 2019 Standard / x64  OK    OK    OK  
Package 119/391HostnameOS / ArchINSTALLBUILDCHECK
fibroEset 1.33.0
Sylvia Merk
Last Commit: 3a688d5
Last Changed Date: 2020-10-27 09:45:46 -0500
rex3Linux (Ubuntu 20.04.2 LTS) / x86_64  OK    OK    WARNINGS  UNNEEDED, same version exists in internal repository
riesling1Windows Server 2019 Standard / x64  OK    OK    WARNINGS  
Package 120/391HostnameOS / ArchINSTALLBUILDCHECK
FieldEffectCrc 1.1.0
Christopher Dampier
Last Commit: 74e7533
Last Changed Date: 2020-10-27 10:32:06 -0500
rex3Linux (Ubuntu 20.04.2 LTS) / x86_64  OK    OK    OK  UNNEEDED, same version exists in internal repository
riesling1Windows Server 2019 Standard / x64  OK    OK    OK  
Package 121/391HostnameOS / ArchINSTALLBUILDCHECK
FIs 1.19.0
Herbert Braselmann , Martin Selmansberger
Last Commit: 204373f
Last Changed Date: 2020-10-27 10:15:32 -0500
rex3Linux (Ubuntu 20.04.2 LTS) / x86_64  OK    OK    OK  UNNEEDED, same version exists in internal repository
riesling1Windows Server 2019 Standard / x64  OK    OK    OK  
Package 122/391HostnameOS / ArchINSTALLBUILDCHECK
fission 1.11.0
Michael Love
Last Commit: dd5d063
Last Changed Date: 2020-10-27 10:09:36 -0500
rex3Linux (Ubuntu 20.04.2 LTS) / x86_64  OK    OK    OK  UNNEEDED, same version exists in internal repository
riesling1Windows Server 2019 Standard / x64  OK    OK    OK  
Package 123/391HostnameOS / ArchINSTALLBUILDCHECK
Fletcher2013a 1.27.0
Mauro Castro
Last Commit: 7f69c1a
Last Changed Date: 2020-10-27 10:04:57 -0500
rex3Linux (Ubuntu 20.04.2 LTS) / x86_64  OK    OK    OK  UNNEEDED, same version exists in internal repository
riesling1Windows Server 2019 Standard / x64  OK    OK    OK  
Package 124/391HostnameOS / ArchINSTALLBUILDCHECK
Fletcher2013b 1.27.0
Mauro Castro
Last Commit: bf139f6
Last Changed Date: 2020-10-27 10:05:02 -0500
rex3Linux (Ubuntu 20.04.2 LTS) / x86_64  OK    OK    OK  UNNEEDED, same version exists in internal repository
riesling1Windows Server 2019 Standard / x64  OK    OK    OK  
Package 125/391HostnameOS / ArchINSTALLBUILDCHECK
flowPloidyData 1.17.0
Tyler Smith
Last Commit: 11f4921
Last Changed Date: 2020-10-27 10:21:48 -0500
rex3Linux (Ubuntu 20.04.2 LTS) / x86_64  OK    OK    OK  UNNEEDED, same version exists in internal repository
riesling1Windows Server 2019 Standard / x64  OK    OK    ERROR  
Package 126/391HostnameOS / ArchINSTALLBUILDCHECK
FlowSorted.Blood.450k 1.29.0
Andrew E Jaffe
Last Commit: 07c3657
Last Changed Date: 2020-10-27 10:05:36 -0500
rex3Linux (Ubuntu 20.04.2 LTS) / x86_64  OK    OK    OK  UNNEEDED, same version exists in internal repository
riesling1Windows Server 2019 Standard / x64  OK    OK    OK  
Package 127/391HostnameOS / ArchINSTALLBUILDCHECK
FlowSorted.Blood.EPIC 1.9.0
Lucas A. Salas
Last Commit: ca58771
Last Changed Date: 2020-10-27 10:26:55 -0500
rex3Linux (Ubuntu 20.04.2 LTS) / x86_64  OK    OK    OK  UNNEEDED, same version exists in internal repository
riesling1Windows Server 2019 Standard / x64  OK    OK    ERROR  
Package 128/391HostnameOS / ArchINSTALLBUILDCHECK
FlowSorted.CordBlood.450k 1.19.0
Shan V. Andrews
Last Commit: b7e7f56
Last Changed Date: 2020-10-27 10:17:56 -0500
rex3Linux (Ubuntu 20.04.2 LTS) / x86_64  OK    OK    OK  UNNEEDED, same version exists in internal repository
riesling1Windows Server 2019 Standard / x64  ERROR    OK    ERROR  
Package 129/391HostnameOS / ArchINSTALLBUILDCHECK
FlowSorted.CordBloodCombined.450k 1.7.0
Lucas A. Salas
Last Commit: e4540b1
Last Changed Date: 2020-10-27 10:29:27 -0500
rex3Linux (Ubuntu 20.04.2 LTS) / x86_64  OK    OK    OK  UNNEEDED, same version exists in internal repository
riesling1Windows Server 2019 Standard / x64  OK    OK    OK  
Package 130/391HostnameOS / ArchINSTALLBUILDCHECK
FlowSorted.CordBloodNorway.450k 1.17.0
kristina gervin
Last Commit: fbf8a47
Last Changed Date: 2020-10-27 10:22:16 -0500
rex3Linux (Ubuntu 20.04.2 LTS) / x86_64  OK    OK    OK  UNNEEDED, same version exists in internal repository
riesling1Windows Server 2019 Standard / x64  OK    OK    OK  
Package 131/391HostnameOS / ArchINSTALLBUILDCHECK
FlowSorted.DLPFC.450k 1.27.0
Andrew E Jaffe
Last Commit: 6037e4c
Last Changed Date: 2020-10-27 10:08:55 -0500
rex3Linux (Ubuntu 20.04.2 LTS) / x86_64  OK    OK    OK  UNNEEDED, same version exists in internal repository
riesling1Windows Server 2019 Standard / x64  OK    OK    OK  
Package 132/391HostnameOS / ArchINSTALLBUILDCHECK
flowWorkspaceData 3.3.0
Mike Jiang
Last Commit: dba5e30
Last Changed Date: 2020-10-27 09:53:07 -0500
rex3Linux (Ubuntu 20.04.2 LTS) / x86_64  OK    OK    OK  UNNEEDED, same version exists in internal repository
riesling1Windows Server 2019 Standard / x64  OK    OK    OK  
Package 133/391HostnameOS / ArchINSTALLBUILDCHECK
frmaExampleData 1.27.0
Matthew N. McCall
Last Commit: 1cdae3f
Last Changed Date: 2020-10-27 09:51:30 -0500
rex3Linux (Ubuntu 20.04.2 LTS) / x86_64  OK    OK    WARNINGS  UNNEEDED, same version exists in internal repository
riesling1Windows Server 2019 Standard / x64  OK    OK    WARNINGS  
Package 134/391HostnameOS / ArchINSTALLBUILDCHECK
furrowSeg 1.19.0
Joseph Barry
Last Commit: dc5fff2
Last Changed Date: 2020-10-27 10:15:35 -0500
rex3Linux (Ubuntu 20.04.2 LTS) / x86_64  OK    OK    WARNINGS  UNNEEDED, same version exists in internal repository
riesling1Windows Server 2019 Standard / x64  OK    OK    WARNINGS  
G
ABCDEFGHIJKLMNOPQRSTUVWXYZ
Package 135/391HostnameOS / ArchINSTALLBUILDCHECK
gageData 2.29.0
Weijun Luo
Last Commit: 1433cad
Last Changed Date: 2020-10-27 09:52:12 -0500
rex3Linux (Ubuntu 20.04.2 LTS) / x86_64  OK    OK    OK  UNNEEDED, same version exists in internal repository
riesling1Windows Server 2019 Standard / x64  OK    OK    OK  
Package 136/391HostnameOS / ArchINSTALLBUILDCHECK
gaschYHS 1.29.0
Vince Carey
Last Commit: 75aa933
Last Changed Date: 2020-10-27 09:45:49 -0500
rex3Linux (Ubuntu 20.04.2 LTS) / x86_64  OK    OK    OK  UNNEEDED, same version exists in internal repository
riesling1Windows Server 2019 Standard / x64  OK    OK    OK  
Package 137/391HostnameOS / ArchINSTALLBUILDCHECK
gatingMLData 2.31.0
J. Spidlen
Last Commit: 947fad1
Last Changed Date: 2020-10-27 09:45:52 -0500
rex3Linux (Ubuntu 20.04.2 LTS) / x86_64  OK    OK    OK  UNNEEDED, same version exists in internal repository
riesling1Windows Server 2019 Standard / x64  OK    OK    OK  
Package 138/391HostnameOS / ArchINSTALLBUILDCHECK
gcspikelite 1.29.0
Mark Robinson
Last Commit: 2735af6
Last Changed Date: 2020-10-27 09:51:04 -0500
rex3Linux (Ubuntu 20.04.2 LTS) / x86_64  OK    OK    WARNINGS  UNNEEDED, same version exists in internal repository
riesling1Windows Server 2019 Standard / x64  OK    OK    WARNINGS  
Package 139/391HostnameOS / ArchINSTALLBUILDCHECK
geneLenDataBase 1.27.0
Matthew Young , Nadia Davidson
Last Commit: 3ec14d5
Last Changed Date: 2020-10-27 09:51:48 -0500
rex3Linux (Ubuntu 20.04.2 LTS) / x86_64  OK    OK    WARNINGS  UNNEEDED, same version exists in internal repository
riesling1Windows Server 2019 Standard / x64  OK    OK    WARNINGS  
Package 140/391HostnameOS / ArchINSTALLBUILDCHECK
genomationData 1.23.0
Vedran Franke
Last Commit: 6fab726
Last Changed Date: 2020-10-27 10:10:52 -0500
rex3Linux (Ubuntu 20.04.2 LTS) / x86_64  OK    OK    OK  UNNEEDED, same version exists in internal repository
riesling1Windows Server 2019 Standard / x64  OK    OK    OK  
Package 141/391HostnameOS / ArchINSTALLBUILDCHECK
GenomicDistributionsData 0.99.5
Kristyna Kupkova
Last Commit: 08babe7
Last Changed Date: 2020-12-18 10:48:02 -0500
rex3Linux (Ubuntu 20.04.2 LTS) / x86_64  OK    OK    OK  UNNEEDED, same version exists in internal repository
riesling1Windows Server 2019 Standard / x64  OK    OK    OK  
Package 142/391HostnameOS / ArchINSTALLBUILDCHECK
GeuvadisTranscriptExpr 1.19.0
Malgorzata Nowicka
Last Commit: 5f21f4e
Last Changed Date: 2020-10-27 10:18:49 -0500
rex3Linux (Ubuntu 20.04.2 LTS) / x86_64  OK    OK    OK  UNNEEDED, same version exists in internal repository
riesling1Windows Server 2019 Standard / x64  OK    OK    OK  
Package 143/391HostnameOS / ArchINSTALLBUILDCHECK
GIGSEAdata 1.9.0
Shijia Zhu
Last Commit: c473585
Last Changed Date: 2020-10-27 10:27:09 -0500
rex3Linux (Ubuntu 20.04.2 LTS) / x86_64  OK    OK    OK  UNNEEDED, same version exists in internal repository
riesling1Windows Server 2019 Standard / x64  OK    OK    OK  
Package 144/391HostnameOS / ArchINSTALLBUILDCHECK
golubEsets 1.33.0
Vince Carey
Last Commit: 7675b7c
Last Changed Date: 2020-10-27 09:46:21 -0500
rex3Linux (Ubuntu 20.04.2 LTS) / x86_64  OK    OK    OK  UNNEEDED, same version exists in internal repository
riesling1Windows Server 2019 Standard / x64  OK    OK    OK  
Package 145/391HostnameOS / ArchINSTALLBUILDCHECK
gpaExample 1.3.0
Dongjun Chung
Last Commit: f83b25b
Last Changed Date: 2020-10-27 10:31:31 -0500
rex3Linux (Ubuntu 20.04.2 LTS) / x86_64  OK    OK    OK  UNNEEDED, same version exists in internal repository
riesling1Windows Server 2019 Standard / x64  OK    OK    OK  
Package 146/391HostnameOS / ArchINSTALLBUILDCHECK
grndata 1.23.0
Pau Bellot
Last Commit: bd81c00
Last Changed Date: 2020-10-27 10:11:46 -0500
rex3Linux (Ubuntu 20.04.2 LTS) / x86_64  OK    OK    OK  UNNEEDED, same version exists in internal repository
riesling1Windows Server 2019 Standard / x64  OK    OK    OK  
Package 147/391HostnameOS / ArchINSTALLBUILDCHECK
GSBenchMark 1.11.0
Bahman Afsari
Last Commit: 4a8ef38
Last Changed Date: 2020-10-27 10:09:32 -0500
rex3Linux (Ubuntu 20.04.2 LTS) / x86_64  OK    OK    OK  UNNEEDED, same version exists in internal repository
riesling1Windows Server 2019 Standard / x64  OK    OK    OK  
Package 148/391HostnameOS / ArchINSTALLBUILDCHECK
GSE62944 1.19.0
Bioconductor Package Maintainer
Last Commit: d6d1209
Last Changed Date: 2020-10-27 10:18:04 -0500
rex3Linux (Ubuntu 20.04.2 LTS) / x86_64  OK    OK    OK  UNNEEDED, same version exists in internal repository
riesling1Windows Server 2019 Standard / x64  OK    OK    OK  
Package 149/391HostnameOS / ArchINSTALLBUILDCHECK
gskb 1.23.1
Valerie Bares
Last Commit: e04617d
Last Changed Date: 2020-12-07 10:54:31 -0500
rex3Linux (Ubuntu 20.04.2 LTS) / x86_64  OK    ERROR  skipped
riesling1Windows Server 2019 Standard / x64  OK    ERROR  skipped
Package 150/391HostnameOS / ArchINSTALLBUILDCHECK
GSVAdata 1.27.1
Robert Castelo
Last Commit: 442559c
Last Changed Date: 2021-02-05 13:00:27 -0500
rex3Linux (Ubuntu 20.04.2 LTS) / x86_64  OK    OK    OK  UNNEEDED, same version exists in internal repository
riesling1Windows Server 2019 Standard / x64  OK    OK    OK  
Package 151/391HostnameOS / ArchINSTALLBUILDCHECK
GWASdata 1.29.0
Stephanie Gogarten , Adrienne Stilp
Last Commit: 41a0bc5
Last Changed Date: 2020-10-27 09:53:53 -0500
rex3Linux (Ubuntu 20.04.2 LTS) / x86_64  OK    OK    OK  UNNEEDED, same version exists in internal repository
riesling1Windows Server 2019 Standard / x64  OK    OK    OK  
H
ABCDEFGHIJKLMNOPQRSTUVWXYZ
Package 152/391HostnameOS / ArchINSTALLBUILDCHECK
h5vcData 2.11.0
Paul Theodor Pyl
Last Commit: f08040b
Last Changed Date: 2020-10-27 10:06:41 -0500
rex3Linux (Ubuntu 20.04.2 LTS) / x86_64  OK    OK    OK  UNNEEDED, same version exists in internal repository
riesling1Windows Server 2019 Standard / x64  OK    OK    OK  
Package 153/391HostnameOS / ArchINSTALLBUILDCHECK
hapmap100khind 1.33.0
Benilton Carvalho
Last Commit: 9b84b62
Last Changed Date: 2020-10-27 09:48:03 -0500
rex3Linux (Ubuntu 20.04.2 LTS) / x86_64  OK    OK    OK  UNNEEDED, same version exists in internal repository
riesling1Windows Server 2019 Standard / x64  OK    OK    OK  
Package 154/391HostnameOS / ArchINSTALLBUILDCHECK
hapmap100kxba 1.33.0
Benilton Carvalho
Last Commit: a8e5e91
Last Changed Date: 2020-10-27 09:47:25 -0500
rex3Linux (Ubuntu 20.04.2 LTS) / x86_64  OK    OK    OK  UNNEEDED, same version exists in internal repository
riesling1Windows Server 2019 Standard / x64  OK    OK    OK  
Package 155/391HostnameOS / ArchINSTALLBUILDCHECK
hapmap500knsp 1.33.0
Benilton Carvalho
Last Commit: 7c2d418
Last Changed Date: 2020-10-27 09:48:09 -0500
rex3Linux (Ubuntu 20.04.2 LTS) / x86_64  OK    OK    OK  UNNEEDED, same version exists in internal repository
riesling1Windows Server 2019 Standard / x64  OK    OK    OK  
Package 156/391HostnameOS / ArchINSTALLBUILDCHECK
hapmap500ksty 1.33.0
Benilton Carvalho
Last Commit: bbd79b1
Last Changed Date: 2020-10-27 09:48:18 -0500
rex3Linux (Ubuntu 20.04.2 LTS) / x86_64  OK    OK    OK  UNNEEDED, same version exists in internal repository
riesling1Windows Server 2019 Standard / x64  OK    OK    OK  
Package 157/391HostnameOS / ArchINSTALLBUILDCHECK
hapmapsnp5 1.33.0
Benilton Carvalho
Last Commit: 0437731
Last Changed Date: 2020-10-27 09:49:14 -0500
rex3Linux (Ubuntu 20.04.2 LTS) / x86_64  OK    OK    OK  UNNEEDED, same version exists in internal repository
riesling1Windows Server 2019 Standard / x64  OK    OK    OK  
Package 158/391HostnameOS / ArchINSTALLBUILDCHECK
hapmapsnp6 1.33.0
Benilton Carvalho
Last Commit: 0255ee0
Last Changed Date: 2020-10-27 09:49:22 -0500
rex3Linux (Ubuntu 20.04.2 LTS) / x86_64  OK    OK    OK  UNNEEDED, same version exists in internal repository
riesling1Windows Server 2019 Standard / x64  OK    OK    OK  
Package 159/391HostnameOS / ArchINSTALLBUILDCHECK
harbChIP 1.29.0
VJ Carey
Last Commit: c4fd961
Last Changed Date: 2020-10-27 09:46:24 -0500
rex3Linux (Ubuntu 20.04.2 LTS) / x86_64  OK    OK    OK  UNNEEDED, same version exists in internal repository
riesling1Windows Server 2019 Standard / x64  OK    OK    OK  
Package 160/391HostnameOS / ArchINSTALLBUILDCHECK
HarmanData 1.19.0
Jason Ross
Last Commit: c1f1c69
Last Changed Date: 2020-10-27 10:19:05 -0500
rex3Linux (Ubuntu 20.04.2 LTS) / x86_64  OK    OK    OK  UNNEEDED, same version exists in internal repository
riesling1Windows Server 2019 Standard / x64  OK    OK    OK  
Package 161/391HostnameOS / ArchINSTALLBUILDCHECK
HarmonizedTCGAData 1.13.0
Tianle Ma
Last Commit: b066fbc
Last Changed Date: 2020-10-27 10:24:16 -0500
rex3Linux (Ubuntu 20.04.2 LTS) / x86_64  OK    OK    OK  UNNEEDED, same version exists in internal repository
riesling1Windows Server 2019 Standard / x64  OK    OK    OK  
Package 162/391HostnameOS / ArchINSTALLBUILDCHECK
HCAData 1.7.1
Federico Marini
Last Commit: f1c01ea
Last Changed Date: 2021-01-10 19:02:46 -0500
rex3Linux (Ubuntu 20.04.2 LTS) / x86_64  OK    OK    OK  UNNEEDED, same version exists in internal repository
riesling1Windows Server 2019 Standard / x64  OK    OK    OK  
Package 163/391HostnameOS / ArchINSTALLBUILDCHECK
HD2013SGI 1.31.0
Bernd Fischer
Last Commit: 8971f18
Last Changed Date: 2020-10-27 10:01:22 -0500
rex3Linux (Ubuntu 20.04.2 LTS) / x86_64  OK    OK    OK  UNNEEDED, same version exists in internal repository
riesling1Windows Server 2019 Standard / x64  OK    OK    OK  
Package 164/391HostnameOS / ArchINSTALLBUILDCHECK
HDCytoData 1.11.1
Lukas M. Weber
Last Commit: 757e79b
Last Changed Date: 2021-01-25 11:42:23 -0500
rex3Linux (Ubuntu 20.04.2 LTS) / x86_64  OK    OK    OK  UNNEEDED, same version exists in internal repository
riesling1Windows Server 2019 Standard / x64  ERROR    ERROR  skipped
Package 165/391HostnameOS / ArchINSTALLBUILDCHECK
healthyFlowData 1.29.0
Ariful Azad
Last Commit: ab2f22d
Last Changed Date: 2020-10-27 10:07:33 -0500
rex3Linux (Ubuntu 20.04.2 LTS) / x86_64  OK    OK    OK  UNNEEDED, same version exists in internal repository
riesling1Windows Server 2019 Standard / x64  ERROR    ERROR  skipped
Package 166/391HostnameOS / ArchINSTALLBUILDCHECK
HEEBOdata 1.29.0
Agnes Paquet
Last Commit: 39bd59a
Last Changed Date: 2020-10-27 09:46:27 -0500
rex3Linux (Ubuntu 20.04.2 LTS) / x86_64  OK    OK    WARNINGS  UNNEEDED, same version exists in internal repository
riesling1Windows Server 2019 Standard / x64  OK    OK    WARNINGS  
Package 167/391HostnameOS / ArchINSTALLBUILDCHECK
HelloRangesData 1.17.0
Michael Lawrence
Last Commit: 1c60d59
Last Changed Date: 2020-10-27 10:21:52 -0500
rex3Linux (Ubuntu 20.04.2 LTS) / x86_64  OK    OK    OK  UNNEEDED, same version exists in internal repository
riesling1Windows Server 2019 Standard / x64  OK    OK    OK  
Package 168/391HostnameOS / ArchINSTALLBUILDCHECK
hgu133abarcodevecs 1.29.0
Matthew N. McCall
Last Commit: b395950
Last Changed Date: 2020-10-27 09:51:42 -0500
rex3Linux (Ubuntu 20.04.2 LTS) / x86_64  OK    OK    OK  UNNEEDED, same version exists in internal repository
riesling1Windows Server 2019 Standard / x64  OK    OK    OK  
Package 169/391HostnameOS / ArchINSTALLBUILDCHECK
hgu133plus2barcodevecs 1.29.0
Matthew N. McCall
Last Commit: 9cfded7
Last Changed Date: 2020-10-27 09:51:38 -0500
rex3Linux (Ubuntu 20.04.2 LTS) / x86_64  OK    OK    OK  UNNEEDED, same version exists in internal repository
riesling1Windows Server 2019 Standard / x64  OK    OK    OK  
Package 170/391HostnameOS / ArchINSTALLBUILDCHECK
hgu133plus2CellScore 1.11.0
Nancy Mah
Last Commit: 38c21dd
Last Changed Date: 2020-10-27 10:26:08 -0500
rex3Linux (Ubuntu 20.04.2 LTS) / x86_64  OK    OK    OK  UNNEEDED, same version exists in internal repository
riesling1Windows Server 2019 Standard / x64  OK    OK    OK  
Package 171/391HostnameOS / ArchINSTALLBUILDCHECK
hgu2beta7 1.31.0
Bioconductor Package Maintainer
Last Commit: 1142ddf
Last Changed Date: 2020-10-27 09:46:31 -0500
rex3Linux (Ubuntu 20.04.2 LTS) / x86_64  OK    OK    WARNINGS  UNNEEDED, same version exists in internal repository
riesling1Windows Server 2019 Standard / x64  OK    OK    WARNINGS  
Package 172/391HostnameOS / ArchINSTALLBUILDCHECK
HiCDataHumanIMR90 1.11.0
Nicolas Servant
Last Commit: fb856ba
Last Changed Date: 2020-10-27 10:09:47 -0500
rex3Linux (Ubuntu 20.04.2 LTS) / x86_64  OK    OK    OK  UNNEEDED, same version exists in internal repository
riesling1Windows Server 2019 Standard / x64  OK    OK    OK  
Package 173/391HostnameOS / ArchINSTALLBUILDCHECK
HiCDataLymphoblast 1.27.0
Borbala Mifsud
Last Commit: e992ed9
Last Changed Date: 2020-10-27 10:07:01 -0500
rex3Linux (Ubuntu 20.04.2 LTS) / x86_64  OK    OK    OK  UNNEEDED, same version exists in internal repository
riesling1Windows Server 2019 Standard / x64  OK    OK    OK  
Package 174/391HostnameOS / ArchINSTALLBUILDCHECK
HighlyReplicatedRNASeq 1.3.0
Constantin Ahlmann-Eltze
Last Commit: 5365b41
Last Changed Date: 2020-10-27 10:31:22 -0500
rex3Linux (Ubuntu 20.04.2 LTS) / x86_64  OK    OK    OK  UNNEEDED, same version exists in internal repository
riesling1Windows Server 2019 Standard / x64  OK    OK    OK  
Package 175/391HostnameOS / ArchINSTALLBUILDCHECK
Hiiragi2013 1.27.0
Andrzej Oles
Last Commit: b179cf6
Last Changed Date: 2020-10-27 10:01:36 -0500
rex3Linux (Ubuntu 20.04.2 LTS) / x86_64  OK    OK    OK  UNNEEDED, same version exists in internal repository
riesling1Windows Server 2019 Standard / x64  OK    OK    OK  
Package 176/391HostnameOS / ArchINSTALLBUILDCHECK
HIVcDNAvantWout03 1.31.0
Chris Fraley
Last Commit: 3a4e1d5
Last Changed Date: 2020-10-27 09:46:34 -0500
rex3Linux (Ubuntu 20.04.2 LTS) / x86_64  OK    OK    WARNINGS  UNNEEDED, same version exists in internal repository
riesling1Windows Server 2019 Standard / x64  OK    OK    WARNINGS  
Package 177/391HostnameOS / ArchINSTALLBUILDCHECK
HMP16SData 1.11.0
Lucas Schiffer
Last Commit: 092364b
Last Changed Date: 2020-10-27 10:24:33 -0500
rex3Linux (Ubuntu 20.04.2 LTS) / x86_64  OK    OK    OK  UNNEEDED, same version exists in internal repository
riesling1Windows Server 2019 Standard / x64  OK    OK    WARNINGS  
Package 178/391HostnameOS / ArchINSTALLBUILDCHECK
HMP2Data 1.5.0
John Stansfield , Ekaterina Smirnova
Last Commit: 199fb00
Last Changed Date: 2020-10-27 10:30:12 -0500
rex3Linux (Ubuntu 20.04.2 LTS) / x86_64  OK    OK    OK  UNNEEDED, same version exists in internal repository
riesling1Windows Server 2019 Standard / x64  OK    OK    OK  
Package 179/391HostnameOS / ArchINSTALLBUILDCHECK
hmyriB36 1.27.1
Vincent Carey
Last Commit: 6d8b85f
Last Changed Date: 2020-11-30 08:25:13 -0500
rex3Linux (Ubuntu 20.04.2 LTS) / x86_64  ERROR    OK    ERROR  
riesling1Windows Server 2019 Standard / x64  ERROR    OK    ERROR  
Package 180/391HostnameOS / ArchINSTALLBUILDCHECK
HSMMSingleCell 1.11.0
Cole Trapnell
Last Commit: 58c28c0
Last Changed Date: 2020-10-27 10:09:00 -0500
rex3Linux (Ubuntu 20.04.2 LTS) / x86_64  OK    OK    WARNINGS  UNNEEDED, same version exists in internal repository
riesling1Windows Server 2019 Standard / x64  OK    OK    WARNINGS  
Package 181/391HostnameOS / ArchINSTALLBUILDCHECK
HumanAffyData 1.17.0
Brad Nelms
Last Commit: e519d3f
Last Changed Date: 2020-10-27 10:21:38 -0500
rex3Linux (Ubuntu 20.04.2 LTS) / x86_64  OK    OK    OK  UNNEEDED, same version exists in internal repository
riesling1Windows Server 2019 Standard / x64  OK    OK    OK  
Package 182/391HostnameOS / ArchINSTALLBUILDCHECK
humanStemCell 0.31.0
R. Gentleman
Last Commit: f26eac3
Last Changed Date: 2020-10-27 09:50:51 -0500
rex3Linux (Ubuntu 20.04.2 LTS) / x86_64  OK    OK    WARNINGS  UNNEEDED, same version exists in internal repository
riesling1Windows Server 2019 Standard / x64  OK    OK    WARNINGS  
I
ABCDEFGHIJKLMNOPQRSTUVWXYZ
Package 183/391HostnameOS / ArchINSTALLBUILDCHECK
IHWpaper 1.19.4
Nikos Ignatiadis
Last Commit: 52253f5
Last Changed Date: 2021-01-11 23:43:33 -0500
rex3Linux (Ubuntu 20.04.2 LTS) / x86_64  OK    OK    OK  UNNEEDED, same version exists in internal repository
riesling1Windows Server 2019 Standard / x64  OK    ERROR  skipped
Package 184/391HostnameOS / ArchINSTALLBUILDCHECK
Illumina450ProbeVariants.db 1.27.0
Tiffany Morris
Last Commit: c89f233
Last Changed Date: 2020-10-27 10:06:38 -0500
rex3Linux (Ubuntu 20.04.2 LTS) / x86_64  OK    OK    OK  UNNEEDED, same version exists in internal repository
riesling1Windows Server 2019 Standard / x64  OK    OK    OK  
Package 185/391HostnameOS / ArchINSTALLBUILDCHECK
IlluminaDataTestFiles 1.29.0
Kasper Daniel Hansen
Last Commit: 8f92bbf
Last Changed Date: 2020-10-27 10:04:40 -0500
rex3Linux (Ubuntu 20.04.2 LTS) / x86_64  OK    OK    OK  UNNEEDED, same version exists in internal repository
riesling1Windows Server 2019 Standard / x64  OK    OK    OK  
Package 186/391HostnameOS / ArchINSTALLBUILDCHECK
imcdatasets 0.99.5
Nicolas Damond
Last Commit: 14646fd
Last Changed Date: 2021-02-02 12:44:35 -0500
rex3Linux (Ubuntu 20.04.2 LTS) / x86_64  OK    OK    OK  UNNEEDED, same version exists in internal repository
riesling1Windows Server 2019 Standard / x64  OK    OK    OK  
Package 187/391HostnameOS / ArchINSTALLBUILDCHECK
ITALICSData 2.29.0
Guillem Rigaill
Last Commit: 3b9d4f3
Last Changed Date: 2020-10-27 09:50:31 -0500
rex3Linux (Ubuntu 20.04.2 LTS) / x86_64  OK    OK    WARNINGS  UNNEEDED, same version exists in internal repository
riesling1Windows Server 2019 Standard / x64  OK    OK    WARNINGS  
Package 188/391HostnameOS / ArchINSTALLBUILDCHECK
Iyer517 1.33.0
Vince Carey
Last Commit: d489d50
Last Changed Date: 2020-10-27 09:46:37 -0500
rex3Linux (Ubuntu 20.04.2 LTS) / x86_64  OK    OK    OK  UNNEEDED, same version exists in internal repository
riesling1Windows Server 2019 Standard / x64  OK    OK    OK  
J
ABCDEFGHIJKLMNOPQRSTUVWXYZ
Package 189/391HostnameOS / ArchINSTALLBUILDCHECK
JASPAR2014 1.27.0
Ge Tan
Last Commit: 005f946
Last Changed Date: 2020-10-27 10:05:53 -0500
rex3Linux (Ubuntu 20.04.2 LTS) / x86_64  OK    OK    OK  UNNEEDED, same version exists in internal repository
riesling1Windows Server 2019 Standard / x64  OK    OK    OK  
Package 190/391HostnameOS / ArchINSTALLBUILDCHECK
JASPAR2016 1.19.0
Ge Tan
Last Commit: 15acfcf
Last Changed Date: 2020-10-27 10:15:45 -0500
rex3Linux (Ubuntu 20.04.2 LTS) / x86_64  OK    OK    OK  UNNEEDED, same version exists in internal repository
riesling1Windows Server 2019 Standard / x64  OK    OK    OK  
Package 191/391HostnameOS / ArchINSTALLBUILDCHECK
JctSeqData 1.21.1
Stephen Hartley
Last Commit: 50b6ba0
Last Changed Date: 2020-11-30 08:25:59 -0500
rex3Linux (Ubuntu 20.04.2 LTS) / x86_64  OK    OK    ERROR  
riesling1Windows Server 2019 Standard / x64  OK    OK    ERROR  
K
ABCDEFGHIJKLMNOPQRSTUVWXYZ
Package 192/391HostnameOS / ArchINSTALLBUILDCHECK
KEGGandMetacoreDzPathwaysGEO 1.11.0
Gaurav Bhatti
Last Commit: 2a5f8a4
Last Changed Date: 2020-10-27 10:09:09 -0500
rex3Linux (Ubuntu 20.04.2 LTS) / x86_64  OK    OK    OK  UNNEEDED, same version exists in internal repository
riesling1Windows Server 2019 Standard / x64  OK    OK    OK  
Package 193/391HostnameOS / ArchINSTALLBUILDCHECK
KEGGdzPathwaysGEO 1.29.0
Gaurav Bhatti
Last Commit: 71b93f9
Last Changed Date: 2020-10-27 09:56:50 -0500
rex3Linux (Ubuntu 20.04.2 LTS) / x86_64  OK    OK    OK  UNNEEDED, same version exists in internal repository
riesling1Windows Server 2019 Standard / x64  OK    OK    OK  
Package 194/391HostnameOS / ArchINSTALLBUILDCHECK
kidpack 1.33.0
Wolfgang Huber
Last Commit: b3e71ba
Last Changed Date: 2020-10-27 09:46:40 -0500
rex3Linux (Ubuntu 20.04.2 LTS) / x86_64  OK    OK    WARNINGS  UNNEEDED, same version exists in internal repository
riesling1Windows Server 2019 Standard / x64  OK    OK    WARNINGS  
Package 195/391HostnameOS / ArchINSTALLBUILDCHECK
KOdata 1.17.0
Shana White
Last Commit: aff2ad8
Last Changed Date: 2020-10-27 10:21:44 -0500
rex3Linux (Ubuntu 20.04.2 LTS) / x86_64  OK    OK    OK  UNNEEDED, same version exists in internal repository
riesling1Windows Server 2019 Standard / x64  OK    OK    OK  
L
ABCDEFGHIJKLMNOPQRSTUVWXYZ
Package 196/391HostnameOS / ArchINSTALLBUILDCHECK
leeBamViews 1.27.0
VJ Carey
Last Commit: bea5a54
Last Changed Date: 2020-10-27 09:51:45 -0500
rex3Linux (Ubuntu 20.04.2 LTS) / x86_64  OK    OK    OK  UNNEEDED, same version exists in internal repository
riesling1Windows Server 2019 Standard / x64  OK    OK    OK  
Package 197/391HostnameOS / ArchINSTALLBUILDCHECK
leukemiasEset 1.27.0
Sara Aibar
Last Commit: ae1f667
Last Changed Date: 2020-10-27 10:01:45 -0500
rex3Linux (Ubuntu 20.04.2 LTS) / x86_64  OK    OK    OK  UNNEEDED, same version exists in internal repository
riesling1Windows Server 2019 Standard / x64  OK    OK    OK  
Package 198/391HostnameOS / ArchINSTALLBUILDCHECK
LiebermanAidenHiC2009 0.29.0
Felix Klein
Last Commit: 22d3990
Last Changed Date: 2020-10-27 09:53:33 -0500
rex3Linux (Ubuntu 20.04.2 LTS) / x86_64  OK    OK    WARNINGS  UNNEEDED, same version exists in internal repository
riesling1Windows Server 2019 Standard / x64  OK    OK    WARNINGS  
Package 199/391HostnameOS / ArchINSTALLBUILDCHECK
ListerEtAlBSseq 1.23.0
Kamal Kishore
Last Commit: cd9fe96
Last Changed Date: 2020-10-27 10:10:02 -0500
rex3Linux (Ubuntu 20.04.2 LTS) / x86_64  OK    OK    WARNINGS  UNNEEDED, same version exists in internal repository
riesling1Windows Server 2019 Standard / x64  OK    OK    WARNINGS  
Package 200/391HostnameOS / ArchINSTALLBUILDCHECK
lumiBarnes 1.31.0
Pan Du
Last Commit: 53e53ef
Last Changed Date: 2020-10-27 09:47:21 -0500
rex3Linux (Ubuntu 20.04.2 LTS) / x86_64  OK    OK    WARNINGS  UNNEEDED, same version exists in internal repository
riesling1Windows Server 2019 Standard / x64  OK    OK    WARNINGS  
Package 201/391HostnameOS / ArchINSTALLBUILDCHECK
LungCancerACvsSCCGEO 1.27.0
Adi Laurentiu Tarca
Last Commit: a8931b1
Last Changed Date: 2020-10-27 10:04:23 -0500
rex3Linux (Ubuntu 20.04.2 LTS) / x86_64  OK    OK    OK  UNNEEDED, same version exists in internal repository
riesling1Windows Server 2019 Standard / x64  OK    OK    OK  
Package 202/391HostnameOS / ArchINSTALLBUILDCHECK
LungCancerLines 0.29.0
Cory Barr
Last Commit: d457e3e
Last Changed Date: 2020-10-27 10:00:08 -0500
rex3Linux (Ubuntu 20.04.2 LTS) / x86_64  OK    OK    OK  UNNEEDED, same version exists in internal repository
riesling1Windows Server 2019 Standard / x64  OK    OK    OK  
Package 203/391HostnameOS / ArchINSTALLBUILDCHECK
lungExpression 0.29.0
Robert Scharpf
Last Commit: 3d6404a
Last Changed Date: 2020-10-27 09:47:18 -0500
rex3Linux (Ubuntu 20.04.2 LTS) / x86_64  OK    OK    OK  UNNEEDED, same version exists in internal repository
riesling1Windows Server 2019 Standard / x64  OK    OK    OK  
Package 204/391HostnameOS / ArchINSTALLBUILDCHECK
lydata 1.17.0
Alex Pickering
Last Commit: 7110cf1
Last Changed Date: 2020-10-27 10:20:11 -0500
rex3Linux (Ubuntu 20.04.2 LTS) / x86_64  OK    OK    OK  UNNEEDED, same version exists in internal repository
riesling1Windows Server 2019 Standard / x64  OK    OK    OK  
M
ABCDEFGHIJKLMNOPQRSTUVWXYZ
Package 205/391HostnameOS / ArchINSTALLBUILDCHECK
M3DExampleData 1.17.0
Tallulah Andrews
Last Commit: 4b93228
Last Changed Date: 2020-10-27 10:21:41 -0500
rex3Linux (Ubuntu 20.04.2 LTS) / x86_64  OK    OK    WARNINGS  UNNEEDED, same version exists in internal repository
riesling1Windows Server 2019 Standard / x64  OK    OK    WARNINGS  
Package 206/391HostnameOS / ArchINSTALLBUILDCHECK
macrophage 1.7.0
Michael Love
Last Commit: 24b8351
Last Changed Date: 2020-10-27 10:29:13 -0500
rex3Linux (Ubuntu 20.04.2 LTS) / x86_64  OK    OK    OK  UNNEEDED, same version exists in internal repository
riesling1Windows Server 2019 Standard / x64  OK    OK    OK  
Package 207/391HostnameOS / ArchINSTALLBUILDCHECK
MACSdata 0.99.1
Qiang Hu
Last Commit: 18ae285
Last Changed Date: 2021-02-03 15:39:20 -0500
rex3Linux (Ubuntu 20.04.2 LTS) / x86_64  OK    OK    OK  UNNEEDED, same version exists in internal repository
riesling1Windows Server 2019 Standard / x64  OK    OK    OK  
Package 208/391HostnameOS / ArchINSTALLBUILDCHECK
mammaPrintData 1.27.0
Luigi Marchionni
Last Commit: c46fc03
Last Changed Date: 2020-10-27 10:02:43 -0500
rex3Linux (Ubuntu 20.04.2 LTS) / x86_64  OK    OK    OK  UNNEEDED, same version exists in internal repository
riesling1Windows Server 2019 Standard / x64  OK    OK    OK  
Package 209/391HostnameOS / ArchINSTALLBUILDCHECK
mAPKLData 1.23.0
Argiris Sakellariou
Last Commit: 0e6106e
Last Changed Date: 2020-10-27 10:11:15 -0500
rex3Linux (Ubuntu 20.04.2 LTS) / x86_64  OK    OK    WARNINGS  UNNEEDED, same version exists in internal repository
riesling1Windows Server 2019 Standard / x64  OK    OK    WARNINGS  
Package 210/391HostnameOS / ArchINSTALLBUILDCHECK
maqcExpression4plex 1.35.0
Benilton Carvalho
Last Commit: 1c4f151
Last Changed Date: 2020-10-27 09:47:58 -0500
rex3Linux (Ubuntu 20.04.2 LTS) / x86_64  OK    OK    OK  UNNEEDED, same version exists in internal repository
riesling1Windows Server 2019 Standard / x64  OK    OK    OK  
Package 211/391HostnameOS / ArchINSTALLBUILDCHECK
MAQCsubset 1.29.0
VJ Carey
Last Commit: 9b3813f
Last Changed Date: 2020-10-27 09:46:43 -0500
rex3Linux (Ubuntu 20.04.2 LTS) / x86_64  OK    OK    OK  UNNEEDED, same version exists in internal repository
riesling1Windows Server 2019 Standard / x64  OK    OK    OK  
Package 212/391HostnameOS / ArchINSTALLBUILDCHECK
MAQCsubsetAFX 1.29.0
Laurent Gatto
Last Commit: 22e5aaa
Last Changed Date: 2020-10-27 09:48:37 -0500
rex3Linux (Ubuntu 20.04.2 LTS) / x86_64  OK    OK    OK  UNNEEDED, same version exists in internal repository
riesling1Windows Server 2019 Standard / x64  OK    OK    OK  
Package 213/391HostnameOS / ArchINSTALLBUILDCHECK
MAQCsubsetILM 1.29.0
Laurent Gatto
Last Commit: 45311a6
Last Changed Date: 2020-10-27 09:49:35 -0500
rex3Linux (Ubuntu 20.04.2 LTS) / x86_64  OK    OK    OK  UNNEEDED, same version exists in internal repository
riesling1Windows Server 2019 Standard / x64  OK    OK    OK  
Package 214/391HostnameOS / ArchINSTALLBUILDCHECK
mCSEAdata 1.11.1
Jordi Martorell Marugán
Last Commit: 07782ff
Last Changed Date: 2020-12-03 06:28:25 -0500
rex3Linux (Ubuntu 20.04.2 LTS) / x86_64  OK    OK    OK  UNNEEDED, same version exists in internal repository
riesling1Windows Server 2019 Standard / x64  OK    OK    WARNINGS  
Package 215/391HostnameOS / ArchINSTALLBUILDCHECK
mcsurvdata 1.9.0
Adria Caballe Mestres
Last Commit: 5869dff
Last Changed Date: 2020-10-27 10:27:31 -0500
rex3Linux (Ubuntu 20.04.2 LTS) / x86_64  OK    OK    OK  UNNEEDED, same version exists in internal repository
riesling1Windows Server 2019 Standard / x64  OK    OK    OK  
Package 216/391HostnameOS / ArchINSTALLBUILDCHECK
MEDIPSData 1.27.0
Lukas Chavez
Last Commit: 77e3a9b
Last Changed Date: 2020-10-27 09:56:26 -0500
rex3Linux (Ubuntu 20.04.2 LTS) / x86_64  OK    OK    WARNINGS  UNNEEDED, same version exists in internal repository
riesling1Windows Server 2019 Standard / x64  OK    OK    WARNINGS  
Package 217/391HostnameOS / ArchINSTALLBUILDCHECK
MEEBOdata 1.29.0
Agnes Paquet
Last Commit: 217f6d7
Last Changed Date: 2020-10-27 09:46:47 -0500
rex3Linux (Ubuntu 20.04.2 LTS) / x86_64  OK    OK    WARNINGS  UNNEEDED, same version exists in internal repository
riesling1Windows Server 2019 Standard / x64  OK    OK    WARNINGS  
Package 218/391HostnameOS / ArchINSTALLBUILDCHECK
MetaGxBreast 1.11.0
Michael Zon
Last Commit: 51a013c
Last Changed Date: 2020-10-27 10:26:22 -0500
rex3Linux (Ubuntu 20.04.2 LTS) / x86_64  OK    OK    OK  UNNEEDED, same version exists in internal repository
riesling1Windows Server 2019 Standard / x64  OK    OK    OK  
Package 219/391HostnameOS / ArchINSTALLBUILDCHECK
MetaGxOvarian 1.11.0
Michael Zon
Last Commit: 0f765b3
Last Changed Date: 2020-10-27 10:26:19 -0500
rex3Linux (Ubuntu 20.04.2 LTS) / x86_64  OK    OK    WARNINGS  UNNEEDED, same version exists in internal repository
riesling1Windows Server 2019 Standard / x64  OK    OK    OK  
Package 220/391HostnameOS / ArchINSTALLBUILDCHECK
MetaGxPancreas 1.11.0
Michael Zon
Last Commit: 73feea8
Last Changed Date: 2020-10-27 10:26:36 -0500
rex3Linux (Ubuntu 20.04.2 LTS) / x86_64  OK    OK    OK  UNNEEDED, same version exists in internal repository
riesling1Windows Server 2019 Standard / x64  OK    OK    OK  
Package 221/391HostnameOS / ArchINSTALLBUILDCHECK
metaMSdata 1.27.0
Yann Guitton
Last Commit: 589e2fb
Last Changed Date: 2020-10-27 10:08:44 -0500
rex3Linux (Ubuntu 20.04.2 LTS) / x86_64  OK    OK    OK  UNNEEDED, same version exists in internal repository
riesling1Windows Server 2019 Standard / x64  OK    OK    OK  
Package 222/391HostnameOS / ArchINSTALLBUILDCHECK
MethylAidData 1.23.0
M. van Iterson
Last Commit: 5980a97
Last Changed Date: 2020-10-27 10:12:16 -0500
rex3Linux (Ubuntu 20.04.2 LTS) / x86_64  OK    OK    OK  UNNEEDED, same version exists in internal repository
riesling1Windows Server 2019 Standard / x64  OK    OK    OK  
Package 223/391HostnameOS / ArchINSTALLBUILDCHECK
methylclockData 0.99.16
Juan R. Gonzalez
Last Commit: dc97e2d
Last Changed Date: 2021-01-21 14:31:07 -0500
rex3Linux (Ubuntu 20.04.2 LTS) / x86_64  OK    OK    OK  UNNEEDED, same version exists in internal repository
riesling1Windows Server 2019 Standard / x64  OK    OK    OK  
Package 224/391HostnameOS / ArchINSTALLBUILDCHECK
MethylSeqData 1.1.1
Peter Hickey
Last Commit: c1b2572
Last Changed Date: 2020-11-24 19:59:48 -0500
rex3Linux (Ubuntu 20.04.2 LTS) / x86_64  OK    OK    OK  UNNEEDED, same version exists in internal repository
riesling1Windows Server 2019 Standard / x64  OK    OK    OK  
Package 225/391HostnameOS / ArchINSTALLBUILDCHECK
microbiomeDataSets 0.99.5
Felix G.M. Ernst
Last Commit: dc1f324
Last Changed Date: 2021-01-28 04:14:38 -0500
rex3Linux (Ubuntu 20.04.2 LTS) / x86_64  OK    OK    OK  UNNEEDED, same version exists in internal repository
riesling1Windows Server 2019 Standard / x64  OK    OK    OK  
Package 226/391HostnameOS / ArchINSTALLBUILDCHECK
microRNAome 1.13.0
Matthew N. McCall
Last Commit: b0f289b
Last Changed Date: 2020-10-27 10:23:03 -0500
rex3Linux (Ubuntu 20.04.2 LTS) / x86_64  OK    OK    OK  UNNEEDED, same version exists in internal repository
riesling1Windows Server 2019 Standard / x64  OK    OK    OK  
Package 227/391HostnameOS / ArchINSTALLBUILDCHECK
MIGSAdata 1.15.0
Juan C. Rodriguez
Last Commit: f10eae5
Last Changed Date: 2020-10-27 10:22:40 -0500
rex3Linux (Ubuntu 20.04.2 LTS) / x86_64  OK    OK    OK  UNNEEDED, same version exists in internal repository
riesling1Windows Server 2019 Standard / x64  OK    OK    OK  
Package 228/391HostnameOS / ArchINSTALLBUILDCHECK
minfiData 0.37.0
Kasper Daniel Hansen
Last Commit: ea43cdf
Last Changed Date: 2020-10-27 09:53:44 -0500
rex3Linux (Ubuntu 20.04.2 LTS) / x86_64  OK    OK    OK  UNNEEDED, same version exists in internal repository
riesling1Windows Server 2019 Standard / x64  OK    OK    OK  
Package 229/391HostnameOS / ArchINSTALLBUILDCHECK
minfiDataEPIC 1.17.0
Kasper Daniel Hansen
Last Commit: a24474c
Last Changed Date: 2020-10-27 10:20:06 -0500
rex3Linux (Ubuntu 20.04.2 LTS) / x86_64  OK    OK    OK  UNNEEDED, same version exists in internal repository
riesling1Windows Server 2019 Standard / x64  OK    OK    OK  
Package 230/391HostnameOS / ArchINSTALLBUILDCHECK
minionSummaryData 1.21.0
Mike Smith
Last Commit: 83f642b
Last Changed Date: 2020-10-27 10:13:32 -0500
rex3Linux (Ubuntu 20.04.2 LTS) / x86_64  OK    OK    OK  UNNEEDED, same version exists in internal repository
riesling1Windows Server 2019 Standard / x64  OK    OK    OK  
Package 231/391HostnameOS / ArchINSTALLBUILDCHECK
miRcompData 1.21.0
Matthew N. McCall
Last Commit: 5e07723
Last Changed Date: 2020-10-27 10:14:55 -0500
rex3Linux (Ubuntu 20.04.2 LTS) / x86_64  OK    OK    OK  UNNEEDED, same version exists in internal repository
riesling1Windows Server 2019 Standard / x64  OK    OK    OK  
Package 232/391HostnameOS / ArchINSTALLBUILDCHECK
miRNATarget 1.29.0
Y-h. Taguchi
Last Commit: a1cadec
Last Changed Date: 2020-10-27 09:55:35 -0500
rex3Linux (Ubuntu 20.04.2 LTS) / x86_64  OK    OK    OK  UNNEEDED, same version exists in internal repository
riesling1Windows Server 2019 Standard / x64  OK    OK    OK  
Package 233/391HostnameOS / ArchINSTALLBUILDCHECK
MMAPPR2data 1.5.0
Jonathon Hill
Last Commit: c8ef69f
Last Changed Date: 2020-10-27 10:30:27 -0500
rex3Linux (Ubuntu 20.04.2 LTS) / x86_64  OK    OK    OK  UNNEEDED, same version exists in internal repository
riesling1Windows Server 2019 Standard / x64  OK    OK    OK  
Package 234/391HostnameOS / ArchINSTALLBUILDCHECK
MMDiffBamSubset 1.27.0
Gabriele Schweikert
Last Commit: 209a507
Last Changed Date: 2020-10-27 10:01:49 -0500
rex3Linux (Ubuntu 20.04.2 LTS) / x86_64  OK    OK    OK  UNNEEDED, same version exists in internal repository
riesling1Windows Server 2019 Standard / x64  OK    OK    OK  
Package 235/391HostnameOS / ArchINSTALLBUILDCHECK
MOFAdata 1.7.0
Britta Velten
Last Commit: 4f579fc
Last Changed Date: 2020-10-27 10:29:48 -0500
rex3Linux (Ubuntu 20.04.2 LTS) / x86_64  OK    OK    OK  UNNEEDED, same version exists in internal repository
riesling1Windows Server 2019 Standard / x64  OK    OK    OK  
Package 236/391HostnameOS / ArchINSTALLBUILDCHECK
mosaicsExample 1.29.0
Dongjun Chung
Last Commit: 87936e4
Last Changed Date: 2020-10-27 09:52:15 -0500
rex3Linux (Ubuntu 20.04.2 LTS) / x86_64  OK    OK    OK  UNNEEDED, same version exists in internal repository
riesling1Windows Server 2019 Standard / x64  OK    OK    OK  
Package 237/391HostnameOS / ArchINSTALLBUILDCHECK
mouse4302barcodevecs 1.29.0
Matthew N. McCall
Last Commit: 58b1173
Last Changed Date: 2020-10-27 09:51:35 -0500
rex3Linux (Ubuntu 20.04.2 LTS) / x86_64  OK    OK    OK  UNNEEDED, same version exists in internal repository
riesling1Windows Server 2019 Standard / x64  OK    OK    OK  
Package 238/391HostnameOS / ArchINSTALLBUILDCHECK
MouseGastrulationData 1.5.6
Jonathan Griffiths
Last Commit: 8ebed7b
Last Changed Date: 2021-02-06 06:32:03 -0500
rex3Linux (Ubuntu 20.04.2 LTS) / x86_64  OK    OK    OK  UNNEEDED, same version exists in internal repository
riesling1Windows Server 2019 Standard / x64  OK    OK    OK  
Package 239/391HostnameOS / ArchINSTALLBUILDCHECK
msd16s 1.11.0
Joseph N. Paulson
Last Commit: b9470df
Last Changed Date: 2020-10-27 10:09:17 -0500
rex3Linux (Ubuntu 20.04.2 LTS) / x86_64  OK    OK    OK  UNNEEDED, same version exists in internal repository
riesling1Windows Server 2019 Standard / x64  OK    OK    OK  
Package 240/391HostnameOS / ArchINSTALLBUILDCHECK
msdata 0.31.1
Steffen Neumann , Laurent Gatto
Last Commit: d1cc52d
Last Changed Date: 2020-12-29 12:36:57 -0500
rex3Linux (Ubuntu 20.04.2 LTS) / x86_64  OK    OK    OK  UNNEEDED, same version exists in internal repository
riesling1Windows Server 2019 Standard / x64  OK    OK    OK  
Package 241/391HostnameOS / ArchINSTALLBUILDCHECK
MSMB 1.9.0
Wolfgang Huber
Last Commit: 47c031e
Last Changed Date: 2020-10-27 10:26:58 -0500
rex3Linux (Ubuntu 20.04.2 LTS) / x86_64  OK    OK    WARNINGS  UNNEEDED, same version exists in internal repository
riesling1Windows Server 2019 Standard / x64  OK    OK    WARNINGS  
Package 242/391HostnameOS / ArchINSTALLBUILDCHECK
msPurityData 1.19.0
Thomas N. Lawson
Last Commit: 22f7e42
Last Changed Date: 2020-10-27 10:19:23 -0500
rex3Linux (Ubuntu 20.04.2 LTS) / x86_64  OK    OK    OK  UNNEEDED, same version exists in internal repository
riesling1Windows Server 2019 Standard / x64  OK    OK    OK  
Package 243/391HostnameOS / ArchINSTALLBUILDCHECK
msqc1 1.19.0
Christian Panse
Last Commit: 3b30289
Last Changed Date: 2020-10-27 10:18:07 -0500
rex3Linux (Ubuntu 20.04.2 LTS) / x86_64  OK    OK    OK  UNNEEDED, same version exists in internal repository
riesling1Windows Server 2019 Standard / x64  OK    OK    OK  
Package 244/391HostnameOS / ArchINSTALLBUILDCHECK
MSstatsBioData 1.13.0
Meena Choi
Last Commit: 026711e
Last Changed Date: 2020-10-27 10:23:13 -0500
rex3Linux (Ubuntu 20.04.2 LTS) / x86_64  OK    OK    WARNINGS  UNNEEDED, same version exists in internal repository
riesling1Windows Server 2019 Standard / x64  OK    OK    WARNINGS  
Package 245/391HostnameOS / ArchINSTALLBUILDCHECK
mtbls2 1.21.1
Steffen Neumann
Last Commit: 967fb7f
Last Changed Date: 2020-11-25 14:40:58 -0500
rex3Linux (Ubuntu 20.04.2 LTS) / x86_64  OK    OK    OK  UNNEEDED, same version exists in internal repository
riesling1Windows Server 2019 Standard / x64  OK    OK    OK  
Package 246/391HostnameOS / ArchINSTALLBUILDCHECK
MUGAExampleData 1.11.0
Daniel Gatti
Last Commit: eae8f71
Last Changed Date: 2020-10-27 10:09:20 -0500
rex3Linux (Ubuntu 20.04.2 LTS) / x86_64  OK    OK    OK  UNNEEDED, same version exists in internal repository
riesling1Windows Server 2019 Standard / x64  OK    OK    WARNINGS  
Package 247/391HostnameOS / ArchINSTALLBUILDCHECK
muscData 1.5.0
Helena L. Crowell
Last Commit: 7badd0c
Last Changed Date: 2020-10-27 10:30:24 -0500
rex3Linux (Ubuntu 20.04.2 LTS) / x86_64  OK    OK    WARNINGS  UNNEEDED, same version exists in internal repository
riesling1Windows Server 2019 Standard / x64  OK    OK    WARNINGS  
Package 248/391HostnameOS / ArchINSTALLBUILDCHECK
mvoutData 1.27.0
VJ Carey
Last Commit: 7cfc3a6
Last Changed Date: 2020-10-27 09:51:01 -0500
rex3Linux (Ubuntu 20.04.2 LTS) / x86_64  OK    OK    OK  UNNEEDED, same version exists in internal repository
riesling1Windows Server 2019 Standard / x64  OK    OK    OK  
N
ABCDEFGHIJKLMNOPQRSTUVWXYZ
Package 249/391HostnameOS / ArchINSTALLBUILDCHECK
NanoporeRNASeq 1.1.0
Ying Chen Developer
Last Commit: 2f70e73
Last Changed Date: 2020-10-27 10:32:40 -0500
rex3Linux (Ubuntu 20.04.2 LTS) / x86_64  OK    OK    OK  UNNEEDED, same version exists in internal repository
riesling1Windows Server 2019 Standard / x64  OK    OK    OK  
Package 250/391HostnameOS / ArchINSTALLBUILDCHECK
nanotubes 1.7.0
Malte Thodberg
Last Commit: e9d6b69
Last Changed Date: 2020-10-27 10:29:55 -0500
rex3Linux (Ubuntu 20.04.2 LTS) / x86_64  OK    OK    OK  UNNEEDED, same version exists in internal repository
riesling1Windows Server 2019 Standard / x64  OK    OK    OK  
Package 251/391HostnameOS / ArchINSTALLBUILDCHECK
NCIgraphData 1.27.0
Laurent Jacob
Last Commit: a0595f2
Last Changed Date: 2020-10-27 09:53:01 -0500
rex3Linux (Ubuntu 20.04.2 LTS) / x86_64  OK    OK    WARNINGS  UNNEEDED, same version exists in internal repository
riesling1Windows Server 2019 Standard / x64  OK    OK    WARNINGS  
Package 252/391HostnameOS / ArchINSTALLBUILDCHECK
NestLink 1.7.0
Lennart Opitz
Last Commit: 3b487be
Last Changed Date: 2020-10-27 10:29:06 -0500
rex3Linux (Ubuntu 20.04.2 LTS) / x86_64  OK    OK    OK  UNNEEDED, same version exists in internal repository
riesling1Windows Server 2019 Standard / x64  OK    OK    OK  
Package 253/391HostnameOS / ArchINSTALLBUILDCHECK
Neve2006 0.29.0
VJ Carey
Last Commit: 7f475e1
Last Changed Date: 2020-10-27 09:47:52 -0500
rex3Linux (Ubuntu 20.04.2 LTS) / x86_64  OK    OK    OK  UNNEEDED, same version exists in internal repository
riesling1Windows Server 2019 Standard / x64  OK    OK    OK  
Package 254/391HostnameOS / ArchINSTALLBUILDCHECK
NGScopyData 1.11.0
Xiaobei Zhao
Last Commit: 0e1ad8d
Last Changed Date: 2020-10-27 10:10:21 -0500
rex3Linux (Ubuntu 20.04.2 LTS) / x86_64  OK    OK    OK  UNNEEDED, same version exists in internal repository
riesling1Windows Server 2019 Standard / x64  OK    OK    OK  
O
ABCDEFGHIJKLMNOPQRSTUVWXYZ
Package 255/391HostnameOS / ArchINSTALLBUILDCHECK
oct4 1.7.0
Michael Love
Last Commit: b82ea22
Last Changed Date: 2020-10-27 10:29:31 -0500
rex3Linux (Ubuntu 20.04.2 LTS) / x86_64  OK    OK    OK  UNNEEDED, same version exists in internal repository
riesling1Windows Server 2019 Standard / x64  OK    OK    OK  
Package 256/391HostnameOS / ArchINSTALLBUILDCHECK
OMICsPCAdata 1.9.0
Subhadeep Das
Last Commit: e1aa246
Last Changed Date: 2020-10-27 10:27:55 -0500
rex3Linux (Ubuntu 20.04.2 LTS) / x86_64  OK    OK    OK  UNNEEDED, same version exists in internal repository
riesling1Windows Server 2019 Standard / x64  OK    OK    OK  
Package 257/391HostnameOS / ArchINSTALLBUILDCHECK
OnassisJavaLibs 1.13.0
Eugenia Galeota
Last Commit: a612d9f
Last Changed Date: 2020-10-27 10:23:07 -0500
rex3Linux (Ubuntu 20.04.2 LTS) / x86_64  OK    OK    OK  UNNEEDED, same version exists in internal repository
riesling1Windows Server 2019 Standard / x64  OK    OK    WARNINGS  
Package 258/391HostnameOS / ArchINSTALLBUILDCHECK
optimalFlowData 1.3.0
Hristo Inouzhe
Last Commit: 69d9138
Last Changed Date: 2020-10-27 10:31:47 -0500
rex3Linux (Ubuntu 20.04.2 LTS) / x86_64  OK    OK    OK  UNNEEDED, same version exists in internal repository
riesling1Windows Server 2019 Standard / x64  OK    OK    OK  
P
ABCDEFGHIJKLMNOPQRSTUVWXYZ
Package 259/391HostnameOS / ArchINSTALLBUILDCHECK
parathyroidSE 1.29.0
Michael Love
Last Commit: 1681586
Last Changed Date: 2020-10-27 10:00:51 -0500
rex3Linux (Ubuntu 20.04.2 LTS) / x86_64  OK    OK    OK  UNNEEDED, same version exists in internal repository
riesling1Windows Server 2019 Standard / x64  OK    OK    OK  
Package 260/391HostnameOS / ArchINSTALLBUILDCHECK
pasilla 1.19.1
Alejandro Reyes
Last Commit: d3b4885
Last Changed Date: 2020-12-23 13:08:31 -0500
rex3Linux (Ubuntu 20.04.2 LTS) / x86_64  OK    OK    WARNINGS  UNNEEDED, same version exists in internal repository
riesling1Windows Server 2019 Standard / x64  OK    OK    WARNINGS  
Package 261/391HostnameOS / ArchINSTALLBUILDCHECK
pasillaBamSubset 0.29.0
Hervé Pagès
Last Commit: 660e8d9
Last Changed Date: 2020-10-27 09:55:24 -0500
rex3Linux (Ubuntu 20.04.2 LTS) / x86_64  OK    OK    OK  UNNEEDED, same version exists in internal repository
riesling1Windows Server 2019 Standard / x64  OK    OK    OK  
Package 262/391HostnameOS / ArchINSTALLBUILDCHECK
PasillaTranscriptExpr 1.19.0
Malgorzata Nowicka
Last Commit: 83b7f7f
Last Changed Date: 2020-10-27 10:18:56 -0500
rex3Linux (Ubuntu 20.04.2 LTS) / x86_64  OK    OK    OK  UNNEEDED, same version exists in internal repository
riesling1Windows Server 2019 Standard / x64  OK    OK    OK  
Package 263/391HostnameOS / ArchINSTALLBUILDCHECK
PathNetData 1.27.1
Ludwig Geistlinger
Last Commit: c330b00
Last Changed Date: 2020-12-09 17:13:56 -0500
rex3Linux (Ubuntu 20.04.2 LTS) / x86_64  OK    OK    OK  UNNEEDED, same version exists in internal repository
riesling1Windows Server 2019 Standard / x64  OK    OK    OK  
Package 264/391HostnameOS / ArchINSTALLBUILDCHECK
PCHiCdata 1.19.0
Paula Freire-Pritchett
Last Commit: ee05a18
Last Changed Date: 2020-10-27 10:14:58 -0500
rex3Linux (Ubuntu 20.04.2 LTS) / x86_64  OK    OK    OK  UNNEEDED, same version exists in internal repository
riesling1Windows Server 2019 Standard / x64  OK    OK    OK  
Package 265/391HostnameOS / ArchINSTALLBUILDCHECK
pcxnData 2.13.0
Sokratis Kariotis
Last Commit: bc0ba62
Last Changed Date: 2020-10-27 10:24:20 -0500
rex3Linux (Ubuntu 20.04.2 LTS) / x86_64  OK    OK    WARNINGS  UNNEEDED, same version exists in internal repository
riesling1Windows Server 2019 Standard / x64  OK    OK    WARNINGS  
Package 266/391HostnameOS / ArchINSTALLBUILDCHECK
pd.atdschip.tiling 0.29.0
Kristof De Beuf
Last Commit: c41aa07
Last Changed Date: 2020-10-27 09:56:59 -0500
rex3Linux (Ubuntu 20.04.2 LTS) / x86_64  OK    OK    WARNINGS  UNNEEDED, same version exists in internal repository
riesling1Windows Server 2019 Standard / x64  OK    OK    WARNINGS  
Package 267/391HostnameOS / ArchINSTALLBUILDCHECK
pepDat 1.11.0
Renan Sauteraud
Last Commit: b26683e
Last Changed Date: 2020-10-27 10:09:25 -0500
rex3Linux (Ubuntu 20.04.2 LTS) / x86_64  OK    OK    OK  UNNEEDED, same version exists in internal repository
riesling1Windows Server 2019 Standard / x64  OK    OK    OK  
Package 268/391HostnameOS / ArchINSTALLBUILDCHECK
PepsNMRData 1.9.0
Manon Martin
Last Commit: 3922255
Last Changed Date: 2020-10-27 10:28:45 -0500
rex3Linux (Ubuntu 20.04.2 LTS) / x86_64  OK    OK    OK  UNNEEDED, same version exists in internal repository
riesling1Windows Server 2019 Standard / x64  OK    OK    OK  
Package 269/391HostnameOS / ArchINSTALLBUILDCHECK
PhyloProfileData 1.5.0
Vinh Tran
Last Commit: 7131833
Last Changed Date: 2020-10-27 10:30:39 -0500
rex3Linux (Ubuntu 20.04.2 LTS) / x86_64  OK    OK    OK  UNNEEDED, same version exists in internal repository
riesling1Windows Server 2019 Standard / x64  OK    OK    OK  
Package 270/391HostnameOS / ArchINSTALLBUILDCHECK
plasFIA 1.19.1
Alexis Delabriere
Last Commit: eab8deb
Last Changed Date: 2020-12-07 08:50:10 -0500
rex3Linux (Ubuntu 20.04.2 LTS) / x86_64  OK    OK    WARNINGS  UNNEEDED, same version exists in internal repository
riesling1Windows Server 2019 Standard / x64  OK    OK    WARNINGS  
Package 271/391HostnameOS / ArchINSTALLBUILDCHECK
ppiData 0.29.0
Bioconductor Package Maintainer
Last Commit: b2d6691
Last Changed Date: 2020-10-27 09:46:51 -0500
rex3Linux (Ubuntu 20.04.2 LTS) / x86_64  OK    OK    WARNINGS  UNNEEDED, same version exists in internal repository
riesling1Windows Server 2019 Standard / x64  OK    OK    WARNINGS  
Package 272/391HostnameOS / ArchINSTALLBUILDCHECK
prebsdata 1.27.0
Karolis Uziela
Last Commit: 24e7136
Last Changed Date: 2020-10-27 10:02:06 -0500
rex3Linux (Ubuntu 20.04.2 LTS) / x86_64  OK    OK    OK  UNNEEDED, same version exists in internal repository
riesling1Windows Server 2019 Standard / x64  OK    OK    OK  
Package 273/391HostnameOS / ArchINSTALLBUILDCHECK
preciseTADhub 0.99.8
Spiro Stilianoudakis
Last Commit: ab31195
Last Changed Date: 2020-11-25 14:40:40 -0500
rex3Linux (Ubuntu 20.04.2 LTS) / x86_64  OK    OK    OK  UNNEEDED, same version exists in internal repository
riesling1Windows Server 2019 Standard / x64  OK    OK    OK  
Package 274/391HostnameOS / ArchINSTALLBUILDCHECK
PREDAsampledata 0.31.0
Francesco Ferrari
Last Commit: 17ef1f0
Last Changed Date: 2020-10-27 09:53:39 -0500
rex3Linux (Ubuntu 20.04.2 LTS) / x86_64  OK    OK    OK  UNNEEDED, same version exists in internal repository
riesling1Windows Server 2019 Standard / x64  OK    OK    OK  
Package 275/391HostnameOS / ArchINSTALLBUILDCHECK
ProData 1.29.0
Xiaochun Li
Last Commit: 90f517c
Last Changed Date: 2020-10-27 09:46:54 -0500
rex3Linux (Ubuntu 20.04.2 LTS) / x86_64  OK    OK    OK  UNNEEDED, same version exists in internal repository
riesling1Windows Server 2019 Standard / x64  OK    OK    OK  
Package 276/391HostnameOS / ArchINSTALLBUILDCHECK
pRolocdata 1.29.0
Laurent Gatto
Last Commit: 43ec622
Last Changed Date: 2020-10-27 10:00:16 -0500
rex3Linux (Ubuntu 20.04.2 LTS) / x86_64  OK    OK    OK  UNNEEDED, same version exists in internal repository
riesling1Windows Server 2019 Standard / x64  OK    OK    OK  
Package 277/391HostnameOS / ArchINSTALLBUILDCHECK
prostateCancerCamcap 1.19.0
Mark Dunning
Last Commit: 8869711
Last Changed Date: 2020-10-27 10:18:10 -0500
rex3Linux (Ubuntu 20.04.2 LTS) / x86_64  OK    OK    OK  UNNEEDED, same version exists in internal repository
riesling1Windows Server 2019 Standard / x64  OK    OK    OK  
Package 278/391HostnameOS / ArchINSTALLBUILDCHECK
prostateCancerGrasso 1.19.0
Mark Dunning
Last Commit: ce1c1fe
Last Changed Date: 2020-10-27 10:18:19 -0500
rex3Linux (Ubuntu 20.04.2 LTS) / x86_64  OK    OK    OK  UNNEEDED, same version exists in internal repository
riesling1Windows Server 2019 Standard / x64  OK    OK    OK  
Package 279/391HostnameOS / ArchINSTALLBUILDCHECK
prostateCancerStockholm 1.19.0
Mark Dunning
Last Commit: 74d2ee4
Last Changed Date: 2020-10-27 10:18:16 -0500
rex3Linux (Ubuntu 20.04.2 LTS) / x86_64  OK    OK    OK  UNNEEDED, same version exists in internal repository
riesling1Windows Server 2019 Standard / x64  OK    OK    OK  
Package 280/391HostnameOS / ArchINSTALLBUILDCHECK
prostateCancerTaylor 1.19.0
Mark Dunning
Last Commit: 594bd01
Last Changed Date: 2020-10-27 10:18:13 -0500
rex3Linux (Ubuntu 20.04.2 LTS) / x86_64  OK    OK    OK  UNNEEDED, same version exists in internal repository
riesling1Windows Server 2019 Standard / x64  OK    OK    OK  
Package 281/391HostnameOS / ArchINSTALLBUILDCHECK
prostateCancerVarambally 1.19.0
Mark Dunning
Last Commit: b22c3ec
Last Changed Date: 2020-10-27 10:18:22 -0500
rex3Linux (Ubuntu 20.04.2 LTS) / x86_64  OK    OK    OK  UNNEEDED, same version exists in internal repository
riesling1Windows Server 2019 Standard / x64  OK    OK    OK  
Package 282/391HostnameOS / ArchINSTALLBUILDCHECK
PtH2O2lipids 1.17.0
James Collins
Last Commit: 4f4a24b
Last Changed Date: 2020-10-27 10:21:27 -0500
rex3Linux (Ubuntu 20.04.2 LTS) / x86_64  OK    OK    WARNINGS  UNNEEDED, same version exists in internal repository
riesling1Windows Server 2019 Standard / x64  OK    OK    WARNINGS  
Package 283/391HostnameOS / ArchINSTALLBUILDCHECK
pumadata 2.27.0
Xuejun liu
Last Commit: b7849ba
Last Changed Date: 2020-10-27 09:47:30 -0500
rex3Linux (Ubuntu 20.04.2 LTS) / x86_64  OK    OK    OK  UNNEEDED, same version exists in internal repository
riesling1Windows Server 2019 Standard / x64  OK    OK    OK  
Package 284/391HostnameOS / ArchINSTALLBUILDCHECK
PWMEnrich.Dmelanogaster.background 4.25.0
Diego Diez
Last Commit: 364c36a
Last Changed Date: 2020-10-27 09:55:42 -0500
rex3Linux (Ubuntu 20.04.2 LTS) / x86_64  OK    OK    WARNINGS  UNNEEDED, same version exists in internal repository
riesling1Windows Server 2019 Standard / x64  OK    OK    WARNINGS  
Package 285/391HostnameOS / ArchINSTALLBUILDCHECK
PWMEnrich.Hsapiens.background 4.25.0
Diego Diez
Last Commit: a4f474f
Last Changed Date: 2020-10-27 10:05:45 -0500
rex3Linux (Ubuntu 20.04.2 LTS) / x86_64  OK    OK    WARNINGS  UNNEEDED, same version exists in internal repository
riesling1Windows Server 2019 Standard / x64  OK    OK    WARNINGS  
Package 286/391HostnameOS / ArchINSTALLBUILDCHECK
PWMEnrich.Mmusculus.background 4.25.0
Diego Diez
Last Commit: 87e7fcf
Last Changed Date: 2020-10-27 10:05:50 -0500
rex3Linux (Ubuntu 20.04.2 LTS) / x86_64  OK    OK    OK  UNNEEDED, same version exists in internal repository
riesling1Windows Server 2019 Standard / x64  OK    OK    OK  
Package 287/391HostnameOS / ArchINSTALLBUILDCHECK
pwrEWAS.data 1.5.0
Stefan Graw
Last Commit: 39a0396
Last Changed Date: 2020-10-27 10:30:50 -0500
rex3Linux (Ubuntu 20.04.2 LTS) / x86_64  OK    OK    OK  UNNEEDED, same version exists in internal repository
riesling1Windows Server 2019 Standard / x64  OK    OK    OK  
Q
ABCDEFGHIJKLMNOPQRSTUVWXYZ
Package 288/391HostnameOS / ArchINSTALLBUILDCHECK
QDNAseq.hg19 1.21.0
Daoud Sie
Last Commit: ee8d568
Last Changed Date: 2020-10-27 10:14:40 -0500
rex3Linux (Ubuntu 20.04.2 LTS) / x86_64  OK    OK    OK  UNNEEDED, same version exists in internal repository
riesling1Windows Server 2019 Standard / x64  OK    OK    OK  
Package 289/391HostnameOS / ArchINSTALLBUILDCHECK
QDNAseq.mm10 1.21.0
Daoud Sie
Last Commit: 8ef5bae
Last Changed Date: 2020-10-27 10:14:43 -0500
rex3Linux (Ubuntu 20.04.2 LTS) / x86_64  OK    OK    OK  UNNEEDED, same version exists in internal repository
riesling1Windows Server 2019 Standard / x64  OK    OK    OK  
Package 290/391HostnameOS / ArchINSTALLBUILDCHECK
qPLEXdata 1.9.0
Kamal Kishore Developer
Last Commit: ffaf3d3
Last Changed Date: 2020-10-27 10:27:05 -0500
rex3Linux (Ubuntu 20.04.2 LTS) / x86_64  OK    OK    WARNINGS  UNNEEDED, same version exists in internal repository
riesling1Windows Server 2019 Standard / x64  OK    OK    WARNINGS  
Package 291/391HostnameOS / ArchINSTALLBUILDCHECK
QUBICdata 1.19.0
Yu Zhang
Last Commit: 8b1d051
Last Changed Date: 2020-10-27 10:18:59 -0500
rex3Linux (Ubuntu 20.04.2 LTS) / x86_64  OK    OK    OK  UNNEEDED, same version exists in internal repository
riesling1Windows Server 2019 Standard / x64  OK    OK    OK  
R
ABCDEFGHIJKLMNOPQRSTUVWXYZ
Package 292/391HostnameOS / ArchINSTALLBUILDCHECK
rcellminerData 2.13.0
Augustin Luna , Vinodh Rajapakse
Last Commit: cda0aed
Last Changed Date: 2020-10-27 10:11:59 -0500
rex3Linux (Ubuntu 20.04.2 LTS) / x86_64  OK    OK    WARNINGS  UNNEEDED, same version exists in internal repository
riesling1Windows Server 2019 Standard / x64  OK    OK    WARNINGS  
Package 293/391HostnameOS / ArchINSTALLBUILDCHECK
RcisTarget.hg19.motifDBs.cisbpOnly.500bp 1.11.0
Sara Aibar
Last Commit: 785eefa
Last Changed Date: 2020-10-27 10:25:56 -0500
rex3Linux (Ubuntu 20.04.2 LTS) / x86_64  OK    OK    OK  UNNEEDED, same version exists in internal repository
riesling1Windows Server 2019 Standard / x64  OK    OK    OK  
Package 294/391HostnameOS / ArchINSTALLBUILDCHECK
ReactomeGSA.data 1.5.0
Johannes Griss
Last Commit: 568a8ad
Last Changed Date: 2020-10-27 10:30:46 -0500
rex3Linux (Ubuntu 20.04.2 LTS) / x86_64  OK    OK    OK  UNNEEDED, same version exists in internal repository
riesling1Windows Server 2019 Standard / x64  OK    OK    OK  
Package 295/391HostnameOS / ArchINSTALLBUILDCHECK
RegParallel 1.9.0
Kevin Blighe
Last Commit: fec40a5
Last Changed Date: 2020-10-27 10:27:59 -0500
rex3Linux (Ubuntu 20.04.2 LTS) / x86_64  OK    OK    OK  UNNEEDED, same version exists in internal repository
riesling1Windows Server 2019 Standard / x64  OK    OK    OK  
Package 296/391HostnameOS / ArchINSTALLBUILDCHECK
restfulSEData 1.13.0
Bioconductor Package Maintainer
Last Commit: aa6ec92
Last Changed Date: 2020-10-27 10:23:17 -0500
rex3Linux (Ubuntu 20.04.2 LTS) / x86_64  OK    OK    OK  UNNEEDED, same version exists in internal repository
riesling1Windows Server 2019 Standard / x64  OK    OK    OK  
Package 297/391HostnameOS / ArchINSTALLBUILDCHECK
RforProteomics 1.29.2
Laurent Gatto
Last Commit: 68db25d
Last Changed Date: 2020-12-09 16:21:27 -0500
rex3Linux (Ubuntu 20.04.2 LTS) / x86_64  OK    ERROR  skipped
riesling1Windows Server 2019 Standard / x64  OK    OK    WARNINGS  
Package 298/391HostnameOS / ArchINSTALLBUILDCHECK
RGMQLlib 1.11.0
Simone Pallotta
Last Commit: ffa3e2e
Last Changed Date: 2020-10-27 10:24:41 -0500
rex3Linux (Ubuntu 20.04.2 LTS) / x86_64  OK    OK    OK  UNNEEDED, same version exists in internal repository
riesling1Windows Server 2019 Standard / x64  OK    OK    WARNINGS  
Package 299/391HostnameOS / ArchINSTALLBUILDCHECK
rheumaticConditionWOLLBOLD 1.29.0
Alejandro Quiroz-Zarate
Last Commit: 91ceab7
Last Changed Date: 2020-10-27 09:54:45 -0500
rex3Linux (Ubuntu 20.04.2 LTS) / x86_64  OK    OK    OK  UNNEEDED, same version exists in internal repository
riesling1Windows Server 2019 Standard / x64  OK    OK    OK  
Package 300/391HostnameOS / ArchINSTALLBUILDCHECK
RITANdata 1.15.0
Michael Zimmermann
Last Commit: df319fe
Last Changed Date: 2020-10-27 10:23:00 -0500
rex3Linux (Ubuntu 20.04.2 LTS) / x86_64  OK    OK    OK  UNNEEDED, same version exists in internal repository
riesling1Windows Server 2019 Standard / x64  OK    OK    OK  
Package 301/391HostnameOS / ArchINSTALLBUILDCHECK
RMassBankData 1.29.0
Michael Stravs, Emma Schymanski
Last Commit: ac7d85c
Last Changed Date: 2020-10-27 09:56:34 -0500
rex3Linux (Ubuntu 20.04.2 LTS) / x86_64  OK    OK    OK  UNNEEDED, same version exists in internal repository
riesling1Windows Server 2019 Standard / x64  OK    OK    OK  
Package 302/391HostnameOS / ArchINSTALLBUILDCHECK
RNAinteractMAPK 1.29.1
Mike Smith
Last Commit: 7b7b5dc
Last Changed Date: 2020-12-22 09:01:37 -0500
rex3Linux (Ubuntu 20.04.2 LTS) / x86_64  OK    OK    WARNINGS  UNNEEDED, same version exists in internal repository
riesling1Windows Server 2019 Standard / x64  OK    OK    WARNINGS  
Package 303/391HostnameOS / ArchINSTALLBUILDCHECK
RNAmodR.Data 1.5.0
Felix G.M. Ernst
Last Commit: f7833d3
Last Changed Date: 2020-10-27 10:30:16 -0500
rex3Linux (Ubuntu 20.04.2 LTS) / x86_64  OK    OK    OK  UNNEEDED, same version exists in internal repository
riesling1Windows Server 2019 Standard / x64  OK    OK    OK  
Package 304/391HostnameOS / ArchINSTALLBUILDCHECK
RNAseqData.HNRNPC.bam.chr14 0.29.0
Hervé Pagès
Last Commit: 0fc7dd5
Last Changed Date: 2020-10-27 10:02:25 -0500
rex3Linux (Ubuntu 20.04.2 LTS) / x86_64  OK    OK    OK  UNNEEDED, same version exists in internal repository
riesling1Windows Server 2019 Standard / x64  OK    OK    OK  
Package 305/391HostnameOS / ArchINSTALLBUILDCHECK
RNASeqRData 1.9.0
Kuan-Hao Chao
Last Commit: 7b0e32d
Last Changed Date: 2020-10-27 10:28:03 -0500
rex3Linux (Ubuntu 20.04.2 LTS) / x86_64  OK    OK    OK  UNNEEDED, same version exists in internal repository
riesling1Windows Server 2019 Standard / x64  OK    OK    OK  
Package 306/391HostnameOS / ArchINSTALLBUILDCHECK
RnaSeqSampleSizeData 1.23.0
Shilin Zhao
Last Commit: d4bd78e
Last Changed Date: 2020-10-27 10:11:01 -0500
rex3Linux (Ubuntu 20.04.2 LTS) / x86_64  OK    OK    OK  UNNEEDED, same version exists in internal repository
riesling1Windows Server 2019 Standard / x64  OK    OK    OK  
Package 307/391HostnameOS / ArchINSTALLBUILDCHECK
RnBeads.hg19 1.23.0
RnBeadsAnnotationCreator
Last Commit: d816cbe
Last Changed Date: 2020-10-27 10:12:54 -0500
rex3Linux (Ubuntu 20.04.2 LTS) / x86_64  OK    OK    WARNINGS  UNNEEDED, same version exists in internal repository
riesling1Windows Server 2019 Standard / x64  OK    OK    WARNINGS  
Package 308/391HostnameOS / ArchINSTALLBUILDCHECK
RnBeads.hg38 1.23.0
RnBeadsAnnotationCreator
Last Commit: bc8c719
Last Changed Date: 2020-10-27 10:13:38 -0500
rex3Linux (Ubuntu 20.04.2 LTS) / x86_64  OK    OK    OK  UNNEEDED, same version exists in internal repository
riesling1Windows Server 2019 Standard / x64  OK    OK    OK  
Package 309/391HostnameOS / ArchINSTALLBUILDCHECK
RnBeads.mm10 1.23.0
RnBeadsAnnotationCreator
Last Commit: 5787a61
Last Changed Date: 2020-10-27 10:13:07 -0500
rex3Linux (Ubuntu 20.04.2 LTS) / x86_64  OK    OK    OK  UNNEEDED, same version exists in internal repository
riesling1Windows Server 2019 Standard / x64  OK    OK    OK  
Package 310/391HostnameOS / ArchINSTALLBUILDCHECK
RnBeads.mm9 1.23.0
RnBeadsAnnotationCreator
Last Commit: c7c9199
Last Changed Date: 2020-10-27 10:13:12 -0500
rex3Linux (Ubuntu 20.04.2 LTS) / x86_64  OK    OK    WARNINGS  UNNEEDED, same version exists in internal repository
riesling1Windows Server 2019 Standard / x64  OK    OK    WARNINGS  
Package 311/391HostnameOS / ArchINSTALLBUILDCHECK
RnBeads.rn5 1.23.0
RnBeadsAnnotationCreator
Last Commit: 00a36db
Last Changed Date: 2020-10-27 10:13:16 -0500
rex3Linux (Ubuntu 20.04.2 LTS) / x86_64  OK    OK    OK  UNNEEDED, same version exists in internal repository
riesling1Windows Server 2019 Standard / x64  OK    OK    OK  
Package 312/391HostnameOS / ArchINSTALLBUILDCHECK
RRBSdata 1.11.0
Katja Hebestreit
Last Commit: 4cdc648
Last Changed Date: 2020-10-27 10:10:42 -0500
rex3Linux (Ubuntu 20.04.2 LTS) / x86_64  OK    OK    OK  UNNEEDED, same version exists in internal repository
riesling1Windows Server 2019 Standard / x64  OK    OK    OK  
Package 313/391HostnameOS / ArchINSTALLBUILDCHECK
rRDPData 1.11.0
Michael Hahsler
Last Commit: 94d066b
Last Changed Date: 2020-10-27 10:10:24 -0500
rex3Linux (Ubuntu 20.04.2 LTS) / x86_64  OK    OK    OK  UNNEEDED, same version exists in internal repository
riesling1Windows Server 2019 Standard / x64  OK    OK    OK  
Package 314/391HostnameOS / ArchINSTALLBUILDCHECK
RTCGA.clinical 20151101.21.0
Marcin Kosinski
Last Commit: c14e85c
Last Changed Date: 2020-10-27 10:13:45 -0500
rex3Linux (Ubuntu 20.04.2 LTS) / x86_64  OK    OK    OK  UNNEEDED, same version exists in internal repository
riesling1Windows Server 2019 Standard / x64  OK    OK    WARNINGS  
Package 315/391HostnameOS / ArchINSTALLBUILDCHECK
RTCGA.CNV 1.19.0
Marcin Kosinski
Last Commit: 055516d
Last Changed Date: 2020-10-27 10:17:07 -0500
rex3Linux (Ubuntu 20.04.2 LTS) / x86_64  OK    OK    OK  UNNEEDED, same version exists in internal repository
riesling1Windows Server 2019 Standard / x64  OK    OK    WARNINGS  
Package 316/391HostnameOS / ArchINSTALLBUILDCHECK
RTCGA.methylation 1.19.0
Marcin Kosinski
Last Commit: 7e0854d
Last Changed Date: 2020-10-27 10:16:33 -0500
rex3Linux (Ubuntu 20.04.2 LTS) / x86_64  OK    OK    OK  UNNEEDED, same version exists in internal repository
riesling1Windows Server 2019 Standard / x64  OK    OK    WARNINGS  
Package 317/391HostnameOS / ArchINSTALLBUILDCHECK
RTCGA.miRNASeq 1.19.0
Marcin Kosinski
Last Commit: 1d366ac
Last Changed Date: 2020-10-27 10:16:49 -0500
rex3Linux (Ubuntu 20.04.2 LTS) / x86_64  OK    OK    OK  UNNEEDED, same version exists in internal repository
riesling1Windows Server 2019 Standard / x64  OK    OK    WARNINGS  
Package 318/391HostnameOS / ArchINSTALLBUILDCHECK
RTCGA.mRNA 1.19.0
Marcin Kosinski
Last Commit: 7a968a0
Last Changed Date: 2020-10-27 10:16:52 -0500
rex3Linux (Ubuntu 20.04.2 LTS) / x86_64  OK    OK    OK  UNNEEDED, same version exists in internal repository
riesling1Windows Server 2019 Standard / x64  OK    OK    OK  
Package 319/391HostnameOS / ArchINSTALLBUILDCHECK
RTCGA.mutations 20151101.21.0
Marcin Kosinski
Last Commit: 61c8ad9
Last Changed Date: 2020-10-27 10:13:48 -0500
rex3Linux (Ubuntu 20.04.2 LTS) / x86_64  OK    OK    OK  UNNEEDED, same version exists in internal repository
riesling1Windows Server 2019 Standard / x64  OK    OK    WARNINGS  
Package 320/391HostnameOS / ArchINSTALLBUILDCHECK
RTCGA.PANCAN12 1.19.0
Marcin Kosinski
Last Commit: 062e24d
Last Changed Date: 2020-10-27 10:16:56 -0500
rex3Linux (Ubuntu 20.04.2 LTS) / x86_64  OK    OK    OK  UNNEEDED, same version exists in internal repository
riesling1Windows Server 2019 Standard / x64  OK    OK    OK  
Package 321/391HostnameOS / ArchINSTALLBUILDCHECK
RTCGA.rnaseq 20151101.21.0
Marcin Kosinski
Last Commit: 9d5127b
Last Changed Date: 2020-10-27 10:13:53 -0500
rex3Linux (Ubuntu 20.04.2 LTS) / x86_64  OK    OK    OK  UNNEEDED, same version exists in internal repository
riesling1Windows Server 2019 Standard / x64  OK    OK    WARNINGS  
Package 322/391HostnameOS / ArchINSTALLBUILDCHECK
RTCGA.RPPA 1.19.0
Marcin Kosinski
Last Commit: 34eb110
Last Changed Date: 2020-10-27 10:17:03 -0500
rex3Linux (Ubuntu 20.04.2 LTS) / x86_64  OK    OK    OK  UNNEEDED, same version exists in internal repository
riesling1Windows Server 2019 Standard / x64  OK    OK    WARNINGS  
Package 323/391HostnameOS / ArchINSTALLBUILDCHECK
RUVnormalizeData 1.11.0
Laurent Jacob
Last Commit: b96b40c
Last Changed Date: 2020-10-27 10:09:52 -0500
rex3Linux (Ubuntu 20.04.2 LTS) / x86_64  OK    OK    OK  UNNEEDED, same version exists in internal repository
riesling1Windows Server 2019 Standard / x64  OK    OK    OK  
S
ABCDEFGHIJKLMNOPQRSTUVWXYZ
Package 324/391HostnameOS / ArchINSTALLBUILDCHECK
sampleClassifierData 1.15.1
Khadija El Amrani
Last Commit: 87c647e
Last Changed Date: 2021-01-19 08:06:06 -0500
rex3Linux (Ubuntu 20.04.2 LTS) / x86_64  OK    OK    OK  UNNEEDED, same version exists in internal repository
riesling1Windows Server 2019 Standard / x64  OK    OK    OK  
Package 325/391HostnameOS / ArchINSTALLBUILDCHECK
SBGNview.data 1.5.1
Weijun Luo
Last Commit: 6609bd4
Last Changed Date: 2021-02-26 14:16:59 -0500
rex3Linux (Ubuntu 20.04.2 LTS) / x86_64  OK    OK    WARNINGS  YES, new version is higher than in internal repository
riesling1Windows Server 2019 Standard / x64  OK    OK    WARNINGS  
Package 326/391HostnameOS / ArchINSTALLBUILDCHECK
SCATEData 1.1.0
Wenpin Hou
Last Commit: 21918ad
Last Changed Date: 2020-10-27 10:32:09 -0500
rex3Linux (Ubuntu 20.04.2 LTS) / x86_64  OK    OK    OK  UNNEEDED, same version exists in internal repository
riesling1Windows Server 2019 Standard / x64  OK    OK    OK  
Package 327/391HostnameOS / ArchINSTALLBUILDCHECK
SCLCBam 1.23.0
Oscar Krijgsman
Last Commit: e3082d6
Last Changed Date: 2020-10-27 10:12:47 -0500
rex3Linux (Ubuntu 20.04.2 LTS) / x86_64  OK    OK    OK  UNNEEDED, same version exists in internal repository
riesling1Windows Server 2019 Standard / x64  OK    OK    OK  
Package 328/391HostnameOS / ArchINSTALLBUILDCHECK
scpdata 0.99.2
Christophe Vanderaa
Last Commit: b2ac6bb
Last Changed Date: 2021-01-09 15:34:08 -0500
rex3Linux (Ubuntu 20.04.2 LTS) / x86_64  OK    OK    OK  UNNEEDED, same version exists in internal repository
riesling1Windows Server 2019 Standard / x64  OK    OK    OK  
Package 329/391HostnameOS / ArchINSTALLBUILDCHECK
scRNAseq 2.5.7
Aaron Lun
Last Commit: 3f466e0
Last Changed Date: 2021-02-15 18:54:55 -0500
rex3Linux (Ubuntu 20.04.2 LTS) / x86_64  OK    OK    WARNINGS  UNNEEDED, same version exists in internal repository
riesling1Windows Server 2019 Standard / x64  OK    OK    WARNINGS  
Package 330/391HostnameOS / ArchINSTALLBUILDCHECK
scTHI.data 1.3.0
Michele Ceccarelli
Last Commit: 368609b
Last Changed Date: 2020-10-27 10:31:18 -0500
rex3Linux (Ubuntu 20.04.2 LTS) / x86_64  OK    OK    OK  UNNEEDED, same version exists in internal repository
riesling1Windows Server 2019 Standard / x64  OK    OK    OK  
Package 331/391HostnameOS / ArchINSTALLBUILDCHECK
seq2pathway.data 1.23.0
Xinan Holly Yang
Last Commit: 88fe5e9
Last Changed Date: 2020-10-27 10:11:18 -0500
rex3Linux (Ubuntu 20.04.2 LTS) / x86_64  OK    OK    WARNINGS  UNNEEDED, same version exists in internal repository
riesling1Windows Server 2019 Standard / x64  OK    OK    WARNINGS  
Package 332/391HostnameOS / ArchINSTALLBUILDCHECK
seqc 1.25.0
Yang Liao and Wei Shi
Last Commit: 4c8ffe8
Last Changed Date: 2020-10-27 10:10:46 -0500
rex3Linux (Ubuntu 20.04.2 LTS) / x86_64  OK    OK &nbs