Back to Multiple platform build/check report for BioC 3.13 experimental data
[A]BCDEFGHIJKLMNOPQRSTUVWXYZ

CHECK report for Affyhgu133A2Expr on malbec2

This page was generated on 2021-01-21 16:01:01 -0500 (Thu, 21 Jan 2021).

TO THE DEVELOPERS/MAINTAINERS OF THE Affyhgu133A2Expr PACKAGE: Please make sure to use the following settings in order to reproduce any error or warning you see on this page.
Package 5/386HostnameOS / ArchINSTALLBUILDCHECK
Affyhgu133A2Expr 1.27.0
Zhicheng Ji
Snapshot Date: 2021-01-21 09:00:14 -0500 (Thu, 21 Jan 2021)
URL: https://git.bioconductor.org/packages/Affyhgu133A2Expr
Branch: master
Last Commit: 325a4ba
Last Changed Date: 2020-10-27 10:08:21 -0500 (Tue, 27 Oct 2020)
malbec2 Linux (Ubuntu 20.04.1 LTS) / x86_64  OK  OK [ OK ]UNNEEDED, same version exists in internal repository
riesling1 Windows Server 2019 Standard / x64  OK  OK  OK 

Summary

Package: Affyhgu133A2Expr
Version: 1.27.0
Command: /home/biocbuild/bbs-3.13-bioc/R/bin/R CMD check --install=check:Affyhgu133A2Expr.install-out.txt --library=/home/biocbuild/bbs-3.13-bioc/R/library --no-vignettes --timings Affyhgu133A2Expr_1.27.0.tar.gz
StartedAt: 2021-01-21 11:39:09 -0500 (Thu, 21 Jan 2021)
EndedAt: 2021-01-21 11:39:24 -0500 (Thu, 21 Jan 2021)
EllapsedTime: 14.6 seconds
RetCode: 0
Status:  OK 
CheckDir: Affyhgu133A2Expr.Rcheck
Warnings: 0

Command output

##############################################################################
##############################################################################
###
### Running command:
###
###   /home/biocbuild/bbs-3.13-bioc/R/bin/R CMD check --install=check:Affyhgu133A2Expr.install-out.txt --library=/home/biocbuild/bbs-3.13-bioc/R/library --no-vignettes --timings Affyhgu133A2Expr_1.27.0.tar.gz
###
##############################################################################
##############################################################################


* using log directory ‘/home/biocbuild/bbs-3.13-data-experiment/meat/Affyhgu133A2Expr.Rcheck’
* using R Under development (unstable) (2021-01-05 r79797)
* using platform: x86_64-pc-linux-gnu (64-bit)
* using session charset: UTF-8
* using option ‘--no-vignettes’
* checking for file ‘Affyhgu133A2Expr/DESCRIPTION’ ... OK
* checking extension type ... Package
* this is package ‘Affyhgu133A2Expr’ version ‘1.27.0’
* checking package namespace information ... OK
* checking package dependencies ... OK
* checking if this is a source package ... OK
* checking if there is a namespace ... OK
* checking for hidden files and directories ... NOTE
Found the following hidden files and directories:
  .git_fetch_output.txt
  .git_merge_output.txt
These were most likely included in error. See section ‘Package
structure’ in the ‘Writing R Extensions’ manual.
* checking for portable file names ... OK
* checking for sufficient/correct file permissions ... OK
* checking whether package ‘Affyhgu133A2Expr’ can be installed ... OK
* checking installed package size ... NOTE
  installed size is  9.4Mb
  sub-directories of 1Mb or more:
    extdata   9.3Mb
* checking package directory ... OK
* checking DESCRIPTION meta-information ... OK
* checking top-level files ... OK
* checking for left-over files ... OK
* checking index information ... OK
* checking package subdirectories ... OK
* checking whether the package can be loaded ... OK
* checking whether the package can be loaded with stated dependencies ... OK
* checking whether the package can be unloaded cleanly ... OK
* checking whether the namespace can be loaded with stated dependencies ... OK
* checking whether the namespace can be unloaded cleanly ... OK
* checking Rd files ... OK
* checking Rd metadata ... OK
* checking Rd cross-references ... OK
* checking for missing documentation entries ... OK
* checking for code/documentation mismatches ... OK
* checking Rd \usage sections ... OK
* checking Rd contents ... OK
* checking for unstated dependencies in examples ... OK
* checking contents of ‘data’ directory ... OK
* checking data for non-ASCII characters ... OK
* checking data for ASCII and uncompressed saves ... OK
* checking examples ... OK
* checking PDF version of manual ... OK
* DONE

Status: 2 NOTEs
See
  ‘/home/biocbuild/bbs-3.13-data-experiment/meat/Affyhgu133A2Expr.Rcheck/00check.log’
for details.



Installation output

Affyhgu133A2Expr.Rcheck/00install.out

##############################################################################
##############################################################################
###
### Running command:
###
###   /home/biocbuild/bbs-3.13-bioc/R/bin/R CMD INSTALL Affyhgu133A2Expr
###
##############################################################################
##############################################################################


* installing to library ‘/home/biocbuild/bbs-3.13-bioc/R/library’
* installing *source* package ‘Affyhgu133A2Expr’ ...
** using staged installation
** data
** inst
** help
*** installing help indices
** building package indices
** testing if installed package can be loaded from temporary location
** testing if installed package can be loaded from final location
** testing if installed package keeps a record of temporary installation path
* DONE (Affyhgu133A2Expr)

Tests output


Example timings

Affyhgu133A2Expr.Rcheck/Affyhgu133A2Expr-Ex.timings

nameusersystemelapsed
Affyhgu133A2Exprtab0.0210.0000.021