Back to Multiple platform build/check report for BioC 3.13 experimental data
ABCDEFGHIJKLMNOPQ[R]STUVWXYZ

BUILD report for RGMQLlib on malbec2

This page was generated on 2021-01-14 15:59:04 -0500 (Thu, 14 Jan 2021).

TO THE DEVELOPERS/MAINTAINERS OF THE RGMQLlib PACKAGE: Please make sure to use the following settings in order to reproduce any error or warning you see on this page.
Package 294/385HostnameOS / ArchINSTALLBUILDCHECK
RGMQLlib 1.11.0
Simone Pallotta
Snapshot Date: 2021-01-14 09:00:13 -0500 (Thu, 14 Jan 2021)
URL: https://git.bioconductor.org/packages/RGMQLlib
Branch: master
Last Commit: ffa3e2e
Last Changed Date: 2020-10-27 10:24:41 -0500 (Tue, 27 Oct 2020)
malbec2 Linux (Ubuntu 20.04.1 LTS) / x86_64  OK [ OK ] OK UNNEEDED, same version exists in internal repository
riesling1 Windows Server 2019 Standard / x64  OK  OK  WARNINGS 

Summary

Package: RGMQLlib
Version: 1.11.0
Command: /home/biocbuild/bbs-3.13-bioc/R/bin/R CMD build --keep-empty-dirs --no-resave-data RGMQLlib
StartedAt: 2021-01-14 11:18:44 -0500 (Thu, 14 Jan 2021)
EndedAt: 2021-01-14 11:18:56 -0500 (Thu, 14 Jan 2021)
EllapsedTime: 12.5 seconds
RetCode: 0
Status:  OK 
PackageFile: RGMQLlib_1.11.0.tar.gz
PackageFileSize: 86.28 MiB

Command output

##############################################################################
##############################################################################
###
### Running command:
###
###   /home/biocbuild/bbs-3.13-bioc/R/bin/R CMD build --keep-empty-dirs --no-resave-data RGMQLlib
###
##############################################################################
##############################################################################


* checking for file ‘RGMQLlib/DESCRIPTION’ ... OK
* preparing ‘RGMQLlib’:
* checking DESCRIPTION meta-information ... OK
* installing the package to build vignettes
* creating vignettes ... OK
* checking for LF line-endings in source and make files and shell scripts
* checking for empty or unneeded directories
* building ‘RGMQLlib_1.11.0.tar.gz’