Back to Multiple platform build/check report for BioC 3.13 experimental data
ABCDEFGHIJK[L]MNOPQRSTUVWXYZ

BUILD report for lumiBarnes on malbec2

This page was generated on 2021-01-14 15:59:03 -0500 (Thu, 14 Jan 2021).

TO THE DEVELOPERS/MAINTAINERS OF THE lumiBarnes PACKAGE: Please make sure to use the following settings in order to reproduce any error or warning you see on this page.
Package 199/385HostnameOS / ArchINSTALLBUILDCHECK
lumiBarnes 1.31.0
Pan Du
Snapshot Date: 2021-01-14 09:00:13 -0500 (Thu, 14 Jan 2021)
URL: https://git.bioconductor.org/packages/lumiBarnes
Branch: master
Last Commit: 53e53ef
Last Changed Date: 2020-10-27 09:47:21 -0500 (Tue, 27 Oct 2020)
malbec2 Linux (Ubuntu 20.04.1 LTS) / x86_64  OK [ OK ] WARNINGS UNNEEDED, same version exists in internal repository
riesling1 Windows Server 2019 Standard / x64  OK  OK  WARNINGS 

Summary

Package: lumiBarnes
Version: 1.31.0
Command: /home/biocbuild/bbs-3.13-bioc/R/bin/R CMD build --keep-empty-dirs --no-resave-data lumiBarnes
StartedAt: 2021-01-14 11:05:47 -0500 (Thu, 14 Jan 2021)
EndedAt: 2021-01-14 11:05:48 -0500 (Thu, 14 Jan 2021)
EllapsedTime: 1.5 seconds
RetCode: 0
Status:  OK 
PackageFile: lumiBarnes_1.31.0.tar.gz
PackageFileSize: 4.986 MiB

Command output

##############################################################################
##############################################################################
###
### Running command:
###
###   /home/biocbuild/bbs-3.13-bioc/R/bin/R CMD build --keep-empty-dirs --no-resave-data lumiBarnes
###
##############################################################################
##############################################################################


* checking for file ‘lumiBarnes/DESCRIPTION’ ... OK
* preparing ‘lumiBarnes’:
* checking DESCRIPTION meta-information ... OK
* checking for LF line-endings in source and make files and shell scripts
* checking for empty or unneeded directories
* looking to see if a ‘data/datalist’ file should be added
* building ‘lumiBarnes_1.31.0.tar.gz’