Back to Multiple platform build/check report for BioC 3.13 experimental data |
|
This page was generated on 2021-01-21 16:01:13 -0500 (Thu, 21 Jan 2021).
TO THE DEVELOPERS/MAINTAINERS OF THE lydata PACKAGE: Please make sure to use the following settings in order to reproduce any error or warning you see on this page. |
Package 203/386 | Hostname | OS / Arch | INSTALL | BUILD | CHECK | ||||||
lydata 1.17.0 Alex Pickering
| malbec2 | Linux (Ubuntu 20.04.1 LTS) / x86_64 | OK | [ OK ] | OK | ![]() | |||||
riesling1 | Windows Server 2019 Standard / x64 | OK | OK | OK |
Package: lydata |
Version: 1.17.0 |
Command: /home/biocbuild/bbs-3.13-bioc/R/bin/R CMD build --keep-empty-dirs --no-resave-data lydata |
StartedAt: 2021-01-21 11:03:51 -0500 (Thu, 21 Jan 2021) |
EndedAt: 2021-01-21 11:06:30 -0500 (Thu, 21 Jan 2021) |
EllapsedTime: 159.1 seconds |
RetCode: 0 |
Status: OK |
PackageFile: lydata_1.17.0.tar.gz |
PackageFileSize: 158.9 MiB |
############################################################################## ############################################################################## ### ### Running command: ### ### /home/biocbuild/bbs-3.13-bioc/R/bin/R CMD build --keep-empty-dirs --no-resave-data lydata ### ############################################################################## ############################################################################## * checking for file ‘lydata/DESCRIPTION’ ... OK * preparing ‘lydata’: * checking DESCRIPTION meta-information ... OK * checking for LF line-endings in source and make files and shell scripts * checking for empty or unneeded directories * building ‘lydata_1.17.0.tar.gz’