Back to Multiple platform build/check report for BioC 3.13 experimental data
ABCDEFGHIJKLMNOPQRSTUVWX[Y]Z

BUILD report for yeastCC on malbec2

This page was generated on 2021-01-21 16:01:23 -0500 (Thu, 21 Jan 2021).

TO THE DEVELOPERS/MAINTAINERS OF THE yeastCC PACKAGE: Please make sure to use the following settings in order to reproduce any error or warning you see on this page.
Package 380/386HostnameOS / ArchINSTALLBUILDCHECK
yeastCC 1.31.0
Sandrine Dudoit
Snapshot Date: 2021-01-21 09:00:14 -0500 (Thu, 21 Jan 2021)
URL: https://git.bioconductor.org/packages/yeastCC
Branch: master
Last Commit: 40ffaf7
Last Changed Date: 2020-10-27 09:47:12 -0500 (Tue, 27 Oct 2020)
malbec2 Linux (Ubuntu 20.04.1 LTS) / x86_64  OK [ OK ] WARNINGS UNNEEDED, same version exists in internal repository
riesling1 Windows Server 2019 Standard / x64  OK  OK  WARNINGS 

Summary

Package: yeastCC
Version: 1.31.0
Command: /home/biocbuild/bbs-3.13-bioc/R/bin/R CMD build --keep-empty-dirs --no-resave-data yeastCC
StartedAt: 2021-01-21 11:36:26 -0500 (Thu, 21 Jan 2021)
EndedAt: 2021-01-21 11:36:33 -0500 (Thu, 21 Jan 2021)
EllapsedTime: 7.0 seconds
RetCode: 0
Status:  OK 
PackageFile: yeastCC_1.31.0.tar.gz
PackageFileSize: 5.843 MiB

Command output

##############################################################################
##############################################################################
###
### Running command:
###
###   /home/biocbuild/bbs-3.13-bioc/R/bin/R CMD build --keep-empty-dirs --no-resave-data yeastCC
###
##############################################################################
##############################################################################


* checking for file ‘yeastCC/DESCRIPTION’ ... OK
* preparing ‘yeastCC’:
* checking DESCRIPTION meta-information ... OK
* checking whether ‘INDEX’ is up-to-date ... NO
* use ‘--force’ to remove the existing ‘INDEX’
* checking for LF line-endings in source and make files and shell scripts
* checking for empty or unneeded directories
* building ‘yeastCC_1.31.0.tar.gz’