Back to Multiple platform build/check report for BioC 3.13 experimental data
AB[C]DEFGHIJKLMNOPQRSTUVWXYZ

INSTALL report for curatedAdipoRNA on malbec2

This page was generated on 2021-01-11 15:59:21 -0500 (Mon, 11 Jan 2021).

TO THE DEVELOPERS/MAINTAINERS OF THE curatedAdipoRNA PACKAGE: Please make sure to use the following settings in order to reproduce any error or warning you see on this page.
Package 81/385HostnameOS / ArchINSTALLBUILDCHECK
curatedAdipoRNA 1.7.0
Mahmoud Ahmed
Snapshot Date: 2021-01-11 09:00:09 -0500 (Mon, 11 Jan 2021)
URL: https://git.bioconductor.org/packages/curatedAdipoRNA
Branch: master
Last Commit: 836b471
Last Changed Date: 2020-10-27 10:29:38 -0500 (Tue, 27 Oct 2020)
malbec2 Linux (Ubuntu 20.04.1 LTS) / x86_64 [ OK ] OK  OK UNNEEDED, same version exists in internal repository
riesling1 Windows Server 2019 Standard / x64  OK  OK  OK 

Summary

Package: curatedAdipoRNA
Version: 1.7.0
Command: /home/biocbuild/bbs-3.13-bioc/R/bin/R CMD INSTALL curatedAdipoRNA
StartedAt: 2021-01-11 09:57:28 -0500 (Mon, 11 Jan 2021)
EndedAt: 2021-01-11 09:57:59 -0500 (Mon, 11 Jan 2021)
EllapsedTime: 30.4 seconds
RetCode: 0
Status:  OK 

Command output

##############################################################################
##############################################################################
###
### Running command:
###
###   /home/biocbuild/bbs-3.13-bioc/R/bin/R CMD INSTALL curatedAdipoRNA
###
##############################################################################
##############################################################################


* installing to library ‘/home/biocbuild/bbs-3.13-bioc/R/library’
* installing *source* package ‘curatedAdipoRNA’ ...
** using staged installation
** R
** data
*** moving datasets to lazyload DB
** inst
** byte-compile and prepare package for lazy loading
** help
*** installing help indices
** building package indices
** installing vignettes
** testing if installed package can be loaded from temporary location
** testing if installed package can be loaded from final location
** testing if installed package keeps a record of temporary installation path
* DONE (curatedAdipoRNA)