Back to Multiple platform build/check report for BioC 3.13 experimental data |
|
This page was generated on 2021-01-18 15:58:32 -0500 (Mon, 18 Jan 2021).
TO THE DEVELOPERS/MAINTAINERS OF THE CLLmethylation PACKAGE: Please make sure to use the following settings in order to reproduce any error or warning you see on this page. |
Package 65/385 | Hostname | OS / Arch | INSTALL | BUILD | CHECK | ||||||
CLLmethylation 1.11.0 Malgorzata Oles
| malbec2 | Linux (Ubuntu 20.04.1 LTS) / x86_64 | [ OK ] | OK | OK | ![]() | |||||
riesling1 | Windows Server 2019 Standard / x64 | OK | OK | OK |
Package: CLLmethylation |
Version: 1.11.0 |
Command: /home/biocbuild/bbs-3.13-bioc/R/bin/R CMD INSTALL CLLmethylation |
StartedAt: 2021-01-18 10:02:36 -0500 (Mon, 18 Jan 2021) |
EndedAt: 2021-01-18 10:02:50 -0500 (Mon, 18 Jan 2021) |
EllapsedTime: 13.7 seconds |
RetCode: 0 |
Status: OK |
############################################################################## ############################################################################## ### ### Running command: ### ### /home/biocbuild/bbs-3.13-bioc/R/bin/R CMD INSTALL CLLmethylation ### ############################################################################## ############################################################################## * installing to library ‘/home/biocbuild/bbs-3.13-bioc/R/library’ * installing *source* package ‘CLLmethylation’ ... ** using staged installation ** inst ** help *** installing help indices ** building package indices ** installing vignettes ** testing if installed package can be loaded from temporary location ** testing if installed package can be loaded from final location ** testing if installed package keeps a record of temporary installation path * DONE (CLLmethylation)