Back to Multiple platform build/check report for BioC 3.13 experimental data
ABCDEF[G]HIJKLMNOPQRSTUVWXYZ

BUILD report for GWASdata on malbec2

This page was generated on 2021-01-14 15:59:02 -0500 (Thu, 14 Jan 2021).

TO THE DEVELOPERS/MAINTAINERS OF THE GWASdata PACKAGE: Please make sure to use the following settings in order to reproduce any error or warning you see on this page.
Package 151/385HostnameOS / ArchINSTALLBUILDCHECK
GWASdata 1.29.0
Stephanie Gogarten , Adrienne Stilp
Snapshot Date: 2021-01-14 09:00:13 -0500 (Thu, 14 Jan 2021)
URL: https://git.bioconductor.org/packages/GWASdata
Branch: master
Last Commit: 41a0bc5
Last Changed Date: 2020-10-27 09:53:53 -0500 (Tue, 27 Oct 2020)
malbec2 Linux (Ubuntu 20.04.1 LTS) / x86_64  OK [ OK ] OK UNNEEDED, same version exists in internal repository
riesling1 Windows Server 2019 Standard / x64  OK  OK  OK 

Summary

Package: GWASdata
Version: 1.29.0
Command: /home/biocbuild/bbs-3.13-bioc/R/bin/R CMD build --keep-empty-dirs --no-resave-data GWASdata
StartedAt: 2021-01-14 10:53:44 -0500 (Thu, 14 Jan 2021)
EndedAt: 2021-01-14 10:53:52 -0500 (Thu, 14 Jan 2021)
EllapsedTime: 7.5 seconds
RetCode: 0
Status:  OK 
PackageFile: GWASdata_1.29.0.tar.gz
PackageFileSize: 8.249 MiB

Command output

##############################################################################
##############################################################################
###
### Running command:
###
###   /home/biocbuild/bbs-3.13-bioc/R/bin/R CMD build --keep-empty-dirs --no-resave-data GWASdata
###
##############################################################################
##############################################################################


* checking for file ‘GWASdata/DESCRIPTION’ ... OK
* preparing ‘GWASdata’:
* checking DESCRIPTION meta-information ... OK
* checking for LF line-endings in source and make files and shell scripts
* checking for empty or unneeded directories
* looking to see if a ‘data/datalist’ file should be added
* building ‘GWASdata_1.29.0.tar.gz’
Warning in utils::tar(filepath, pkgname, compression = compression, compression_level = 9L,  :
  storing paths of more than 100 bytes is not portable:
  ‘GWASdata/inst/extdata/affy_raw_data/GIGAS_g_GAINmixHapMapAffy2_GenomeWideEx_6_A03_31250.BIRDSEED.ALLELE_SUMMARY.TXT’
Warning in utils::tar(filepath, pkgname, compression = compression, compression_level = 9L,  :
  storing paths of more than 100 bytes is not portable:
  ‘GWASdata/inst/extdata/affy_raw_data/GIGAS_g_GAINmixHapMapAffy2_GenomeWideEx_6_A03_31250.BIRDSEED.CHP.TXT’
Warning in utils::tar(filepath, pkgname, compression = compression, compression_level = 9L,  :
  storing paths of more than 100 bytes is not portable:
  ‘GWASdata/inst/extdata/affy_raw_data/GIGAS_g_GAINmixHapMapAffy2_GenomeWideEx_6_A05_31282.BIRDSEED.ALLELE_SUMMARY.TXT’
Warning in utils::tar(filepath, pkgname, compression = compression, compression_level = 9L,  :
  storing paths of more than 100 bytes is not portable:
  ‘GWASdata/inst/extdata/affy_raw_data/GIGAS_g_GAINmixHapMapAffy2_GenomeWideEx_6_A05_31282.BIRDSEED.CHP.TXT’
Warning in utils::tar(filepath, pkgname, compression = compression, compression_level = 9L,  :
  storing paths of more than 100 bytes is not portable:
  ‘GWASdata/inst/extdata/affy_raw_data/GIGAS_g_GAINmixHapMapAffy2_GenomeWideEx_6_B02_31236.BIRDSEED.ALLELE_SUMMARY.TXT’
Warning in utils::tar(filepath, pkgname, compression = compression, compression_level = 9L,  :
  storing paths of more than 100 bytes is not portable:
  ‘GWASdata/inst/extdata/affy_raw_data/GIGAS_g_GAINmixHapMapAffy2_GenomeWideEx_6_B02_31236.BIRDSEED.CHP.TXT’