Back to Multiple platform build/check report for BioC 3.13 experimental data
ABCDEFG[H]IJKLMNOPQRSTUVWXYZ

INSTALL report for hgu133plus2barcodevecs on malbec2

This page was generated on 2021-01-14 15:59:03 -0500 (Thu, 14 Jan 2021).

TO THE DEVELOPERS/MAINTAINERS OF THE hgu133plus2barcodevecs PACKAGE: Please make sure to use the following settings in order to reproduce any error or warning you see on this page.
Package 169/385HostnameOS / ArchINSTALLBUILDCHECK
hgu133plus2barcodevecs 1.29.0
Matthew N. McCall
Snapshot Date: 2021-01-14 09:00:13 -0500 (Thu, 14 Jan 2021)
URL: https://git.bioconductor.org/packages/hgu133plus2barcodevecs
Branch: master
Last Commit: 9cfded7
Last Changed Date: 2020-10-27 09:51:38 -0500 (Tue, 27 Oct 2020)
malbec2 Linux (Ubuntu 20.04.1 LTS) / x86_64 [ OK ] OK  OK UNNEEDED, same version exists in internal repository
riesling1 Windows Server 2019 Standard / x64  OK  OK  OK 

Summary

Package: hgu133plus2barcodevecs
Version: 1.29.0
Command: /home/biocbuild/bbs-3.13-bioc/R/bin/R CMD INSTALL hgu133plus2barcodevecs
StartedAt: 2021-01-14 09:47:49 -0500 (Thu, 14 Jan 2021)
EndedAt: 2021-01-14 09:47:54 -0500 (Thu, 14 Jan 2021)
EllapsedTime: 4.5 seconds
RetCode: 0
Status:  OK 

Command output

##############################################################################
##############################################################################
###
### Running command:
###
###   /home/biocbuild/bbs-3.13-bioc/R/bin/R CMD INSTALL hgu133plus2barcodevecs
###
##############################################################################
##############################################################################


* installing to library ‘/home/biocbuild/bbs-3.13-bioc/R/library’
* installing *source* package ‘hgu133plus2barcodevecs’ ...
** using staged installation
** data
** help
*** installing help indices
** building package indices
** testing if installed package can be loaded from temporary location
** testing if installed package can be loaded from final location
** testing if installed package keeps a record of temporary installation path
* DONE (hgu133plus2barcodevecs)