Back to Multiple platform build/check report for BioC 3.13 experimental data
ABCDEFGHIJKLMNOPQ[R]STUVWXYZ

INSTALL report for RnBeads.hg19 on malbec2

This page was generated on 2021-01-18 15:58:39 -0500 (Mon, 18 Jan 2021).

TO THE DEVELOPERS/MAINTAINERS OF THE RnBeads.hg19 PACKAGE: Please make sure to use the following settings in order to reproduce any error or warning you see on this page.
Package 303/385HostnameOS / ArchINSTALLBUILDCHECK
RnBeads.hg19 1.23.0
RnBeadsAnnotationCreator
Snapshot Date: 2021-01-18 09:00:15 -0500 (Mon, 18 Jan 2021)
URL: https://git.bioconductor.org/packages/RnBeads.hg19
Branch: master
Last Commit: d816cbe
Last Changed Date: 2020-10-27 10:12:54 -0500 (Tue, 27 Oct 2020)
malbec2 Linux (Ubuntu 20.04.1 LTS) / x86_64 [ OK ] OK  WARNINGS UNNEEDED, same version exists in internal repository
riesling1 Windows Server 2019 Standard / x64  OK  OK  WARNINGS 

Summary

Package: RnBeads.hg19
Version: 1.23.0
Command: /home/biocbuild/bbs-3.13-bioc/R/bin/R CMD INSTALL RnBeads.hg19
StartedAt: 2021-01-18 09:57:25 -0500 (Mon, 18 Jan 2021)
EndedAt: 2021-01-18 09:57:40 -0500 (Mon, 18 Jan 2021)
EllapsedTime: 14.7 seconds
RetCode: 0
Status:  OK 

Command output

##############################################################################
##############################################################################
###
### Running command:
###
###   /home/biocbuild/bbs-3.13-bioc/R/bin/R CMD INSTALL RnBeads.hg19
###
##############################################################################
##############################################################################


* installing to library ‘/home/biocbuild/bbs-3.13-bioc/R/library’
* installing *source* package ‘RnBeads.hg19’ ...
** using staged installation
** R
** data
** inst
** byte-compile and prepare package for lazy loading
** help
*** installing help indices
** building package indices
** testing if installed package can be loaded from temporary location
** testing if installed package can be loaded from final location
** testing if installed package keeps a record of temporary installation path
* DONE (RnBeads.hg19)