Back to Multiple platform build/check report for BioC 3.13 experimental data
[A]BCDEFGHIJKLMNOPQRSTUVWXYZ

BUILD report for AshkenazimSonChr21 on malbec2

This page was generated on 2021-01-18 15:58:31 -0500 (Mon, 18 Jan 2021).

TO THE DEVELOPERS/MAINTAINERS OF THE AshkenazimSonChr21 PACKAGE: Please make sure to use the following settings in order to reproduce any error or warning you see on this page.
Package 19/385HostnameOS / ArchINSTALLBUILDCHECK
AshkenazimSonChr21 1.21.0
Who to complain to
Snapshot Date: 2021-01-18 09:00:15 -0500 (Mon, 18 Jan 2021)
URL: https://git.bioconductor.org/packages/AshkenazimSonChr21
Branch: master
Last Commit: d530d6e
Last Changed Date: 2020-10-27 10:13:29 -0500 (Tue, 27 Oct 2020)
malbec2 Linux (Ubuntu 20.04.1 LTS) / x86_64  OK [ OK ] OK UNNEEDED, same version exists in internal repository
riesling1 Windows Server 2019 Standard / x64  OK  OK  OK 

Summary

Package: AshkenazimSonChr21
Version: 1.21.0
Command: /home/biocbuild/bbs-3.13-bioc/R/bin/R CMD build --keep-empty-dirs --no-resave-data AshkenazimSonChr21
StartedAt: 2021-01-18 10:18:07 -0500 (Mon, 18 Jan 2021)
EndedAt: 2021-01-18 10:18:36 -0500 (Mon, 18 Jan 2021)
EllapsedTime: 29.5 seconds
RetCode: 0
Status:  OK 
PackageFile: AshkenazimSonChr21_1.21.0.tar.gz
PackageFileSize: 9.752 MiB

Command output

##############################################################################
##############################################################################
###
### Running command:
###
###   /home/biocbuild/bbs-3.13-bioc/R/bin/R CMD build --keep-empty-dirs --no-resave-data AshkenazimSonChr21
###
##############################################################################
##############################################################################


* checking for file ‘AshkenazimSonChr21/DESCRIPTION’ ... OK
* preparing ‘AshkenazimSonChr21’:
* checking DESCRIPTION meta-information ... OK
* installing the package to build vignettes
* creating vignettes ... OK
* checking for LF line-endings in source and make files and shell scripts
* checking for empty or unneeded directories
* building ‘AshkenazimSonChr21_1.21.0.tar.gz’