Back to Multiple platform build/check report for BioC 3.13 experimental data
ABCDEFGHIJKLMNOPQ[R]STUVWXYZ

INSTALL report for RforProteomics on malbec2

This page was generated on 2021-01-14 15:59:04 -0500 (Thu, 14 Jan 2021).

TO THE DEVELOPERS/MAINTAINERS OF THE RforProteomics PACKAGE: Please make sure to use the following settings in order to reproduce any error or warning you see on this page.
Package 293/385HostnameOS / ArchINSTALLBUILDCHECK
RforProteomics 1.29.2
Laurent Gatto
Snapshot Date: 2021-01-14 09:00:13 -0500 (Thu, 14 Jan 2021)
URL: https://git.bioconductor.org/packages/RforProteomics
Branch: master
Last Commit: 68db25d
Last Changed Date: 2020-12-09 16:21:27 -0500 (Wed, 09 Dec 2020)
malbec2 Linux (Ubuntu 20.04.1 LTS) / x86_64 [ OK ] OK  WARNINGS UNNEEDED, same version exists in internal repository
riesling1 Windows Server 2019 Standard / x64  OK  OK  WARNINGS 

Summary

Package: RforProteomics
Version: 1.29.2
Command: /home/biocbuild/bbs-3.13-bioc/R/bin/R CMD INSTALL RforProteomics
StartedAt: 2021-01-14 10:08:55 -0500 (Thu, 14 Jan 2021)
EndedAt: 2021-01-14 10:09:11 -0500 (Thu, 14 Jan 2021)
EllapsedTime: 15.5 seconds
RetCode: 0
Status:  OK 

Command output

##############################################################################
##############################################################################
###
### Running command:
###
###   /home/biocbuild/bbs-3.13-bioc/R/bin/R CMD INSTALL RforProteomics
###
##############################################################################
##############################################################################


* installing to library ‘/home/biocbuild/bbs-3.13-bioc/R/library’
* installing *source* package ‘RforProteomics’ ...
** using staged installation
** R
** data
** inst
** byte-compile and prepare package for lazy loading
Warning: replacing previous import ‘MSnbase::plot’ by ‘graphics::plot’ when loading ‘RforProteomics’
** help
*** installing help indices
** building package indices
** installing vignettes
** testing if installed package can be loaded from temporary location
Warning: replacing previous import ‘MSnbase::plot’ by ‘graphics::plot’ when loading ‘RforProteomics’
** testing if installed package can be loaded from final location
Warning: replacing previous import ‘MSnbase::plot’ by ‘graphics::plot’ when loading ‘RforProteomics’
** testing if installed package keeps a record of temporary installation path
* DONE (RforProteomics)