Back to Multiple platform build/check report for BioC 3.13 experimental data
ABCD[E]FGHIJKLMNOPQRSTUVWXYZ

BUILD report for ELMER.data on malbec2

This page was generated on 2021-01-18 15:58:35 -0500 (Mon, 18 Jan 2021).

TO THE DEVELOPERS/MAINTAINERS OF THE ELMER.data PACKAGE: Please make sure to use the following settings in order to reproduce any error or warning you see on this page.
Package 111/385HostnameOS / ArchINSTALLBUILDCHECK
ELMER.data 2.15.0
Tiago Chedraoui Silva
Snapshot Date: 2021-01-18 09:00:15 -0500 (Mon, 18 Jan 2021)
URL: https://git.bioconductor.org/packages/ELMER.data
Branch: master
Last Commit: 25cce04
Last Changed Date: 2020-10-27 10:13:21 -0500 (Tue, 27 Oct 2020)
malbec2 Linux (Ubuntu 20.04.1 LTS) / x86_64  OK [ OK ] OK UNNEEDED, same version exists in internal repository
riesling1 Windows Server 2019 Standard / x64  OK  OK  OK 

Summary

Package: ELMER.data
Version: 2.15.0
Command: /home/biocbuild/bbs-3.13-bioc/R/bin/R CMD build --keep-empty-dirs --no-resave-data ELMER.data
StartedAt: 2021-01-18 10:39:07 -0500 (Mon, 18 Jan 2021)
EndedAt: 2021-01-18 10:41:14 -0500 (Mon, 18 Jan 2021)
EllapsedTime: 127.0 seconds
RetCode: 0
Status:  OK 
PackageFile: ELMER.data_2.15.0.tar.gz
PackageFileSize: 293.4 MiB

Command output

##############################################################################
##############################################################################
###
### Running command:
###
###   /home/biocbuild/bbs-3.13-bioc/R/bin/R CMD build --keep-empty-dirs --no-resave-data ELMER.data
###
##############################################################################
##############################################################################


* checking for file ‘ELMER.data/DESCRIPTION’ ... OK
* preparing ‘ELMER.data’:
* checking DESCRIPTION meta-information ... OK
* installing the package to build vignettes
* creating vignettes ... OK
* checking for LF line-endings in source and make files and shell scripts
* checking for empty or unneeded directories
* looking to see if a ‘data/datalist’ file should be added
* building ‘ELMER.data_2.15.0.tar.gz’