Back to Build/check report for BioC 3.13 experimental data
ABCDEFGHIJKLMNO[P]QRSTUVWXYZ

Build/check report for BioC 3.13 experimental data

All results for package PCHiCdata

This page was generated on 2021-04-15 20:56:22 -0400 (Thu, 15 Apr 2021).

Package 265/393HostnameOS / ArchINSTALLBUILDCHECK
PCHiCdata 1.19.0  (landing page)
Paula Freire-Pritchett
Snapshot Date: 2021-04-15 09:00:03 -0400 (Thu, 15 Apr 2021)
URL: https://git.bioconductor.org/packages/PCHiCdata
Branch: master
Last Commit: ee05a18
Last Changed Date: 2020-10-27 10:14:58 -0400 (Tue, 27 Oct 2020)
malbec2Linux (Ubuntu 20.04.2 LTS) / x86_64  OK    ERROR  skipped