Back to Multiple platform build/check report for BioC 3.13 experimental data
A[B]CDEFGHIJKLMNOPQRSTUVWXYZ

INSTALL report for bsseqData on malbec2

This page was generated on 2021-01-14 15:58:58 -0500 (Thu, 14 Jan 2021).

TO THE DEVELOPERS/MAINTAINERS OF THE bsseqData PACKAGE: Please make sure to use the following settings in order to reproduce any error or warning you see on this page.
Package 43/385HostnameOS / ArchINSTALLBUILDCHECK
bsseqData 0.29.0
Kasper Daniel Hansen
Snapshot Date: 2021-01-14 09:00:13 -0500 (Thu, 14 Jan 2021)
URL: https://git.bioconductor.org/packages/bsseqData
Branch: master
Last Commit: 05f855c
Last Changed Date: 2020-10-27 09:56:15 -0500 (Tue, 27 Oct 2020)
malbec2 Linux (Ubuntu 20.04.1 LTS) / x86_64 [ OK ] OK  OK UNNEEDED, same version exists in internal repository
riesling1 Windows Server 2019 Standard / x64  OK  OK  OK 

Summary

Package: bsseqData
Version: 0.29.0
Command: /home/biocbuild/bbs-3.13-bioc/R/bin/R CMD INSTALL bsseqData
StartedAt: 2021-01-14 10:08:29 -0500 (Thu, 14 Jan 2021)
EndedAt: 2021-01-14 10:09:29 -0500 (Thu, 14 Jan 2021)
EllapsedTime: 59.9 seconds
RetCode: 0
Status:  OK 

Command output

##############################################################################
##############################################################################
###
### Running command:
###
###   /home/biocbuild/bbs-3.13-bioc/R/bin/R CMD INSTALL bsseqData
###
##############################################################################
##############################################################################


* installing to library ‘/home/biocbuild/bbs-3.13-bioc/R/library’
* installing *source* package ‘bsseqData’ ...
** using staged installation
** data
*** moving datasets to lazyload DB
** inst
** help
*** installing help indices
** building package indices
** testing if installed package can be loaded from temporary location
** testing if installed package can be loaded from final location
** testing if installed package keeps a record of temporary installation path
* DONE (bsseqData)