Back to Multiple platform build/check report for BioC 3.13 experimental data
ABCDEFGHIJKLMNO[P]QRSTUVWXYZ

INSTALL report for plasFIA on malbec2

This page was generated on 2021-01-21 16:01:17 -0500 (Thu, 21 Jan 2021).

TO THE DEVELOPERS/MAINTAINERS OF THE plasFIA PACKAGE: Please make sure to use the following settings in order to reproduce any error or warning you see on this page.
Package 266/386HostnameOS / ArchINSTALLBUILDCHECK
plasFIA 1.19.1
Alexis Delabriere
Snapshot Date: 2021-01-21 09:00:14 -0500 (Thu, 21 Jan 2021)
URL: https://git.bioconductor.org/packages/plasFIA
Branch: master
Last Commit: eab8deb
Last Changed Date: 2020-12-07 08:50:10 -0500 (Mon, 07 Dec 2020)
malbec2 Linux (Ubuntu 20.04.1 LTS) / x86_64 [ OK ] OK  WARNINGS UNNEEDED, same version exists in internal repository
riesling1 Windows Server 2019 Standard / x64  OK  OK  WARNINGS 

Summary

Package: plasFIA
Version: 1.19.1
Command: /home/biocbuild/bbs-3.13-bioc/R/bin/R CMD INSTALL plasFIA
StartedAt: 2021-01-21 10:11:00 -0500 (Thu, 21 Jan 2021)
EndedAt: 2021-01-21 10:11:39 -0500 (Thu, 21 Jan 2021)
EllapsedTime: 38.8 seconds
RetCode: 0
Status:  OK 

Command output

##############################################################################
##############################################################################
###
### Running command:
###
###   /home/biocbuild/bbs-3.13-bioc/R/bin/R CMD INSTALL plasFIA
###
##############################################################################
##############################################################################


* installing to library ‘/home/biocbuild/bbs-3.13-bioc/R/library’
* installing *source* package ‘plasFIA’ ...
** using staged installation
** R
** data
** inst
** byte-compile and prepare package for lazy loading
Warning message:
Package 'proFIA' is deprecated and will be removed from Bioconductor
  version 3.14 
** help
*** installing help indices
** building package indices
** testing if installed package can be loaded from temporary location
Warning: Package 'proFIA' is deprecated and will be removed from Bioconductor
  version 3.14
Warning: Package 'plasFIA' is deprecated and will be removed from Bioconductor
  version 3.14
** testing if installed package can be loaded from final location
Warning: Package 'proFIA' is deprecated and will be removed from Bioconductor
  version 3.14
Warning: Package 'plasFIA' is deprecated and will be removed from Bioconductor
  version 3.14
** testing if installed package keeps a record of temporary installation path
* DONE (plasFIA)