Back to Multiple platform build/check report for BioC 3.13 experimental data
A[B]CDEFGHIJKLMNOPQRSTUVWXYZ

BUILD report for benchmarkfdrData2019 on malbec2

This page was generated on 2021-01-21 16:01:03 -0500 (Thu, 21 Jan 2021).

TO THE DEVELOPERS/MAINTAINERS OF THE benchmarkfdrData2019 PACKAGE: Please make sure to use the following settings in order to reproduce any error or warning you see on this page.
Package 25/386HostnameOS / ArchINSTALLBUILDCHECK
benchmarkfdrData2019 1.5.0
Stephanie Hicks
Snapshot Date: 2021-01-21 09:00:14 -0500 (Thu, 21 Jan 2021)
URL: https://git.bioconductor.org/packages/benchmarkfdrData2019
Branch: master
Last Commit: 259eb05
Last Changed Date: 2020-10-27 10:30:09 -0500 (Tue, 27 Oct 2020)
malbec2 Linux (Ubuntu 20.04.1 LTS) / x86_64  OK [ OK ] OK UNNEEDED, same version exists in internal repository
riesling1 Windows Server 2019 Standard / x64  OK  OK  OK 

Summary

Package: benchmarkfdrData2019
Version: 1.5.0
Command: /home/biocbuild/bbs-3.13-bioc/R/bin/R CMD build --keep-empty-dirs --no-resave-data benchmarkfdrData2019
StartedAt: 2021-01-21 10:18:51 -0500 (Thu, 21 Jan 2021)
EndedAt: 2021-01-21 10:20:12 -0500 (Thu, 21 Jan 2021)
EllapsedTime: 80.7 seconds
RetCode: 0
Status:  OK 
PackageFile: benchmarkfdrData2019_1.5.0.tar.gz
PackageFileSize: 778.7 KiB

Command output

##############################################################################
##############################################################################
###
### Running command:
###
###   /home/biocbuild/bbs-3.13-bioc/R/bin/R CMD build --keep-empty-dirs --no-resave-data benchmarkfdrData2019
###
##############################################################################
##############################################################################


* checking for file ‘benchmarkfdrData2019/DESCRIPTION’ ... OK
* preparing ‘benchmarkfdrData2019’:
* checking DESCRIPTION meta-information ... OK
* installing the package to build vignettes
* creating vignettes ... OK
* checking for LF line-endings in source and make files and shell scripts
* checking for empty or unneeded directories
* building ‘benchmarkfdrData2019_1.5.0.tar.gz’
Warning in utils::tar(filepath, pkgname, compression = compression, compression_level = 9L,  :
  storing paths of more than 100 bytes is not portable:
  ‘benchmarkfdrData2019/inst/scripts/make-data/Simulations/simulations-varyinginformativeness-discrete.Rmd’
Warning in utils::tar(filepath, pkgname, compression = compression, compression_level = 9L,  :
  storing paths of more than 100 bytes is not portable:
  ‘benchmarkfdrData2019/inst/scripts/make-data/Simulations/simulations-varyinginformativeness-smooth.Rmd’
Warning in utils::tar(filepath, pkgname, compression = compression, compression_level = 9L,  :
  storing paths of more than 100 bytes is not portable:
  ‘benchmarkfdrData2019/inst/scripts/make-data/YeastInSilico/yeast-simulation-bimodalalternative-highpi0.Rmd’