Back to Multiple platform build/check report for BioC 3.13 experimental data
AB[C]DEFGHIJKLMNOPQRSTUVWXYZ

BUILD report for ChimpHumanBrainData on malbec2

This page was generated on 2021-01-11 15:59:20 -0500 (Mon, 11 Jan 2021).

TO THE DEVELOPERS/MAINTAINERS OF THE ChimpHumanBrainData PACKAGE: Please make sure to use the following settings in order to reproduce any error or warning you see on this page.
Package 58/385HostnameOS / ArchINSTALLBUILDCHECK
ChimpHumanBrainData 1.29.0
Sean Davis
Snapshot Date: 2021-01-11 09:00:09 -0500 (Mon, 11 Jan 2021)
URL: https://git.bioconductor.org/packages/ChimpHumanBrainData
Branch: master
Last Commit: c86db6f
Last Changed Date: 2020-10-27 10:07:29 -0500 (Tue, 27 Oct 2020)
malbec2 Linux (Ubuntu 20.04.1 LTS) / x86_64  OK [ OK ] OK UNNEEDED, same version exists in internal repository
riesling1 Windows Server 2019 Standard / x64  OK  OK  OK 

Summary

Package: ChimpHumanBrainData
Version: 1.29.0
Command: /home/biocbuild/bbs-3.13-bioc/R/bin/R CMD build --keep-empty-dirs --no-resave-data ChimpHumanBrainData
StartedAt: 2021-01-11 10:26:03 -0500 (Mon, 11 Jan 2021)
EndedAt: 2021-01-11 10:26:57 -0500 (Mon, 11 Jan 2021)
EllapsedTime: 53.4 seconds
RetCode: 0
Status:  OK 
PackageFile: ChimpHumanBrainData_1.29.0.tar.gz
PackageFileSize: 64.95 MiB

Command output

##############################################################################
##############################################################################
###
### Running command:
###
###   /home/biocbuild/bbs-3.13-bioc/R/bin/R CMD build --keep-empty-dirs --no-resave-data ChimpHumanBrainData
###
##############################################################################
##############################################################################


* checking for file ‘ChimpHumanBrainData/DESCRIPTION’ ... OK
* preparing ‘ChimpHumanBrainData’:
* checking DESCRIPTION meta-information ... OK
* installing the package to build vignettes
* creating vignettes ... OK
* checking for LF line-endings in source and make files and shell scripts
* checking for empty or unneeded directories
* building ‘ChimpHumanBrainData_1.29.0.tar.gz’