Back to Multiple platform build/check report for BioC 3.13 experimental data |
|
This page was generated on 2021-01-14 15:58:58 -0500 (Thu, 14 Jan 2021).
TO THE DEVELOPERS/MAINTAINERS OF THE CLL PACKAGE: Please make sure to use the following settings in order to reproduce any error or warning you see on this page. |
Package 64/385 | Hostname | OS / Arch | INSTALL | BUILD | CHECK | ||||||
CLL 1.31.0 Robert Gentleman
| malbec2 | Linux (Ubuntu 20.04.1 LTS) / x86_64 | OK | [ OK ] | OK | ![]() | |||||
riesling1 | Windows Server 2019 Standard / x64 | OK | OK | OK |
Package: CLL |
Version: 1.31.0 |
Command: /home/biocbuild/bbs-3.13-bioc/R/bin/R CMD build --keep-empty-dirs --no-resave-data CLL |
StartedAt: 2021-01-14 10:27:03 -0500 (Thu, 14 Jan 2021) |
EndedAt: 2021-01-14 10:27:12 -0500 (Thu, 14 Jan 2021) |
EllapsedTime: 8.5 seconds |
RetCode: 0 |
Status: OK |
PackageFile: CLL_1.31.0.tar.gz |
PackageFileSize: 15.89 MiB |
############################################################################## ############################################################################## ### ### Running command: ### ### /home/biocbuild/bbs-3.13-bioc/R/bin/R CMD build --keep-empty-dirs --no-resave-data CLL ### ############################################################################## ############################################################################## * checking for file ‘CLL/DESCRIPTION’ ... OK * preparing ‘CLL’: * checking DESCRIPTION meta-information ... OK * checking for LF line-endings in source and make files and shell scripts * checking for empty or unneeded directories * looking to see if a ‘data/datalist’ file should be added * building ‘CLL_1.31.0.tar.gz’