Back to Multiple platform build/check report for BioC 3.13 experimental data
ABCDEFG[H]IJKLMNOPQRSTUVWXYZ

INSTALL report for hapmap100khind on malbec2

This page was generated on 2021-01-21 16:01:11 -0500 (Thu, 21 Jan 2021).

TO THE DEVELOPERS/MAINTAINERS OF THE hapmap100khind PACKAGE: Please make sure to use the following settings in order to reproduce any error or warning you see on this page.
Package 153/386HostnameOS / ArchINSTALLBUILDCHECK
hapmap100khind 1.33.0
Benilton Carvalho
Snapshot Date: 2021-01-21 09:00:14 -0500 (Thu, 21 Jan 2021)
URL: https://git.bioconductor.org/packages/hapmap100khind
Branch: master
Last Commit: 9b84b62
Last Changed Date: 2020-10-27 09:48:03 -0500 (Tue, 27 Oct 2020)
malbec2 Linux (Ubuntu 20.04.1 LTS) / x86_64 [ OK ] OK  OK UNNEEDED, same version exists in internal repository
riesling1 Windows Server 2019 Standard / x64  OK  OK  OK 

Summary

Package: hapmap100khind
Version: 1.33.0
Command: /home/biocbuild/bbs-3.13-bioc/R/bin/R CMD INSTALL hapmap100khind
StartedAt: 2021-01-21 09:53:08 -0500 (Thu, 21 Jan 2021)
EndedAt: 2021-01-21 09:53:13 -0500 (Thu, 21 Jan 2021)
EllapsedTime: 4.8 seconds
RetCode: 0
Status:  OK 

Command output

##############################################################################
##############################################################################
###
### Running command:
###
###   /home/biocbuild/bbs-3.13-bioc/R/bin/R CMD INSTALL hapmap100khind
###
##############################################################################
##############################################################################


* installing to library ‘/home/biocbuild/bbs-3.13-bioc/R/library’
* installing *source* package ‘hapmap100khind’ ...
** using staged installation
** R
** inst
** byte-compile and prepare package for lazy loading
** help
*** installing help indices
** building package indices
** testing if installed package can be loaded from temporary location
** testing if installed package can be loaded from final location
** testing if installed package keeps a record of temporary installation path
* DONE (hapmap100khind)