Back to Multiple platform build/check report for BioC 3.13 experimental data
ABCDE[F]GHIJKLMNOPQRSTUVWXYZ

INSTALL report for Fletcher2013b on malbec2

This page was generated on 2021-01-11 15:59:22 -0500 (Mon, 11 Jan 2021).

TO THE DEVELOPERS/MAINTAINERS OF THE Fletcher2013b PACKAGE: Please make sure to use the following settings in order to reproduce any error or warning you see on this page.
Package 124/385HostnameOS / ArchINSTALLBUILDCHECK
Fletcher2013b 1.27.0
Mauro Castro
Snapshot Date: 2021-01-11 09:00:09 -0500 (Mon, 11 Jan 2021)
URL: https://git.bioconductor.org/packages/Fletcher2013b
Branch: master
Last Commit: bf139f6
Last Changed Date: 2020-10-27 10:05:02 -0500 (Tue, 27 Oct 2020)
malbec2 Linux (Ubuntu 20.04.1 LTS) / x86_64 [ OK ] OK  OK UNNEEDED, same version exists in internal repository
riesling1 Windows Server 2019 Standard / x64  OK  OK  OK 

Summary

Package: Fletcher2013b
Version: 1.27.0
Command: /home/biocbuild/bbs-3.13-bioc/R/bin/R CMD INSTALL Fletcher2013b
StartedAt: 2021-01-11 10:09:53 -0500 (Mon, 11 Jan 2021)
EndedAt: 2021-01-11 10:10:31 -0500 (Mon, 11 Jan 2021)
EllapsedTime: 38.2 seconds
RetCode: 0
Status:  OK 

Command output

##############################################################################
##############################################################################
###
### Running command:
###
###   /home/biocbuild/bbs-3.13-bioc/R/bin/R CMD INSTALL Fletcher2013b
###
##############################################################################
##############################################################################


* installing to library ‘/home/biocbuild/bbs-3.13-bioc/R/library’
* installing *source* package ‘Fletcher2013b’ ...
** using staged installation
** R
** data
** inst
** byte-compile and prepare package for lazy loading
** help
*** installing help indices
** building package indices
** installing vignettes
** testing if installed package can be loaded from temporary location
** testing if installed package can be loaded from final location
** testing if installed package keeps a record of temporary installation path
* DONE (Fletcher2013b)