Back to Multiple platform build/check report for BioC 3.13 experimental data |
|
This page was generated on 2021-01-14 15:59:06 -0500 (Thu, 14 Jan 2021).
TO THE DEVELOPERS/MAINTAINERS OF THE TabulaMurisData PACKAGE: Please make sure to use the following settings in order to reproduce any error or warning you see on this page. |
Package 350/385 | Hostname | OS / Arch | INSTALL | BUILD | CHECK | ||||||
TabulaMurisData 1.9.0 Charlotte Soneson
| malbec2 | Linux (Ubuntu 20.04.1 LTS) / x86_64 | OK | [ OK ] | OK | ![]() | |||||
riesling1 | Windows Server 2019 Standard / x64 | OK | OK | OK |
Package: TabulaMurisData |
Version: 1.9.0 |
Command: /home/biocbuild/bbs-3.13-bioc/R/bin/R CMD build --keep-empty-dirs --no-resave-data TabulaMurisData |
StartedAt: 2021-01-14 11:32:37 -0500 (Thu, 14 Jan 2021) |
EndedAt: 2021-01-14 11:33:39 -0500 (Thu, 14 Jan 2021) |
EllapsedTime: 62.4 seconds |
RetCode: 0 |
Status: OK |
PackageFile: TabulaMurisData_1.9.0.tar.gz |
PackageFileSize: 222.1 KiB |
############################################################################## ############################################################################## ### ### Running command: ### ### /home/biocbuild/bbs-3.13-bioc/R/bin/R CMD build --keep-empty-dirs --no-resave-data TabulaMurisData ### ############################################################################## ############################################################################## * checking for file ‘TabulaMurisData/DESCRIPTION’ ... OK * preparing ‘TabulaMurisData’: * checking DESCRIPTION meta-information ... OK * installing the package to build vignettes * creating vignettes ... OK * checking for LF line-endings in source and make files and shell scripts * checking for empty or unneeded directories * building ‘TabulaMurisData_1.9.0.tar.gz’