Back to Multiple platform build/check report for BioC 3.13 experimental data
ABCDEFGHIJKLMNOPQRS[T]UVWXYZ

INSTALL report for topdownrdata on malbec2

This page was generated on 2021-01-11 15:59:27 -0500 (Mon, 11 Jan 2021).

TO THE DEVELOPERS/MAINTAINERS OF THE topdownrdata PACKAGE: Please make sure to use the following settings in order to reproduce any error or warning you see on this page.
Package 371/385HostnameOS / ArchINSTALLBUILDCHECK
topdownrdata 1.13.0
Sebastian Gibb
Snapshot Date: 2021-01-11 09:00:09 -0500 (Mon, 11 Jan 2021)
URL: https://git.bioconductor.org/packages/topdownrdata
Branch: master
Last Commit: ed158f8
Last Changed Date: 2020-10-27 10:24:28 -0500 (Tue, 27 Oct 2020)
malbec2 Linux (Ubuntu 20.04.1 LTS) / x86_64 [ OK ] OK  OK UNNEEDED, same version exists in internal repository
riesling1 Windows Server 2019 Standard / x64  OK  OK  OK 

Summary

Package: topdownrdata
Version: 1.13.0
Command: /home/biocbuild/bbs-3.13-bioc/R/bin/R CMD INSTALL topdownrdata
StartedAt: 2021-01-11 10:09:15 -0500 (Mon, 11 Jan 2021)
EndedAt: 2021-01-11 10:09:44 -0500 (Mon, 11 Jan 2021)
EllapsedTime: 28.9 seconds
RetCode: 0
Status:  OK 

Command output

##############################################################################
##############################################################################
###
### Running command:
###
###   /home/biocbuild/bbs-3.13-bioc/R/bin/R CMD INSTALL topdownrdata
###
##############################################################################
##############################################################################


* installing to library ‘/home/biocbuild/bbs-3.13-bioc/R/library’
* installing *source* package ‘topdownrdata’ ...
** using staged installation
** R
** inst
** byte-compile and prepare package for lazy loading
** help
*** installing help indices
** building package indices
** testing if installed package can be loaded from temporary location
** testing if installed package can be loaded from final location
** testing if installed package keeps a record of temporary installation path
* DONE (topdownrdata)