Back to Multiple platform build/check report for BioC 3.13 experimental data
ABCDEFGHIJKLMNOPQ[R]STUVWXYZ

BUILD report for rheumaticConditionWOLLBOLD on malbec2

This page was generated on 2021-01-21 16:01:20 -0500 (Thu, 21 Jan 2021).

TO THE DEVELOPERS/MAINTAINERS OF THE rheumaticConditionWOLLBOLD PACKAGE: Please make sure to use the following settings in order to reproduce any error or warning you see on this page.
Package 295/386HostnameOS / ArchINSTALLBUILDCHECK
rheumaticConditionWOLLBOLD 1.29.0
Alejandro Quiroz-Zarate
Snapshot Date: 2021-01-21 09:00:14 -0500 (Thu, 21 Jan 2021)
URL: https://git.bioconductor.org/packages/rheumaticConditionWOLLBOLD
Branch: master
Last Commit: 91ceab7
Last Changed Date: 2020-10-27 09:54:45 -0500 (Tue, 27 Oct 2020)
malbec2 Linux (Ubuntu 20.04.1 LTS) / x86_64  OK [ OK ] OK UNNEEDED, same version exists in internal repository
riesling1 Windows Server 2019 Standard / x64  OK  OK  OK 

Summary

Package: rheumaticConditionWOLLBOLD
Version: 1.29.0
Command: /home/biocbuild/bbs-3.13-bioc/R/bin/R CMD build --keep-empty-dirs --no-resave-data rheumaticConditionWOLLBOLD
StartedAt: 2021-01-21 11:16:22 -0500 (Thu, 21 Jan 2021)
EndedAt: 2021-01-21 11:16:24 -0500 (Thu, 21 Jan 2021)
EllapsedTime: 2.1 seconds
RetCode: 0
Status:  OK 
PackageFile: rheumaticConditionWOLLBOLD_1.29.0.tar.gz
PackageFileSize: 20.76 MiB

Command output

##############################################################################
##############################################################################
###
### Running command:
###
###   /home/biocbuild/bbs-3.13-bioc/R/bin/R CMD build --keep-empty-dirs --no-resave-data rheumaticConditionWOLLBOLD
###
##############################################################################
##############################################################################


* checking for file ‘rheumaticConditionWOLLBOLD/DESCRIPTION’ ... OK
* preparing ‘rheumaticConditionWOLLBOLD’:
* checking DESCRIPTION meta-information ... OK
* checking for LF line-endings in source and make files and shell scripts
* checking for empty or unneeded directories
* looking to see if a ‘data/datalist’ file should be added
* building ‘rheumaticConditionWOLLBOLD_1.29.0.tar.gz’