Back to Multiple platform build/check report for BioC 3.13 experimental data
ABCDEFGHIJKL[M]NOPQRSTUVWXYZ

BUILD report for MMAPPR2data on malbec2

This page was generated on 2021-01-21 16:01:15 -0500 (Thu, 21 Jan 2021).

TO THE DEVELOPERS/MAINTAINERS OF THE MMAPPR2data PACKAGE: Please make sure to use the following settings in order to reproduce any error or warning you see on this page.
Package 229/386HostnameOS / ArchINSTALLBUILDCHECK
MMAPPR2data 1.5.0
Jonathon Hill
Snapshot Date: 2021-01-21 09:00:14 -0500 (Thu, 21 Jan 2021)
URL: https://git.bioconductor.org/packages/MMAPPR2data
Branch: master
Last Commit: c8ef69f
Last Changed Date: 2020-10-27 10:30:27 -0500 (Tue, 27 Oct 2020)
malbec2 Linux (Ubuntu 20.04.1 LTS) / x86_64  OK [ OK ] OK UNNEEDED, same version exists in internal repository
riesling1 Windows Server 2019 Standard / x64  OK  OK  OK 

Summary

Package: MMAPPR2data
Version: 1.5.0
Command: /home/biocbuild/bbs-3.13-bioc/R/bin/R CMD build --keep-empty-dirs --no-resave-data MMAPPR2data
StartedAt: 2021-01-21 11:07:41 -0500 (Thu, 21 Jan 2021)
EndedAt: 2021-01-21 11:07:48 -0500 (Thu, 21 Jan 2021)
EllapsedTime: 6.9 seconds
RetCode: 0
Status:  OK 
PackageFile: MMAPPR2data_1.5.0.tar.gz
PackageFileSize: 493.2 KiB

Command output

##############################################################################
##############################################################################
###
### Running command:
###
###   /home/biocbuild/bbs-3.13-bioc/R/bin/R CMD build --keep-empty-dirs --no-resave-data MMAPPR2data
###
##############################################################################
##############################################################################


* checking for file ‘MMAPPR2data/DESCRIPTION’ ... OK
* preparing ‘MMAPPR2data’:
* checking DESCRIPTION meta-information ... OK
* installing the package to build vignettes
* creating vignettes ... OK
* checking for LF line-endings in source and make files and shell scripts
* checking for empty or unneeded directories
* building ‘MMAPPR2data_1.5.0.tar.gz’