Back to Multiple platform build/check report for BioC 3.13 experimental data |
|
This page was generated on 2021-01-21 16:01:06 -0500 (Thu, 21 Jan 2021).
TO THE DEVELOPERS/MAINTAINERS OF THE curatedAdipoArray PACKAGE: Please make sure to use the following settings in order to reproduce any error or warning you see on this page. |
Package 79/386 | Hostname | OS / Arch | INSTALL | BUILD | CHECK | ||||||
curatedAdipoArray 1.3.0 Mahmoud Ahmed
| malbec2 | Linux (Ubuntu 20.04.1 LTS) / x86_64 | OK | [ OK ] | OK | ![]() | |||||
riesling1 | Windows Server 2019 Standard / x64 | OK | OK | OK |
Package: curatedAdipoArray |
Version: 1.3.0 |
Command: /home/biocbuild/bbs-3.13-bioc/R/bin/R CMD build --keep-empty-dirs --no-resave-data curatedAdipoArray |
StartedAt: 2021-01-21 10:31:09 -0500 (Thu, 21 Jan 2021) |
EndedAt: 2021-01-21 10:31:29 -0500 (Thu, 21 Jan 2021) |
EllapsedTime: 20.2 seconds |
RetCode: 0 |
Status: OK |
PackageFile: curatedAdipoArray_1.3.0.tar.gz |
PackageFileSize: 36.05 KiB |
############################################################################## ############################################################################## ### ### Running command: ### ### /home/biocbuild/bbs-3.13-bioc/R/bin/R CMD build --keep-empty-dirs --no-resave-data curatedAdipoArray ### ############################################################################## ############################################################################## * checking for file ‘curatedAdipoArray/DESCRIPTION’ ... OK * preparing ‘curatedAdipoArray’: * checking DESCRIPTION meta-information ... OK * installing the package to build vignettes * creating vignettes ... OK * checking for LF line-endings in source and make files and shell scripts * checking for empty or unneeded directories * building ‘curatedAdipoArray_1.3.0.tar.gz’