Back to Multiple platform build/check report for BioC 3.13 experimental data |
|
This page was generated on 2021-01-14 15:59:05 -0500 (Thu, 14 Jan 2021).
TO THE DEVELOPERS/MAINTAINERS OF THE RTCGA.CNV PACKAGE: Please make sure to use the following settings in order to reproduce any error or warning you see on this page. |
Package 311/385 | Hostname | OS / Arch | INSTALL | BUILD | CHECK | ||||||
RTCGA.CNV 1.19.0 Marcin Kosinski
| malbec2 | Linux (Ubuntu 20.04.1 LTS) / x86_64 | OK | [ OK ] | OK | ![]() | |||||
riesling1 | Windows Server 2019 Standard / x64 | OK | OK | WARNINGS |
Package: RTCGA.CNV |
Version: 1.19.0 |
Command: /home/biocbuild/bbs-3.13-bioc/R/bin/R CMD build --keep-empty-dirs --no-resave-data RTCGA.CNV |
StartedAt: 2021-01-14 11:22:12 -0500 (Thu, 14 Jan 2021) |
EndedAt: 2021-01-14 11:22:48 -0500 (Thu, 14 Jan 2021) |
EllapsedTime: 36.1 seconds |
RetCode: 0 |
Status: OK |
PackageFile: RTCGA.CNV_1.19.0.tar.gz |
PackageFileSize: 27.37 MiB |
############################################################################## ############################################################################## ### ### Running command: ### ### /home/biocbuild/bbs-3.13-bioc/R/bin/R CMD build --keep-empty-dirs --no-resave-data RTCGA.CNV ### ############################################################################## ############################################################################## * checking for file ‘RTCGA.CNV/DESCRIPTION’ ... OK * preparing ‘RTCGA.CNV’: * checking DESCRIPTION meta-information ... OK * installing the package to build vignettes * creating vignettes ... OK * checking for LF line-endings in source and make files and shell scripts * checking for empty or unneeded directories * building ‘RTCGA.CNV_1.19.0.tar.gz’