Back to Multiple platform build/check report for BioC 3.13 experimental data
ABCDEFG[H]IJKLMNOPQRSTUVWXYZ

INSTALL report for HCAData on malbec2

This page was generated on 2021-01-14 15:59:02 -0500 (Thu, 14 Jan 2021).

TO THE DEVELOPERS/MAINTAINERS OF THE HCAData PACKAGE: Please make sure to use the following settings in order to reproduce any error or warning you see on this page.
Package 162/385HostnameOS / ArchINSTALLBUILDCHECK
HCAData 1.7.1
Federico Marini
Snapshot Date: 2021-01-14 09:00:13 -0500 (Thu, 14 Jan 2021)
URL: https://git.bioconductor.org/packages/HCAData
Branch: master
Last Commit: f1c01ea
Last Changed Date: 2021-01-10 19:02:46 -0500 (Sun, 10 Jan 2021)
malbec2 Linux (Ubuntu 20.04.1 LTS) / x86_64 [ OK ] OK  OK UNNEEDED, same version exists in internal repository
riesling1 Windows Server 2019 Standard / x64  OK  OK  OK 

Summary

Package: HCAData
Version: 1.7.1
Command: /home/biocbuild/bbs-3.13-bioc/R/bin/R CMD INSTALL HCAData
StartedAt: 2021-01-14 10:04:10 -0500 (Thu, 14 Jan 2021)
EndedAt: 2021-01-14 10:04:35 -0500 (Thu, 14 Jan 2021)
EllapsedTime: 24.5 seconds
RetCode: 0
Status:  OK 

Command output

##############################################################################
##############################################################################
###
### Running command:
###
###   /home/biocbuild/bbs-3.13-bioc/R/bin/R CMD INSTALL HCAData
###
##############################################################################
##############################################################################


* installing to library ‘/home/biocbuild/bbs-3.13-bioc/R/library’
* installing *source* package ‘HCAData’ ...
** using staged installation
** R
** inst
** byte-compile and prepare package for lazy loading
** help
*** installing help indices
** building package indices
** installing vignettes
** testing if installed package can be loaded from temporary location
** testing if installed package can be loaded from final location
** testing if installed package keeps a record of temporary installation path
* DONE (HCAData)