Back to Multiple platform build/check report for BioC 3.13 experimental data
ABCDEFGHIJKLMNOPQR[S]TUVWXYZ

INSTALL report for stjudem on malbec2

This page was generated on 2021-01-21 16:01:22 -0500 (Thu, 21 Jan 2021).

TO THE DEVELOPERS/MAINTAINERS OF THE stjudem PACKAGE: Please make sure to use the following settings in order to reproduce any error or warning you see on this page.
Package 347/386HostnameOS / ArchINSTALLBUILDCHECK
stjudem 1.31.0
Joern Toedling
Snapshot Date: 2021-01-21 09:00:14 -0500 (Thu, 21 Jan 2021)
URL: https://git.bioconductor.org/packages/stjudem
Branch: master
Last Commit: 0683f3a
Last Changed Date: 2020-10-27 09:47:09 -0500 (Tue, 27 Oct 2020)
malbec2 Linux (Ubuntu 20.04.1 LTS) / x86_64 [ OK ] OK  OK UNNEEDED, same version exists in internal repository
riesling1 Windows Server 2019 Standard / x64  OK  OK  OK 

Summary

Package: stjudem
Version: 1.31.0
Command: /home/biocbuild/bbs-3.13-bioc/R/bin/R CMD INSTALL stjudem
StartedAt: 2021-01-21 09:51:43 -0500 (Thu, 21 Jan 2021)
EndedAt: 2021-01-21 09:51:51 -0500 (Thu, 21 Jan 2021)
EllapsedTime: 8.4 seconds
RetCode: 0
Status:  OK 

Command output

##############################################################################
##############################################################################
###
### Running command:
###
###   /home/biocbuild/bbs-3.13-bioc/R/bin/R CMD INSTALL stjudem
###
##############################################################################
##############################################################################


* installing to library ‘/home/biocbuild/bbs-3.13-bioc/R/library’
* installing *source* package ‘stjudem’ ...
** using staged installation
** R
** data
** byte-compile and prepare package for lazy loading
** help
*** installing help indices
** building package indices
** testing if installed package can be loaded from temporary location
** testing if installed package can be loaded from final location
** testing if installed package keeps a record of temporary installation path
* DONE (stjudem)