Back to Multiple platform build/check report for BioC 3.13 experimental data
ABCDE[F]GHIJKLMNOPQRSTUVWXYZ

INSTALL report for FlowSorted.CordBloodNorway.450k on malbec2

This page was generated on 2021-01-14 15:59:01 -0500 (Thu, 14 Jan 2021).

TO THE DEVELOPERS/MAINTAINERS OF THE FlowSorted.CordBloodNorway.450k PACKAGE: Please make sure to use the following settings in order to reproduce any error or warning you see on this page.
Package 130/385HostnameOS / ArchINSTALLBUILDCHECK
FlowSorted.CordBloodNorway.450k 1.17.0
kristina gervin
Snapshot Date: 2021-01-14 09:00:13 -0500 (Thu, 14 Jan 2021)
URL: https://git.bioconductor.org/packages/FlowSorted.CordBloodNorway.450k
Branch: master
Last Commit: fbf8a47
Last Changed Date: 2020-10-27 10:22:16 -0500 (Tue, 27 Oct 2020)
malbec2 Linux (Ubuntu 20.04.1 LTS) / x86_64 [ OK ] OK  OK UNNEEDED, same version exists in internal repository
riesling1 Windows Server 2019 Standard / x64  OK  OK  OK 

Summary

Package: FlowSorted.CordBloodNorway.450k
Version: 1.17.0
Command: /home/biocbuild/bbs-3.13-bioc/R/bin/R CMD INSTALL FlowSorted.CordBloodNorway.450k
StartedAt: 2021-01-14 10:04:54 -0500 (Thu, 14 Jan 2021)
EndedAt: 2021-01-14 10:08:51 -0500 (Thu, 14 Jan 2021)
EllapsedTime: 237.1 seconds
RetCode: 0
Status:  OK 

Command output

##############################################################################
##############################################################################
###
### Running command:
###
###   /home/biocbuild/bbs-3.13-bioc/R/bin/R CMD INSTALL FlowSorted.CordBloodNorway.450k
###
##############################################################################
##############################################################################


* installing to library ‘/home/biocbuild/bbs-3.13-bioc/R/library’
* installing *source* package ‘FlowSorted.CordBloodNorway.450k’ ...
** using staged installation
** data
*** moving datasets to lazyload DB
** help
*** installing help indices
** building package indices
** testing if installed package can be loaded from temporary location
** testing if installed package can be loaded from final location
** testing if installed package keeps a record of temporary installation path
* DONE (FlowSorted.CordBloodNorway.450k)