Back to Multiple platform build/check report for BioC 3.13 experimental data
ABC[D]EFGHIJKLMNOPQRSTUVWXYZ

BUILD report for DeSousa2013 on malbec2

This page was generated on 2021-01-14 15:58:59 -0500 (Thu, 14 Jan 2021).

TO THE DEVELOPERS/MAINTAINERS OF THE DeSousa2013 PACKAGE: Please make sure to use the following settings in order to reproduce any error or warning you see on this page.
Package 92/385HostnameOS / ArchINSTALLBUILDCHECK
DeSousa2013 1.27.0
Xin Wang
Snapshot Date: 2021-01-14 09:00:13 -0500 (Thu, 14 Jan 2021)
URL: https://git.bioconductor.org/packages/DeSousa2013
Branch: master
Last Commit: bb7af97
Last Changed Date: 2020-10-27 10:02:18 -0500 (Tue, 27 Oct 2020)
malbec2 Linux (Ubuntu 20.04.1 LTS) / x86_64  OK [ OK ] OK UNNEEDED, same version exists in internal repository
riesling1 Windows Server 2019 Standard / x64  OK  OK  OK 

Summary

Package: DeSousa2013
Version: 1.27.0
Command: /home/biocbuild/bbs-3.13-bioc/R/bin/R CMD build --keep-empty-dirs --no-resave-data DeSousa2013
StartedAt: 2021-01-14 10:34:10 -0500 (Thu, 14 Jan 2021)
EndedAt: 2021-01-14 10:34:56 -0500 (Thu, 14 Jan 2021)
EllapsedTime: 45.6 seconds
RetCode: 0
Status:  OK 
PackageFile: DeSousa2013_1.27.0.tar.gz
PackageFileSize: 44.65 MiB

Command output

##############################################################################
##############################################################################
###
### Running command:
###
###   /home/biocbuild/bbs-3.13-bioc/R/bin/R CMD build --keep-empty-dirs --no-resave-data DeSousa2013
###
##############################################################################
##############################################################################


* checking for file ‘DeSousa2013/DESCRIPTION’ ... OK
* preparing ‘DeSousa2013’:
* checking DESCRIPTION meta-information ... OK
* installing the package to build vignettes
* creating vignettes ... OK
* checking for LF line-endings in source and make files and shell scripts
* checking for empty or unneeded directories
* looking to see if a ‘data/datalist’ file should be added
* building ‘DeSousa2013_1.27.0.tar.gz’