Back to Multiple platform build/check report for BioC 3.13 experimental data
ABCDEFGHIJKLMNO[P]QRSTUVWXYZ

BUILD report for PWMEnrich.Hsapiens.background on malbec2

This page was generated on 2021-01-21 16:01:19 -0500 (Thu, 21 Jan 2021).

TO THE DEVELOPERS/MAINTAINERS OF THE PWMEnrich.Hsapiens.background PACKAGE: Please make sure to use the following settings in order to reproduce any error or warning you see on this page.
Package 281/386HostnameOS / ArchINSTALLBUILDCHECK
PWMEnrich.Hsapiens.background 4.25.0
Diego Diez
Snapshot Date: 2021-01-21 09:00:14 -0500 (Thu, 21 Jan 2021)
URL: https://git.bioconductor.org/packages/PWMEnrich.Hsapiens.background
Branch: master
Last Commit: a4f474f
Last Changed Date: 2020-10-27 10:05:45 -0500 (Tue, 27 Oct 2020)
malbec2 Linux (Ubuntu 20.04.1 LTS) / x86_64  OK [ OK ] WARNINGS UNNEEDED, same version exists in internal repository
riesling1 Windows Server 2019 Standard / x64  OK  OK  WARNINGS 

Summary

Package: PWMEnrich.Hsapiens.background
Version: 4.25.0
Command: /home/biocbuild/bbs-3.13-bioc/R/bin/R CMD build --keep-empty-dirs --no-resave-data PWMEnrich.Hsapiens.background
StartedAt: 2021-01-21 11:15:18 -0500 (Thu, 21 Jan 2021)
EndedAt: 2021-01-21 11:15:22 -0500 (Thu, 21 Jan 2021)
EllapsedTime: 3.1 seconds
RetCode: 0
Status:  OK 
PackageFile: PWMEnrich.Hsapiens.background_4.25.0.tar.gz
PackageFileSize: 15.6 MiB

Command output

##############################################################################
##############################################################################
###
### Running command:
###
###   /home/biocbuild/bbs-3.13-bioc/R/bin/R CMD build --keep-empty-dirs --no-resave-data PWMEnrich.Hsapiens.background
###
##############################################################################
##############################################################################


* checking for file ‘PWMEnrich.Hsapiens.background/DESCRIPTION’ ... OK
* preparing ‘PWMEnrich.Hsapiens.background’:
* checking DESCRIPTION meta-information ... OK
* checking for LF line-endings in source and make files and shell scripts
* checking for empty or unneeded directories
* looking to see if a ‘data/datalist’ file should be added
* building ‘PWMEnrich.Hsapiens.background_4.25.0.tar.gz’